Workbook

Sheet Penrith Beacon (BL)
B2: Results for BL Penrith Beacon 15 Jan 2022
C4: BROWN
C5: Name | D5: Club | E5: Gender | F5: Year of Birth | G5: Time | H5: Galoppen Score
B6: 1 | C6: Shane Ohly | D6: WAROC | E6: M45 | G6: 2.7666667 | H6: 99
B7: 2 | C7: Charlie Rennie | D7: WCOC | E7: M20 | G7: 2.8395833 | H7: =MIN(H6:H$6)-1 -> 98
B8: 3 | C8: Jamie Rennie | D8: WCOC | E8: M50 | G8: 2.8868056 | H8: =MIN(H$6:H7)-1 -> 97
B9: 4 | C9: Graham Patten | D9: WAROC | E9: M60 | G9: 2.9118056 | H9: =MIN(H$6:H8)-1 -> 96
B10: 5 | C10: Simon Hunter | D10: WCOC | E10: M50 | G10: 3.1104167 | H10: =MIN(H$6:H9)-1 -> 95
B11: 6 | C11: Steve Birkinshaw | D11: WCOC | E11: M50 | G11: 3.1361111 | H11: =MIN(H$6:H10)-1 -> 94
B12: 7 | C12: Chris Naylor | D12: WCOC | E12: M35 | G12: 3.3291667 | H12: =MIN(H$6:H11)-1 -> 93
B13: 8 | C13: Jack Eyre | D13: BL | E13: M21 | G13: 3.33125 | H13: =MIN(H$6:H12)-1 -> 92
B14: 9 | C14: Ian Cumpstey | D14: BL | E14: M45 | G14: 3.4125 | H14: =MIN(H$6:H13)-1 -> 91
B15: 10 | C15: James Chapman | D15: BL | E15: M35 | G15: 3.4409722 | H15: =MIN(H$6:H14)-1 -> 90
B16: 11 | C16: Dan Parker | D16: BL | E16: M60 | G16: 3.4916667 | H16: =MIN(H$6:H15)-1 -> 89
B17: 12 | C17: Tom Matthew | D17: SROC | E17: M50 | G17: 3.5194444 | H17: =MIN(H$6:H16)-1 -> 88
B18: 13 | C18: Mike Harrison | D18: WCOC | E18: M50 | G18: 3.5354167 | H18: =MIN(H$6:H17)-1 -> 87
B19: 14 | C19: Sam Gibbs | D19: WAROC | E19: M45 | G19: 3.6770833 | H19: =MIN(H$6:H18)-1 -> 86
... B28: 23 | C28: Toby Johnson | D28: LOC | E28: M45 | G28: 6.0270833 | H28: =MIN(H$6:H27)-1 -> 77
H29: =MIN(H$6:H28)-1 -> 76
B30: 25 | H30: =MIN(H$6:H29)-1 -> 75
B31: -
B32: -
B33: -
C36: BLUE
C37: Name | D37: Club | E37: Gender | F37: Year of Birth | G37: Time | H37: Galoppen Score
B38: 1 | C38: Daniel Heppell | D38: WCOC | E38: M16 | G38: 2.2729167 | H38: 99
B39: 2 | C39: Isaac Hunter | D39: WCOC | E39: M16 | G39: 2.5534722 | H39: =MIN(H38:H$38)-1 -> 98
B40: 3 | C40: Alan Irving | D40: WCOC | E40: M55 | G40: 2.6513889 | H40: =MIN(H$38:H39)-1 -> 97
B41: 4 | C41: Owain Rice | D41: BL | E41: M21 | G41: 2.7895833 | H41: =MIN(H$38:H40)-1 -> 96
B42: 5 | C42: James Birkinshaw | D42: WCOC | E42: M20 | G42: 2.8409722 | H42: =MIN(H$38:H41)-1 -> 95
B43: 6 | C43: Howard Leslie | D43: WCOC | E43: M60 | G43: 3.1513889 | H43: =MIN(H$38:H42)-1 -> 94
B44: 7 | C44: Christine Goulding | D44: BL | E44: W55 | G44: 3.1854167 | H44: =MIN(H$38:H43)-1 -> 93
B45: 8 | C45: Danny Winterbottom | D45: WCOC | E45: M16 | G45: 3.2229167 | H45: =MIN(H$38:H44)-1 -> 92
B46: 9 | C46: Martin Skinner | D46: WCOC | E46: M55 | G46: 3.2375 | H46: =MIN(H$38:H45)-1 -> 91
B47: 10 | C47: Colin Valentine | D47: WCOC | E47: M60 | G47: 3.2527778 | H47: =MIN(H$38:H46)-1 -> 90
B48: 11 | C48: Andy Lewsley | D48: BL | E48: M65 | G48: 3.38125 | H48: =MIN(H$38:H47)-1 -> 89
B49: 12 | C49: Thomas Rawle | D49: BL | E49: M18 | G49: 3.74375 | H49: =MIN(H$38:H48)-1 -> 88
B50: 13 | C50: Stephen Eastley | D50: BL | E50: M65 | G50: 3.7736111 | H50: =MIN(H$38:H49)-1 -> 87
B51: 14 | C51: Isabel Berry | D51: BL | E51: W40 | G51: 3.8541667 | H51: =MIN(H$38:H50)-1 -> 86
... B57: 20 | C57: Helen Rennie | D57: WCOC | E57: W45 | G57: 5.10625 | H57: =MIN(H$38:H56)-1 -> 80
...

Sheet Loughrigg (LOC)
B2: Results for Loughrigg 24 April 2022
B4: BROWN
B7: 12th | C7: Steve Birkinshaw | D7: WCOC | E7: M50 | F7: 2.6340278 | G7: 99
B8: 20th | C8: Jamie Rennie | D8: WCOC | E8: M50 | F8: 2.9291667 | G8: =MIN(G$6:G7)-1 -> 98
B9: 23rd | C9: Joe Hudd | D9: WCOC | E9: M20 | F9: 3.0347222 | G9: =MIN(G$6:G8)-1 -> 97
B10: 24th | C10: Jeff Powell Davies | D10: BL | E10: M40 | F10: 3.0423611 | G10: =MIN(G$6:G9)-1 -> 96
B11: 28th | C11: Simon Hunter | D11: WCOC | E11: M50 | F11: 3.1659722 | G11: =MIN(G$6:G10)-1 -> 95
B12: 32nd | C12: Ian Cumpstey | D12: BL | E12: M45 | F12: 3.2208333 | G12: =MIN(G$6:G11)-1 -> 94
B13: 38th | C13: Peter Scott | D13: LOC | E13: M18 | F13: 3.3138889 | G13: =MIN(G$6:G12)-1 -> 93
B14: 44th | C14: Matthew Horne | D14: LOC | E14: M20 | F14: 3.4895833 | G14: =MIN(G$6:G13)-1 -> 92
B15: 50th | C15: Mike Harrison | D15: WCOC | E15: M50 | F15: 3.6895833 | G15: =MIN(G$6:G14)-1 -> 91
B16: 51st | C16: Robert Smith | D16: LOC | E16: M55 | F16: 3.725 | G16: =MIN(G$6:G15)-1 -> 90
B17: 54th | C17: Steven Breeze | D17: WCOC | E17: M50 | F17: 3.8194444 | G17: =MIN(G$6:G16)-1 -> 89
B18: 59th | C18: Iain Smith-Ward | D18: LOC | E18: M50 | F18: 4.0111111 | G18: =MIN(G$6:G17)-1 -> 88
B19: 63rd | C19: Toby Johnson | D19: LOC | E19: M45 | F19: 4.4354167 | G19: =MIN(G$6:G18)-1 -> 87
B21: BLUE
B22: 1st | C22: Daniel Heppell | D22: WCOC | E22: M16 | F22: 2.0298611 | G22: 99
B23: 5th | C23: Keith Tonkin | D23: BL | E23: M60 | F23: 2.4243056 | G23: =MIN(G$22:G22)-1 -> 98
B24: 6th | C24: Isaac Hunter | D24: WCOC | E24: M16 | F24: 2.4625 | G24: =MIN(G$22:G23)-1 -> 97
B25: 7th | C25: Steve Holmes | D25: WCOC | E25: M50 | F25: 2.4770833 | G25: =MIN(G$22:G24)-1 -> 96
B26: 9th | C26: Alan Irving | D26: WCOC | E26: M55 | F26: 2.50625 | G26: =MIN(G$22:G25)-1 -> 95
B27: 10th | C27: James Birkinshaw | D27: WCOC | E27: M20 | F27: 2.5152778 | G27: =MIN(G$22:G26)-1 -> 94
B28: 12th | C28: Laura Brown | D28: LOC | E28: W18 | F28: 2.5493056 | G28: =MIN(G$22:G27)-1 -> 93
B29: 16th | C29: Karen Parker | D29: BL | E29: W55 | F29: 2.6076389 | G29: =MIN(G$22:G28)-1 -> 92
B30: 18th | C30: Wilfrid Teasdale | D30: WCOC | E30: M18 | F30: 2.6166667 | G30: =MIN(G$22:G29)-1 -> 91
B31: 20th | C31: Owain Rice | D31: BL | E31: M21 | F31: 2.6458333 | G31: =MIN(G$22:G30)-1 -> 90
B32: 22nd | C32: Martin Skinner | D32: WCOC | E32: M55 | F32: 2.6958333 | G32: =MIN(G$22:G31)-1 -> 89
B33: 31st | C33: Nicholas Evans | D33: WCOC | E33: M60 | F33: 2.84375 | G33: =MIN(G$22:G32)-1 -> 88
B34: 35th | C34: John Ferris-Worth | D34: BL | E34: M55 | F34: 2.8625 | G34: =MIN(G$22:G33)-1 -> 87
... B49: 83rd | C49: Ange Jackson | D49: WCOC | E49: W45 | F49: 3.7986111 | G49: =MIN(G$22:G48)-1 -> 72
B52: Green
B54: 6th | C54: Daisy Rennie | D54: WCOC | E54: W16 | F54: 1.9090278 | G54: 99
B55: 7th | C55: Natalie Hawkrigg | D55: BL | E55: W50 | F55: 1.9208333 | G55: =MIN(G$54:G54)-1 -> 98
B56: 12th | C56: Richard Tiley | D56: LOC | E56: M60 | F56: 2.1583333 | G56: =MIN(G$54:G55)-1 -> 97
B57: 15th | C57: Roger Thomas | D57: WCOC | E57: M60 | F57: 2.2263889 | G57: =MIN(G$54:G56)-1 -> 96
B58: 16th | C58: Graham Capper | D58: LOC | E58: M60 | F58: 2.24375 | G58: =MIN(G$54:G57)-1 -> 95
B59: 18th | C59: Anna Lister | D59: LOC | E59: W21 | F59: 2.2541667 | G59: =MIN(G$54:G58)-1 -> 94
B60: 22nd | C60: Sophie Crawford | D60: WCOC | E60: W14 | F60: 2.3555556 | G60: =MIN(G$54:G59)-1 -> 93
B61: 23rd | C61: Raymond Wren | D61: BL | E61: M75 | F61: 2.3916667 | G61: =MIN(G$54:G60)-1 -> 92
B62: 24th | C62: Robin Thomas | D62: BL | E62: M70 | F62: 2.4034722 | G62: =MIN(G$54:G61)-1 -> 91
...

Sheet Lank Rigg WCOC
B2: Results for Lank Rigg 8 May 2022
B4: BROWN
B5: 1st | C5: Charlie Rennie | D5: WCOC | E5: M20 | F5: 99
B6: 2nd | C6: Ruben Razzetti | D6: BL | E6: M16 | F6: =MIN(F$5:F5)-1 -> 98
B7: 3rd | C7: Jamie Rennie | D7: WCOC | E7: M50 | F7: =MIN(F$5:F6)-1 -> 97
B8: 4th | C8: Joe Hudd | D8: WCOC | E8: M20 | F8: =MIN(F$5:F7)-1 -> 96
B9: 5th | C9: Simon Hunter | D9: WCOC | E9: M50 | F9: =MIN(F$5:F8)-1 -> 95
B10: 6th | C10: Graham Patten | D10: WAROC | E10: M60 | F10: =MIN(F$5:F9)-1 -> 94
B11: 7th | C11: Ben Goodwin | D11: WCOC | E11: M21 | F11: =MIN(F$5:F10)-1 -> 93
B12: 8th | C12: Dan Parker | D12: BL | E12: M60 | F12: =MIN(F$5:F11)-1 -> 92
B13: 10th | C13: Phillip Winskill | D13: WCOC | E13: M45 | F13: =MIN(F$5:F12)-1 -> 91
B14: 12th | C14: Tom Matthew | D14: SROC | E14: M50 | F14: =MIN(F$5:F13)-1 -> 90
B15: 13th | C15: Steve Breeze | D15: WCOC | E15: M50 | F15: =MIN(F$5:F14)-1 -> 89
B16: 14th | C16: Iain Smith-Ward | D16: LOC | E16: M55 | F16: =MIN(F$5:F15)-1 -> 88
B17: 15th | C17: Jasmine Girdlestone | D17: WCOC | E17: W21 | F17: =MIN(F$5:F16)-1 -> 87
B18: 16th | C18: Emma Stuart | D18: BL | E18: W21 | F18: =MIN(F$5:F17)-1 -> 86
B19: BLUE
B20: 1st | C20: Daniel Heppell | D20: WCOC | E20: M16 | F20: 99
B21: 3rd | C21: Keith Tonkin | D21: BL | E21: M60 | F21: =MIN(F$20:F20)-1 -> 98
B22: 4th | C22: Steve Holmes | D22: WCOC | E22: M50 | F22: =MIN(F$20:F21)-1 -> 97
B23: 6th | C23: Karen Parker | D23: BL | E23: W55 | F23: =MIN(F$20:F22)-1 -> 96
B24: 7th | C24: Owain Rice | D24: BL | E24: M21 | F24: =MIN(F$20:F23)-1 -> 95
B25: 8th | C25: Helen Hargreaves | D25: WCOC | E25: W45 | F25: =MIN(F$20:F24)-1 -> 94
B26: 9th | C26: Daisy Rennie | D26: WCOC | E26: W16 | F26: =MIN(F$20:F25)-1 -> 93
B27: 10th | C27: Jeff Goodwin | D27: WCOC | E27: M55 | F27: =MIN(F$20:F26)-1 -> 92
B28: 11th | C28: Stuart Crawford | D28: WCOC | E28: M50 | F28: =MIN(F$20:F27)-1 -> 91
B29: 12th | C29: Howard Leslie | D29: WCOC | E29: M60 | F29: =MIN(F$20:F28)-1 -> 90
B30: 13th | C30: Simon Filmore | D30: LOC | E30: M65 | F30: =MIN(F$20:F29)-1 -> 89
B31: 14th | C31: Isabel Berry | D31: BL | E31: W40 | F31: =MIN(F$20:F30)-1 -> 88
B32: 15th | C32: Scott Ashworth | D32: WCOC | E32: M45 | F32: =MIN(F$20:F31)-1 -> 87
... B38: 21st | C38: Ray Johnstone | D38: WCOC | E38: M70 | F38: =MIN(F$20:F37)-1 -> 81
B41: Green
B42: 1st | C42: Isaac Hunter | D42: WCOC | E42: M16 | F42: 99
B43: 2nd | C43: Michael Billinghurst | D43: WCOC | E43: M60 | F43: =MIN(F$42:F42)-1 -> 98
B44: 3rd | C44: Sam Osborne | D44: LOC | E44: M14 | F44: =MIN(F$42:F43)-1 -> 97
B45: 4th | C45: Toby Heppell | D45: WCOC | E45: M14 | F45: =MIN(F$42:F44)-1 -> 96
B46: 5th | C46: Sophie Crawford | D46: WCOC | E46: W14 | F46: =MIN(F$42:F45)-1 -> 95
B47: 7th | C47: Amelia Thompson | D47: LOC | E47: W16 | F47: =MIN(F$42:F46)-1 -> 94
B48: 8th | C48: Phil Blaylock | D48: WCOC | E48: M45 | F48: =MIN(F$42:F47)-1 -> 93
B49: 11th | C49: Eleanor Osborne | D49: LOC | E49: W45 | F49: =MIN(F$42:F48)-1 -> 92
...

Sheet Ling Fell
C1: Results for WCOC Ling Fell 18 Sept 2022
B3: BROWN
B4: Name | C4: Club | D4: Class | E4: Time | F4: Galoppen Score
A5: 1st | B5: Steve Birkinshaw | C5: WCOC | D5: M50 | E5: 2.4041667 | F5: 99
A6: 2nd | B6: Jamie Rennie | C6: WCOC | D6: M50 | E6: 2.7333333 | F6: =MIN(F5:F$5)-1 -> 98
A7: 3rd | B7: Wilfrid Teasdale | C7: WCOC | D7: M18 | E7: 2.7701389 | F7: =MIN(F$6:F6)-1 -> 97
A8: 4th | B8: James Rogers | C8: LOC | D8: M21 | E8: 2.8986111 | F8: =MIN(F$6:F7)-1 -> 96
A9: 5th | B9: Lucie-Ellen Todhunter | C9: SROC | D9: W40 | E9: 2.9201389
A10: 6th | B10: Mike Harrison | C10: WCOC | D10: M50 | E10: 3.0527778 | F10: =MIN(F$6:F9)-1 -> 95
A11: 7th | B11: Karen Parker | C11: BL | D11: W55 | E11: 3.0875 | F11: =MIN(F$6:F10)-1 -> 94
A12: 8th | B12: Dan Parker | C12: BL | D12: M60 | E12: 3.1840278 | F12: =MIN(F$6:F11)-1 -> 93
A13: 9th | B13: Michael Osborne | C13: LOC | D13: M45 | E13: 3.2354167 | F13: =MIN(F$6:F12)-1 -> 92
A14: 10th | B14: Peter Scott | C14: LOC | D14: M18 | E14: 3.2847222 | F14: =MIN(F$6:F13)-1 -> 91
A15: 11th | B15: Littledave Cumins | C15: SO | D15: M50 | E15: 3.3208333
A16: 12th | B16: James Todhunter | C16: SROC | D16: M40 | E16: 3.3618056
A17: 13th | B17: Fred Boardman | C17: WCOC | D17: M45 | E17: 3.7638889 | F17: =MIN(F$6:F16)-1 -> 90
A18: 14th | B18: Jessica Richardson | D18: W21 | E18: 4.0215278
A19: 15th | B19: Stuart Graham | C19: SOLWAY | D19: M50 | E19: 4.04375
A20: 16th | B20: Derek Fryer | C20: LOC | D20: M65 | E20: 4.0666667 | F20: =MIN(F$6:F19)-1 -> 89
A21: 17th | B21: Julie Ferris-Worth | C21: BL | D21: W55 | E21: 4.0736111 | F21: =MIN(F$6:F20)-1 -> 88
A22: 18th | B22: Steven Breeze | C22: WCOC | D22: M50 | E22: 4.1611111 | F22: =MIN(F$6:F21)-1 -> 87
B25: BLUE
B26: Name | C26: Club | D26: Class | E26: Time | F26: Galoppen Score
A27: 1st | B27: Daniel Heppell | C27: WCOC | D27: M16 | E27: 1.8569444 | F27: 99
A28: 2nd | B28: Ruben Razzetti | C28: BL | D28: M16 | E28: 1.9506944 | F28: =MIN(F$27:F27)-1 -> 98
A29: 3rd | B29: Sam Osborne | C29: LOC | D29: M14 | E29: 2.4027778 | F29: =MIN(F$27:F28)-1 -> 97
A30: 4th | B30: James Birkinshaw | C30: WCOC | D30: M20 | E30: 2.4236111 | F30: =MIN(F$27:F29)-1 -> 96
A31: 5th | B31: Steve Holmes | C31: WCOC | D31: M50 | E31: 2.4513889 | F31: =MIN(F$27:F30)-1 -> 95
A32: 6th | B32: John Slater | C32: WCOC | D32: M50 | E32: 2.5451389 | F32: =MIN(F$27:F31)-1 -> 94
A33: 7th | B33: Alan Irving | C33: WCOC | D33: M55 | E33: 2.65 | F33: =MIN(F$27:F32)-1 -> 93
A34: 8th | B34: Natalie Hawkrigg | C34: BL | D34: W50 | E34: 2.7173611 | F34: =MIN(F$27:F33)-1 -> 92
A35: 9th | B35: Emma Crawford | C35: WCOC | D35: W18 | E35: 2.8284722 | F35: =MIN(F$27:F34)-1 -> 91
A36: 10th | B36: Owain Rice | C36: BL | D36: M21 | E36: 2.9375 | F36: =MIN(F$27:F35)-1 -> 90
A37: 11th | B37: Daisy Rennie | C37: WCOC | D37: W16 | E37: 2.9527778 | F37: =MIN(F$27:F36)-1 -> 89
A38: 12th | B38: Colin Valentine | C38: WCOC | D38: M60 | E38: 3.0576389 | F38: =MIN(F$27:F37)-1 -> 88
A39: 13th | B39: Ange Jackson | C39: WCOC | D39: W45 | E39: 3.2618056 | F39: =MIN(F$27:F38)-1 -> 87
A40: 14th | B40: Craig Smith | C40: BOK | D40: M55 | E40: 3.3333333
A41: 15th | B41: Lynne Thomas | C41: WCOC | D41: W50 | E41: 3.3569444 | F41: =MIN(F$27:F40)-1 -> 86
A42: 16th | B42: Trevor Hoey | C42: FVO | D42: M55 | E42: 3.3784722
A43: 17th | B43: Rachel Platt | C43: LOC | D43: W35 | E43: 3.4673611 | F43: =MIN(F$27:F42)-1 -> 85
...

Sheet Harter Fell
C1: Results for LOC Harter Fell 25 Sept 2022
B3: BROWN
B4: Name | C4: Club | D4: Class | E4: Galoppen Score
A5: 1st | B5: Jack Wright | C5: LOC | D5: M21 | E5: 99
A6: 2nd | B6: Steve Birkinshaw | C6: WCOC | D6: M50 | E6: =MIN(E5:E$5)-1 -> 98
A7: 4th | B7: Wilfrid Teasdale | C7: WCOC | D7: M18 | E7: =MIN(E$5:E6)-1 -> 97
A8: 7th | B8: Karen Parker | C8: BL | D8: W55 | E8: =MIN(E$5:E7)-1 -> 96
A9: 8th | B9: James Rogers | C9: LOC | D9: M21 | E9: =MIN(E$5:E8)-1 -> 95
A10: 10th | B10: Jamie Rennie | C10: WCOC | D10: M50 | E10: =MIN(E$5:E9)-1 -> 94
A11: 15th | B11: Steven Breeze | C11: WCOC | D11: M50 | E11: =MIN(E$5:E10)-1 -> 93
B16: BLUE
B17: Name | C17: Club | D17: Class
A18: 1st | B18: Nick Taylor | C18: LOC | D18: M40 | E18: 99
A19: 3rd | B19: Robert Browne | C19: LOC | D19: M21 | E19: =MIN(E$18:E18)-1 -> 98
A20: 6th | B20: Alan Irving | C20: WCOC | D20: M55 | E20: =MIN(E$18:E19)-1 -> 97
A21: 8th | B21: Howard Leslie | C21: WCOC | D21: M60 | E21: =MIN(E$18:E20)-1 -> 96
A22: 9th | B22: Iain Smith-Ward | C22: LOC | D22: M50 | E22: =MIN(E$18:E21)-1 -> 95
A23: 11th | B23: Anne Edwards | C23: LOC | D23: W21 | E23: =MIN(E$18:E22)-1 -> 94
A24: 12th | B24: Roger Thomas | C24: WCOC | D24: M60 | E24: =MIN(E$18:E23)-1 -> 93
A25: 13th | B25: Rachel Platt | C25: LOC | D25: W35 | E25: =MIN(E$18:E24)-1 -> 92
A26: 14th | B26: Jo Cleary | C26: LOC | D26: W55 | E26: =MIN(E$18:E25)-1 -> 91
A27: 15th | B27: Owain Rice | C27: BL | D27: M21 | E27: =MIN(E$18:E26)-1 -> 90
A28: 16th | B28: David Downes | C28: WCOC | D28: M65 | E28: =MIN(E$18:E27)-1 -> 89
A29: 17th | B29: Simon Thomas | C29: WCOC | D29: M40 | E29: =MIN(E$18:E28)-1 -> 88
A30: 18th | B30: Andy Robinson | C30: LOC | D30: M65 | E30: =MIN(E$18:E29)-1 -> 87
A31: 21st | B31: Jane Ligema | C31: LOC | D31: W55 | E31: =MIN(E$18:E30)-1 -> 86
B39: GREEN
B40: Name | C40: Club | D40: Class | E40: Galoppen Score
A41: 1st | B41: Matti Ligema | C41: LOC | D41: M14 | E41: 99
A42: 3rd | B42: Richard Cummings | C42: WCOC | D42: M60 | E42: =MIN(E$41:E41)-1 -> 98
A43: 4th | B43: Amelia Thompson | C43: LOC | D43: W16 | E43: =MIN(E$41:E42)-1 -> 97
A44: 5th | B44: Derek Allison | C44: LOC | D44: M65 | E44: =MIN(E$41:E43)-1 -> 96
A45: 6th | B45: Keith Jones | C45: WAROC | D45: M60 | E45: =MIN(E$41:E44)-1 -> 95
A46: 7th | B46: Ann Cummings | C46: WCOC | D46: W60 | E46: =MIN(E$41:E45)-1 -> 94
A47: 9th | B47: Bob Barnby | C47: WCOC | D47: M70 | E47: =MIN(E$41:E46)-1 -> 93
A48: 12th | B48: Anne Burbidge | C48: WCOC | D48: W60 | E48: =MIN(E$41:E47)-1 -> 92
A49: 14th | B49: Judy Burge | C49: LOC | D49: W65 | E49: =MIN(E$41:E48)-1 -> 91
A50: 17th | B50: Stephen Fellbaum | C50: LOC | D50: M60 | E50: =MIN(E$41:E49)-1 -> 90
A51: 19th | B51: Julia Laverack | C51: WAROC | D51: W60 | E51: =MIN(E$41:E50)-1 -> 89
A52: 20th | B52: Deborah Goodwin | C52: WCOC | D52: W60 | E52: =MIN(E$41:E51)-1 -> 88
...

Sheet Faulds Brow
C1: Results for BL Faulds Brow 23 Oct 2022
B3: BROWN
B4: Name | C4: Club | D4: Class | H4: Galoppen Score
A5: 1st | B5: Joe Woodley | C5: AIRE | D5: M21
A6: 2nd | B6: Ruben Razzetti | C6: BL | D6: M16 | H6: 99
A7: 3rd | B7: Steve Birkinshaw | C7: WCOC | D7: M50 | H7: =MIN(H$5:H6)-1 -> 98
A8: 4th | B8: Daniel SpencerAttackpoint | C8: EUOC | D8: M21
A9: 5th | B9: Peter Scott | C9: LOC | D9: M18 | H9: =MIN(H$5:H8)-1 -> 97
A10: 6th | B10: Joseph Goodwin | C10: WCOC | D10: M21 | H10: =MIN(H$5:H9)-1 -> 96
A11: 7th | B11: Jeff Powell Davies | C11: BL | D11: M40 | H11: =MIN(H$5:H10)-1 -> 95
A12: 8th | B12: Alex Matthew | C12: SROC | D12: M18
A13: 9th | B13: Jim Trueman | C13: MDOC | D13: M55
A14: 10th | B14: Dan Parker | C14: BL | D14: M60 | H14: =MIN(H$5:H13)-1 -> 94
A15: 11th | B15: Paul Neild | C15: WCOC | D15: M45 | H15: =MIN(H$5:H14)-1 -> 93
A16: 12th | B16: Wilfrid Teasdale | C16: WCOC | D16: M18 | H16: =MIN(H$5:H15)-1 -> 92
A17: 13th | B17: Matthew McCreadie | C17: DEE | D17: M16
A18: 14th | B18: Karen Parker | C18: BL | D18: W55 | H18: =MIN(H$5:H17)-1 -> 91
A19: 15th | B19: Michael Osborne | C19: LOC | D19: M45 | H19: =MIN(H$5:H18)-1 -> 90
A20: 16th | B20: Tom Matthew | C20: SROC | D20: M50
A21: 17th | B21: Robert SmithStrava | C21: LOC | D21: M55 | H21: =MIN(H$5:H20)-1 -> 89
A22: 18th | B22: Ian Cumpstey | C22: BL | D22: M45 | H22: =MIN(H$5:H21)-1 -> 88
A23: 19th | B23: Paul Gaines | C23: BL | D23: M50 | H23: =MIN(H$5:H22)-1 -> 87
A24: 20th | B24: Keith Tonkin | C24: BL | D24: M60 | H24: =MIN(H$5:H23)-1 -> 86
A25: 21st | B25: Caitlin Pearson | C25: WCOC | D25: W21 | H25: =MIN(H$5:H24)-1 -> 85
A26: 22nd | B26: Fred Boardman | C26: WCOC | D26: M45 | H26: =MIN(H$5:H25)-1 -> 84
A27: 23rd | B27: Dominic Wathey | C27: MDOC | D27: M18
A28: 24th | B28: Trevor Hoey | C28: FVO | D28: M55
A29: 25th | B29: Andy Robinson | C29: LOC | D29: M65 | H29: =MIN(H$5:H28)-1 -> 83
A30: 26th | B30: Derek Fryer | C30: LOC | D30: M65 | H30: =MIN(H$5:H29)-1 -> 82
A31: 27th | B31: Julie Ferris-Worth | C31: BL | D31: W55 | H31: =MIN(H$5:H30)-1 -> 81
A32: 28th | B32: Urszula Bronkowska | C32: DFOK | D32: W21
H33: =MIN(H$5:H32)-1 -> 80
H34: =MIN(H$5:H33)-1 -> 79
H35: =MIN(H$5:H34)-1 -> 78
B37: BLUE
B38: Name | C38: Club | D38: Class
A39: st | B39: Daniel Heppell | C39: WCOC | D39: M16 | H39: 99
A40: 2nd | B40: Graham Patten | C40: WAROC | D40: M60 | H40: =MIN(H$39:H39)-1 -> 98
A41: 3rd | B41: Steve Holmes | C41: WCOC | D41: M50 | H41: =MIN(H$39:H40)-1 -> 97
A42: 4th | B42: George Hare | C42: NATO | D42: M55
...

Sheet Latrigg
C1: Results for WCOC Latrigg & Greta Gorge 18 Dec 2022
B3: BROWN
B4: Name | C4: Club | D4: Class | H4: Galoppen Score
A5: 1st | B5: Steve Birkinshaw | C5: WCOC | D5: M50 | H5: 99
A6: 2nd | B6: Charlie Rennie | C6: WCOC | D6: M20 | H6: =MIN(H5:H$5)-1 -> 98
A7: 3rd | B7: Ruben Razzetti | C7: BL | D7: M16 | H7: =MIN(H$5:H6)-1 -> 97
A8: 4th | B8: Jamie Rennie | C8: WCOC | D8: M50 | H8: =MIN(H$5:H7)-1 -> 96
A9: 5th= | B9: Phillip Winskill | C9: WCOC | D9: M45 | H9: =MIN(H$5:H8)-1 -> 95
A10: 5th= | B10: Joseph Goodwin | C10: SHUOC | D10: M21
A11: 7th | B11: Jeff Powell Davies | C11: BL | D11: M40 | H11: =MIN(H$5:H10)-1 -> 94
A12: 8th | B12: Karen Parker | C12: BL | D12: W55 | H12: =MIN(H$5:H11)-1 -> 93
A13: 9th | B13: Mike Harrison | C13: WCOC | D13: M50 | H13: =MIN(H$5:H12)-1 -> 92
A14: 10th | B14: Max Wilkinson | C14: NN | D14: M35
A15: 11th | B15: Jim Trueman | C15: MDOC | D15: M55
A16: 12th | B16: Robert Smith | C16: LOC | D16: M55 | H16: =MIN(H$5:H15)-1 -> 91
A17: 13th | B17: Alison O'Neil | C17: ESOC | D17: W35
A18: 14th | B18: Ian Cumpstey | C18: BL | D18: M45 | H18: =MIN(H$5:H17)-1 -> 90
A19: 15th | B19: Dan Parker | C19: BL | D19: M60 | H19: =MIN(H$5:H18)-1 -> 89
A20: 16th | B20: Herbie Ashworth | C20: WCOC | D20: M18 | H20: =MIN(H$5:H19)-1 -> 88
A21: 17th | B21: Gillian Atkinson | D21: W55
A22: 18th | B22: Matthew Atkinson | D22: M21
A23: 19th | B23: Simon Thomas | C23: WCOC | D23: M40 | H23: =MIN(H$5:H22)-1 -> 87
A24: 20th | B24: Derek Fryer | C24: LOC | D24: M65 | H24: =MIN(H$5:H23)-1 -> 86
B37: BLUE
B38: Name | C38: Club | D38: Class
A39: 1st | B39: Ian Maxwell | C39: RR | D39: M60
A40: 2nd | B40: James Birkinshaw | C40: WCOC | D40: M20 | H40: 99
A41: 3rd | B41: Sam Mcloughlin | C41: WCOC | D41: M18 | H41: =MIN(H$39:H40)-1 -> 98
A42: 4th | B42: Alan Irving | C42: WCOC | D42: M55 | H42: =MIN(H$39:H41)-1 -> 97
A43: 5th | B43: Emma Crawford | C43: WCOC | D43: W18 | H43: =MIN(H$39:H42)-1 -> 96
A44: 6th | B44: Chris Pollitt | C44: WCOC | D44: M60 | H44: =MIN(H$39:H43)-1 -> 95
A45: 7th | B45: Howard Leslie | C45: WCOC | D45: M60 | H45: =MIN(H$39:H44)-1 -> 94
A46: 8th | B46: Stuart Crawford | C46: WCOC | D46: M50 | H46: =MIN(H$39:H45)-1 -> 93
A47: 9th | B47: John Taylor | C47: SROC | D47: M70
A48: 10th | B48: Luke Richmond | D48: M21
A49: 11th | B49: Isaac Hunter | C49: WCOC | D49: M16 | H49: =MIN(H$39:H48)-1 -> 92
A50: 12th | B50: Nadine Wright | C50: OD | D50: W21
A51: 13th | B51: Owain Rice | C51: BL | D51: M21 | H51: =MIN(H$39:H50)-1 -> 91
A52: 14th | B52: Christine Goulding | C52: BL | D52: W55 | H52: =MIN(H$39:H51)-1 -> 90
A53: 15th | B53: Andy Lewsley | C53: BL | D53: M65 | H53: =MIN(H$39:H52)-1 -> 89
...

Sheet Yellow
B1: Yellow
B2: Name | C2: Club | D2: Age Class | E2: Penrith Beacon (BL) | F2: Loughrigg (LOC) | G2: Lank Rigg (WCOC) | H2: Ling Fell (WCOC) | I2: Harter Fell (LOC) | J2: Faulds Brow (BL) | K2: Latrigg & Greta Gorge (WCOC) | M2: Galoppen Score | N2: Number of Counting Scores | O2: Average of Counting Scores
B3: Wilf Clarkson | C3: WCOC | D3: M10 | F3: 99 | M3: =IFERROR(LARGE($E3:$L3,1),0)+IFERROR(LARGE($E3:$L3,2),0)+IFERROR(LARGE($E3:$L3,3),0)+IFERROR(LARGE($E3:$L3,4),0)+IFERROR(LARGE($E3:$L3,5),0) -> 99 | N3: =IF(COUNT(E3:L3)>5,5,COUNT(E3:L3)) -> 1 | O3: =M3/N3 -> 99
B4: James Heppenstall | C4: LOC | D4: M9 | I4: 99 | M4: =IFERROR(LARGE($E4:$L4,1),0)+IFERROR(LARGE($E4:$L4,2),0)+IFERROR(LARGE($E4:$L4,3),0)+IFERROR(LARGE($E4:$L4,4),0)+IFERROR(LARGE($E4:$L4,5),0) -> 99 | N4: =IF(COUNT(E4:L4)>5,5,COUNT(E4:L4)) -> 1 | O4: =M4/N4 -> 99
B5: Gary Flynn | C5: LOC | D5: M21 | E5: 99 | M5: =IFERROR(LARGE($E5:$L5,1),0)+IFERROR(LARGE($E5:$L5,2),0)+IFERROR(LARGE($E5:$L5,3),0)+IFERROR(LARGE($E5:$L5,4),0)+IFERROR(LARGE($E5:$L5,5),0) -> 99 | N5: =IF(COUNT(E5:L5)>5,5,COUNT(E5:L5)) -> 1 | O5: =M5/N5 -> 99
B6: Lucie Heppenstall | C6: LOC | D6: W7 | I6: 98 | M6: =IFERROR(LARGE($E6:$L6,1),0)+IFERROR(LARGE($E6:$L6,2),0)+IFERROR(LARGE($E6:$L6,3),0)+IFERROR(LARGE($E6:$L6,4),0)+IFERROR(LARGE($E6:$L6,5),0) -> 98 | N6: =IF(COUNT(E6:L6)>5,5,COUNT(E6:L6)) -> 1 | O6: =M6/N6 -> 98
B7: Ned Hutt | C7: BL | D7: M10 | E7: 98 | M7: =IFERROR(LARGE($E7:$L7,1),0)+IFERROR(LARGE($E7:$L7,2),0)+IFERROR(LARGE($E7:$L7,3),0)+IFERROR(LARGE($E7:$L7,4),0)+IFERROR(LARGE($E7:$L7,5),0) -> 98 | N7: =IF(COUNT(E7:L7)>5,5,COUNT(E7:L7)) -> 1 | O7: =M7/N7 -> 98
B8: Stefie Stein | C8: WCOC | D8: W10 | E8: 97 | M8: =IFERROR(LARGE($E8:$L8,1),0)+IFERROR(LARGE($E8:$L8,2),0)+IFERROR(LARGE($E8:$L8,3),0)+IFERROR(LARGE($E8:$L8,4),0)+IFERROR(LARGE($E8:$L8,5),0) -> 97 | N8: =IF(COUNT(E8:L8)>5,5,COUNT(E8:L8)) -> 1 | O8: =M8/N8 -> 97
B9: Henry Bennett | C9: LOC | D9: M10 | I9: 97 | M9: =IFERROR(LARGE($E9:$L9,1),0)+IFERROR(LARGE($E9:$L9,2),0)+IFERROR(LARGE($E9:$L9,3),0)+IFERROR(LARGE($E9:$L9,4),0)+IFERROR(LARGE($E9:$L9,5),0) -> 97 | N9: =IF(COUNT(E9:L9)>5,5,COUNT(E9:L9)) -> 1 | O9: =M9/N9 -> 97
B10: Jonty Razzetti | C10: BL | D10: M10 | E10: 96 | M10: =IFERROR(LARGE($E10:$L10,1),0)+IFERROR(LARGE($E10:$L10,2),0)+IFERROR(LARGE($E10:$L10,3),0)+IFERROR(LARGE($E10:$L10,4),0)+IFERROR(LARGE($E10:$L10,5),0) -> 96 | N10: =IF(COUNT(E10:L10)>5,5,COUNT(E10:L10)) -> 1 | O10: =M10/N10 -> 96
B11: Sola Holmes | C11: WCOC | D11: W10 | E11: 95 | M11: =IFERROR(LARGE($E11:$L11,1),0)+IFERROR(LARGE($E11:$L11,2),0)+IFERROR(LARGE($E11:$L11,3),0)+IFERROR(LARGE($E11:$L11,4),0)+IFERROR(LARGE($E11:$L11,5),0) -> 95 | N11: =IF(COUNT(E11:L11)>5,5,COUNT(E11:L11)) -> 1 | O11: =M11/N11 -> 95
B12: Naylor | C12: WCOC | D12: M10 | E12: 94 | M12: =IFERROR(LARGE($E12:$L12,1),0)+IFERROR(LARGE($E12:$L12,2),0)+IFERROR(LARGE($E12:$L12,3),0)+IFERROR(LARGE($E12:$L12,4),0)+IFERROR(LARGE($E12:$L12,5),0) -> 94 | N12: =IF(COUNT(E12:L12)>5,5,COUNT(E12:L12)) -> 1 | O12: =M12/N12 -> 94
B13: Cerys Naylor | C13: WCOC | D13: W10 | E13: 93 | M13: =IFERROR(LARGE($E13:$L13,1),0)+IFERROR(LARGE($E13:$L13,2),0)+IFERROR(LARGE($E13:$L13,3),0)+IFERROR(LARGE($E13:$L13,4),0)+IFERROR(LARGE($E13:$L13,5),0) -> 93 | N13: =IF(COUNT(E13:L13)>5,5,COUNT(E13:L13)) -> 1 | O13: =M13/N13 -> 93
B16: =COUNTA(B3:B14) -> 11 | E16: =COUNTA(E3:E14) -> 7 | F16: =COUNTA(F3:F14) -> 1 | G16: =COUNTA(G3:G14) -> 0 | H16: =COUNTA(H3:H14) -> 0 | I16: =COUNTA(I3:I14) -> 3 | L16: =COUNTA(L3:L14) -> 0 | M16: =COUNTA(M3:M14) -> 11 | N16: =COUNTA(N3:N14) -> 11 | O16: =COUNTA(O3:O14) -> 11

Sheet Orange
B1: Orange | E1: =Yellow!E2 -> Penrith Beacon (BL) | F1: =Yellow!F2 -> Loughrigg (LOC) | G1: =Yellow!G2 -> Lank Rigg (WCOC) | H1: =Yellow!H2 -> Ling Fell (WCOC) | I1: =Yellow!I2 -> Harter Fell (LOC) | J1: =Yellow!J2 -> Faulds Brow (BL) | K1: =Yellow!K2 -> Latrigg & Greta Gorge (WCOC) | L1: =Yellow!L2 -> 0 | M1: Galoppen Score | N1: Number of Counting Scores | O1: Average of Counting Scores
B2: Name | C2: Club | D2: Age Class | M2: Galoppen Score
B3: Quinn Thompson | C3: LOC | D3: M12 | F3: 98 | G3: 98 | I3: 99 | M3: =IFERROR(LARGE($E3:$L3,1),0)+IFERROR(LARGE($E3:$L3,2),0)+IFERROR(LARGE($E3:$L3,3),0)+IFERROR(LARGE($E3:$L3,4),0)+IFERROR(LARGE($E3:$L3,5),0) -> 295 | N3: =IF(COUNT(E3:L3)>5,5,COUNT(E3:L3)) -> 3 | O3: =M3/N3 -> 98.333333
B4: Jane Waterworth | C4: WCOC | D4: W65 | H4: 99 | M4: =IFERROR(LARGE($E4:$L4,1),0)+IFERROR(LARGE($E4:$L4,2),0)+IFERROR(LARGE($E4:$L4,3),0)+IFERROR(LARGE($E4:$L4,4),0)+IFERROR(LARGE($E4:$L4,5),0) -> 99 | N4: =IF(COUNT(E4:L4)>5,5,COUNT(E4:L4)) -> 1 | O4: =M4/N4 -> 99
B5: Jane Hunter | C5: WCOC | D5: W55 | G5: 99 | M5: =IFERROR(LARGE($E5:$L5,1),0)+IFERROR(LARGE($E5:$L5,2),0)+IFERROR(LARGE($E5:$L5,3),0)+IFERROR(LARGE($E5:$L5,4),0)+IFERROR(LARGE($E5:$L5,5),0) -> 99 | N5: =IF(COUNT(E5:L5)>5,5,COUNT(E5:L5)) -> 1 | O5: =M5/N5 -> 99
B6: Rafferty Phillips | C6: WCOC | D6: M10 | J6: 99 | M6: =IFERROR(LARGE($E6:$L6,1),0)+IFERROR(LARGE($E6:$L6,2),0)+IFERROR(LARGE($E6:$L6,3),0)+IFERROR(LARGE($E6:$L6,4),0)+IFERROR(LARGE($E6:$L6,5),0) -> 99 | N6: =IF(COUNT(E6:L6)>5,5,COUNT(E6:L6)) -> 1 | O6: =M6/N6 -> 99
B7: Tess Gibbs | C7: WAROC | D7: W12 | E7: 99 | M7: =IFERROR(LARGE($E7:$L7,1),0)+IFERROR(LARGE($E7:$L7,2),0)+IFERROR(LARGE($E7:$L7,3),0)+IFERROR(LARGE($E7:$L7,4),0)+IFERROR(LARGE($E7:$L7,5),0) -> 99 | N7: =IF(COUNT(E7:L7)>5,5,COUNT(E7:L7)) -> 1 | O7: =M7/N7 -> 99
B8: Jamie Osborne | C8: LOC | D8: M12 | F8: 99 | M8: =IFERROR(LARGE($E8:$L8,1),0)+IFERROR(LARGE($E8:$L8,2),0)+IFERROR(LARGE($E8:$L8,3),0)+IFERROR(LARGE($E8:$L8,4),0)+IFERROR(LARGE($E8:$L8,5),0) -> 99 | N8: =IF(COUNT(E8:L8)>5,5,COUNT(E8:L8)) -> 1 | O8: =M8/N8 -> 99
B9: Sola Holmes | C9: WCOC | D9: W10 | J9: 98 | M9: =IFERROR(LARGE($E9:$L9,1),0)+IFERROR(LARGE($E9:$L9,2),0)+IFERROR(LARGE($E9:$L9,3),0)+IFERROR(LARGE($E9:$L9,4),0)+IFERROR(LARGE($E9:$L9,5),0) -> 98 | N9: =IF(COUNT(E9:L9)>5,5,COUNT(E9:L9)) -> 1 | O9: =M9/N9 -> 98
B10: Helen Bennett | C10: LOC | D10: W40 | I10: 98 | M10: =IFERROR(LARGE($E10:$L10,1),0)+IFERROR(LARGE($E10:$L10,2),0)+IFERROR(LARGE($E10:$L10,3),0)+IFERROR(LARGE($E10:$L10,4),0)+IFERROR(LARGE($E10:$L10,5),0) -> 98 | N10: =IF(COUNT(E10:L10)>5,5,COUNT(E10:L10)) -> 1 | O10: =M10/N10 -> 98
B11: Martin Keegan | C11: BL | D11: M60 | F11: 97 | M11: =IFERROR(LARGE($E11:$L11,1),0)+IFERROR(LARGE($E11:$L11,2),0)+IFERROR(LARGE($E11:$L11,3),0)+IFERROR(LARGE($E11:$L11,4),0)+IFERROR(LARGE($E11:$L11,5),0) -> 97 | N11: =IF(COUNT(E11:L11)>5,5,COUNT(E11:L11)) -> 1 | O11: =M11/N11 -> 97
B16: =COUNTA(B3:B11) -> 9 | E16: =COUNTA(E3:E11) -> 1 | F16: =COUNTA(F3:F11) -> 3 | G16: =COUNTA(G3:G11) -> 2 | H16: =COUNTA(H3:H11) -> 1 | I16: =COUNTA(I3:I11) -> 2 | J16: =COUNTA(J3:J11) -> 2 | K16: =COUNTA(K3:K11) -> 0 | L16: =COUNTA(L3:L11) -> 0 | ... O16: =COUNTA(O3:O11) -> 9

Sheet L Green
B1: Light Green | E1: =Yellow!E2 -> Penrith Beacon (BL) | F1: =Yellow!F2 -> Loughrigg (LOC) | G1: =Yellow!G2 -> Lank Rigg (WCOC) | H1: =Yellow!H2 -> Ling Fell (WCOC) | I1: =Yellow!I2 -> Harter Fell (LOC) | J1: =Yellow!J2 -> Faulds Brow (BL) | K1: =Yellow!K2 -> Latrigg & Greta Gorge (WCOC) | L1: =Yellow!L2 -> 0 | M1: Galoppen Score | N1: Number of Counting Scores | O1: Average of Counting Scores
B2: Name | C2: Club | D2: Age Class | M2: Galoppen Score
B3: George Rennie | C3: WCOC | D3: M14 | E3: 98 | F3: 99 | G3: 99 | H3: 99 | M3: =IFERROR(LARGE($E3:$L3,1),0)+IFERROR(LARGE($E3:$L3,2),0)+IFERROR(LARGE($E3:$L3,3),0)+IFERROR(LARGE($E3:$L3,4),0)+IFERROR(LARGE($E3:$L3,5),0) -> 395 | N3: =IF(COUNT(E3:L3)>5,5,COUNT(E3:L3)) -> 4 | O3: =M3/N3 -> 98.75
B4: Jamie Osborne | C4: LOC | D4: M12 | I4: 99 | J4: 99 | K4: 99 | M4: =IFERROR(LARGE($E4:$L4,1),0)+IFERROR(LARGE($E4:$L4,2),0)+IFERROR(LARGE($E4:$L4,3),0)+IFERROR(LARGE($E4:$L4,4),0)+IFERROR(LARGE($E4:$L4,5),0) -> 297 | N4: =IF(COUNT(E4:L4)>5,5,COUNT(E4:L4)) -> 3 | O4: =M4/N4 -> 99
B5: Ash Boothroyd | C5: WCOC | D5: M14 | E5: 99 | M5: =IFERROR(LARGE($E5:$L5,1),0)+IFERROR(LARGE($E5:$L5,2),0)+IFERROR(LARGE($E5:$L5,3),0)+IFERROR(LARGE($E5:$L5,4),0)+IFERROR(LARGE($E5:$L5,5),0) -> 99 | N5: =IF(COUNT(E5:L5)>5,5,COUNT(E5:L5)) -> 1 | O5: =M5/N5 -> 99
B6: Lily Clarkson | C6: WCOC | D6: W14 | F6: 98 | M6: =IFERROR(LARGE($E6:$L6,1),0)+IFERROR(LARGE($E6:$L6,2),0)+IFERROR(LARGE($E6:$L6,3),0)+IFERROR(LARGE($E6:$L6,4),0)+IFERROR(LARGE($E6:$L6,5),0) -> 98 | N6: =IF(COUNT(E6:L6)>5,5,COUNT(E6:L6)) -> 1 | O6: =M6/N6 -> 98
B7: Kamila Winterbottom | C7: WCOC | D7: W45 | H7: 98 | M7: =IFERROR(LARGE($E7:$L7,1),0)+IFERROR(LARGE($E7:$L7,2),0)+IFERROR(LARGE($E7:$L7,3),0)+IFERROR(LARGE($E7:$L7,4),0)+IFERROR(LARGE($E7:$L7,5),0) -> 98 | N7: =IF(COUNT(E7:L7)>5,5,COUNT(E7:L7)) -> 1 | O7: =M7/N7 -> 98
B8: Maria Gaines | C8: BL | D8: W14 | J8: 98 | M8: =IFERROR(LARGE($E8:$L8,1),0)+IFERROR(LARGE($E8:$L8,2),0)+IFERROR(LARGE($E8:$L8,3),0)+IFERROR(LARGE($E8:$L8,4),0)+IFERROR(LARGE($E8:$L8,5),0) -> 98 | N8: =IF(COUNT(E8:L8)>5,5,COUNT(E8:L8)) -> 1 | O8: =M8/N8 -> 98
B9: Hannah Birkinshaw | C9: WCOC | D9: W14 | E9: 97 | M9: =IFERROR(LARGE($E9:$L9,1),0)+IFERROR(LARGE($E9:$L9,2),0)+IFERROR(LARGE($E9:$L9,3),0)+IFERROR(LARGE($E9:$L9,4),0)+IFERROR(LARGE($E9:$L9,5),0) -> 97 | N9: =IF(COUNT(E9:L9)>5,5,COUNT(E9:L9)) -> 1 | O9: =M9/N9 -> 97
B10: Karen Saunders | C10: LOC | D10: W55 | J10: 97 | M10: =IFERROR(LARGE($E10:$L10,1),0)+IFERROR(LARGE($E10:$L10,2),0)+IFERROR(LARGE($E10:$L10,3),0)+IFERROR(LARGE($E10:$L10,4),0)+IFERROR(LARGE($E10:$L10,5),0) -> 97 | N10: =IF(COUNT(E10:L10)>5,5,COUNT(E10:L10)) -> 1 | O10: =M10/N10 -> 97
B11: Elizabeth Woodcock | C11: WCOC | D11: W45 | E11: 96 | M11: =IFERROR(LARGE($E11:$L11,1),0)+IFERROR(LARGE($E11:$L11,2),0)+IFERROR(LARGE($E11:$L11,3),0)+IFERROR(LARGE($E11:$L11,4),0)+IFERROR(LARGE($E11:$L11,5),0) -> 96 | N11: =IF(COUNT(E11:L11)>5,5,COUNT(E11:L11)) -> 1 | O11: =M11/N11 -> 96

Sheet VSGreen
B1: Very Short Green | E1: =Yellow!E2 -> Penrith Beacon (BL) | F1: =Yellow!F2 -> Loughrigg (LOC) | G1: =Yellow!G2 -> Lank Rigg (WCOC) | H1: =Yellow!H2 -> Ling Fell (WCOC) | I1: =Yellow!I2 -> Harter Fell (LOC) | J1: =Yellow!J2 -> Faulds Brow (BL) | K1: =Yellow!K2 -> Latrigg & Greta Gorge (WCOC) | L1: =Yellow!L2 -> 0 | M1: Galoppen Score | N1: Number of Counting Scores | O1: Average of Counting Scores
B2: Name | C2: Club | D2: Age Class | M2: Galoppen Score
B3: Eleanor Osborne | C3: LOC | D3: W45 | F3: 99 | M3: =IFERROR(LARGE($E3:$L3,1),0)+IFERROR(LARGE($E3:$L3,2),0)+IFERROR(LARGE($E3:$L3,3),0)+IFERROR(LARGE($E3:$L3,4),0)+IFERROR(LARGE($E3:$L3,5),0) -> 99 | N3: =IF(COUNT(E3:L3)>5,5,COUNT(E3:L3)) -> 1 | O3: =M3/N3 -> 99
B4: Richard Moss | C4: BL | D4: M80 | F4: 98 | M4: =IFERROR(LARGE($E4:$L4,1),0)+IFERROR(LARGE($E4:$L4,2),0)+IFERROR(LARGE($E4:$L4,3),0)+IFERROR(LARGE($E4:$L4,4),0)+IFERROR(LARGE($E4:$L4,5),0) -> 98 | N4: =IF(COUNT(E4:L4)>5,5,COUNT(E4:L4)) -> 1 | O4: =M4/N4 -> 98

Sheet S Green
B1: Short Green | E1: =Yellow!E2 -> Penrith Beacon (BL) | F1: =Yellow!F2 -> Loughrigg (LOC) | G1: =Yellow!G2 -> Lank Rigg (WCOC) | H1: =Yellow!H2 -> Ling Fell (WCOC) | I1: =Yellow!I2 -> Harter Fell (LOC) | J1: =Yellow!J2 -> Faulds Brow (BL) | K1: =Yellow!K2 -> Latrigg & Greta Gorge (WCOC) | L1: =Yellow!L2 -> 0 | M1: Galoppen Score | N1: Number of Counting Scores | O1: Average of Counting Scores
B2: Name | C2: Club | D2: Age Class | M2: Galoppen Score
B3: Catherine Wetherfield | C3: WCOC | D3: W55 | G3: 99 | H3: 99 | I3: 96 | J3: 98 | K3: 99 | M3: =IFERROR(LARGE($E3:$L3,1),0)+IFERROR(LARGE($E3:$L3,2),0)+IFERROR(LARGE($E3:$L3,3),0)+IFERROR(LARGE($E3:$L3,4),0)+IFERROR(LARGE($E3:$L3,5),0) -> 491 | N3: =IF(COUNT(E3:L3)>5,5,COUNT(E3:L3)) -> 5 | O3: =M3/N3 -> 98.2
B4: Gill Browne | C4: LOC | D4: W65 | E4: 96 | F4: 92 | H4: 98 | J4: 96 | K4: 98 | M4: =IFERROR(LARGE($E4:$L4,1),0)+IFERROR(LARGE($E4:$L4,2),0)+IFERROR(LARGE($E4:$L4,3),0)+IFERROR(LARGE($E4:$L4,4),0)+IFERROR(LARGE($E4:$L4,5),0) -> 480 | N4: =IF(COUNT(E4:L4)>5,5,COUNT(E4:L4)) -> 5 | O4: =M4/N4 -> 96
B5: Kim Leslie | C5: WCOC | D5: W55 | E5: 98 | F5: 98 | G5: 96 | J5: 89 | K5: 96 | M5: =IFERROR(LARGE($E5:$L5,1),0)+IFERROR(LARGE($E5:$L5,2),0)+IFERROR(LARGE($E5:$L5,3),0)+IFERROR(LARGE($E5:$L5,4),0)+IFERROR(LARGE($E5:$L5,5),0) -> 477 | N5: =IF(COUNT(E5:L5)>5,5,COUNT(E5:L5)) -> 5 | O5: =M5/N5 -> 95.4
B6: David Lloyd | C6: LOC | D6: M70 | E6: 76 | F6: 83 | G6: 94 | J6: 95 | K6: 91 | M6: =IFERROR(LARGE($E6:$L6,1),0)+IFERROR(LARGE($E6:$L6,2),0)+IFERROR(LARGE($E6:$L6,3),0)+IFERROR(LARGE($E6:$L6,4),0)+IFERROR(LARGE($E6:$L6,5),0) -> 439 | N6: =IF(COUNT(E6:L6)>5,5,COUNT(E6:L6)) -> 5 | O6: =M6/N6 -> 87.8
B7: Alan Heppenstall | C7: LOC | D7: M80 | F7: 87 | H7: 90 | I7: 93 | J7: 76 | K7: 86 | M7: =IFERROR(LARGE($E7:$L7,1),0)+IFERROR(LARGE($E7:$L7,2),0)+IFERROR(LARGE($E7:$L7,3),0)+IFERROR(LARGE($E7:$L7,4),0)+IFERROR(LARGE($E7:$L7,5),0) -> 432 | N7: =IF(COUNT(E7:L7)>5,5,COUNT(E7:L7)) -> 5 | O7: =M7/N7 -> 86.4
B8: Janet Nash | C8: LOC | D8: W70 | E8: 99 | F8: 88 | J8: 94 | K8: 92 | M8: =IFERROR(LARGE($E8:$L8,1),0)+IFERROR(LARGE($E8:$L8,2),0)+IFERROR(LARGE($E8:$L8,3),0)+IFERROR(LARGE($E8:$L8,4),0)+IFERROR(LARGE($E8:$L8,5),0) -> 373 | N8: =IF(COUNT(E8:L8)>5,5,COUNT(E8:L8)) -> 4 | O8: =M8/N8 -> 93.25
B9: Joan Cumpstey | C9: BL | D9: W70 | E9: 90 | F9: 85 | H9: 94 | J9: 82 | M9: =IFERROR(LARGE($E9:$L9,1),0)+IFERROR(LARGE($E9:$L9,2),0)+IFERROR(LARGE($E9:$L9,3),0)+IFERROR(LARGE($E9:$L9,4),0)+IFERROR(LARGE($E9:$L9,5),0) -> 351 | N9: =IF(COUNT(E9:L9)>5,5,COUNT(E9:L9)) -> 4 | O9: =M9/N9 -> 87.75
B10: Christine Robinson | C10: LOC | D10: W65 | F10: 97 | J10: 92 | K10: 97 | M10: =IFERROR(LARGE($E10:$L10,1),0)+IFERROR(LARGE($E10:$L10,2),0)+IFERROR(LARGE($E10:$L10,3),0)+IFERROR(LARGE($E10:$L10,4),0)+IFERROR(LARGE($E10:$L10,5),0) -> 286 | N10: =IF(COUNT(E10:L10)>5,5,COUNT(E10:L10)) -> 3 | O10: =M10/N10 -> 95.333333
B11: Janette McHendry | C11: WCOC | D11: W50 | F11: 90 | G11: 98 | H11: 97 | M11: =IFERROR(LARGE($E11:$L11,1),0)+IFERROR(LARGE($E11:$L11,2),0)+IFERROR(LARGE($E11:$L11,3),0)+IFERROR(LARGE($E11:$L11,4),0)+IFERROR(LARGE($E11:$L11,5),0) -> 285 | N11: =IF(COUNT(E11:L11)>5,5,COUNT(E11:L11)) -> 3 | O11: =M11/N11 -> 95
B12: Cath Lee | C12: LOC | D12: W60 | G12: 97 | J12: 88 | K12: 94 | M12: =IFERROR(LARGE($E12:$L12,1),0)+IFERROR(LARGE($E12:$L12,2),0)+IFERROR(LARGE($E12:$L12,3),0)+IFERROR(LARGE($E12:$L12,4),0)+IFERROR(LARGE($E12:$L12,5),0) -> 279 | N12: =IF(COUNT(E12:L12)>5,5,COUNT(E12:L12)) -> 3 | O12: =M12/N12 -> 93
B13: Jane Venet | C13: LOC | D13: W65 | F13: 94 | H13: 89 | I13: 94 | M13: =IFERROR(LARGE($E13:$L13,1),0)+IFERROR(LARGE($E13:$L13,2),0)+IFERROR(LARGE($E13:$L13,3),0)+IFERROR(LARGE($E13:$L13,4),0)+IFERROR(LARGE($E13:$L13,5),0) -> 277 | N13: =IF(COUNT(E13:L13)>5,5,COUNT(E13:L13)) -> 3 | O13: =M13/N13 -> 92.333333
B14: Malcolm Ruckledge | C14: WCOC | D14: M75 | E14: 91 | F14: 95 | J14: 86 | M14: =IFERROR(LARGE($E14:$L14,1),0)+IFERROR(LARGE($E14:$L14,2),0)+IFERROR(LARGE($E14:$L14,3),0)+IFERROR(LARGE($E14:$L14,4),0)+IFERROR(LARGE($E14:$L14,5),0) -> 272 | N14: =IF(COUNT(E14:L14)>5,5,COUNT(E14:L14)) -> 3 | O14: =M14/N14 -> 90.666667
B15: Elizabeth Elliott | C15: WCOC | D15: W70 | I15: 95 | J15: 84 | K15: 88 | M15: =IFERROR(LARGE($E15:$L15,1),0)+IFERROR(LARGE($E15:$L15,2),0)+IFERROR(LARGE($E15:$L15,3),0)+IFERROR(LARGE($E15:$L15,4),0)+IFERROR(LARGE($E15:$L15,5),0) -> 267 | N15: =IF(COUNT(E15:L15)>5,5,COUNT(E15:L15)) -> 3 | O15: =M15/N15 -> 89
B16: Richard Moss | C16: BL | D16: M80 | E16: 74 | H16: 87 | J16: 78 | M16: =IFERROR(LARGE($E16:$L16,1),0)+IFERROR(LARGE($E16:$L16,2),0)+IFERROR(LARGE($E16:$L16,3),0)+IFERROR(LARGE($E16:$L16,4),0)+IFERROR(LARGE($E16:$L16,5),0) -> 239 | N16: =IF(COUNT(E16:L16)>5,5,COUNT(E16:L16)) -> 3 | O16: =M16/N16 -> 79.666667
B17: Hannah Birkinshaw | C17: WCOC | D17: W14 | H17: 95 | J17: 97 | M17: =IFERROR(LARGE($E17:$L17,1),0)+IFERROR(LARGE($E17:$L17,2),0)+IFERROR(LARGE($E17:$L17,3),0)+IFERROR(LARGE($E17:$L17,4),0)+IFERROR(LARGE($E17:$L17,5),0) -> 192 | N17: =IF(COUNT(E17:L17)>5,5,COUNT(E17:L17)) -> 2 | O17: =M17/N17 -> 96
B18: Chris Lates | C18: BL | D18: M80 | E18: 97 | K18: 95 | M18: =IFERROR(LARGE($E18:$L18,1),0)+IFERROR(LARGE($E18:$L18,2),0)+IFERROR(LARGE($E18:$L18,3),0)+IFERROR(LARGE($E18:$L18,4),0)+IFERROR(LARGE($E18:$L18,5),0) -> 192 | N18: =IF(COUNT(E18:L18)>5,5,COUNT(E18:L18)) -> 2 | O18: =M18/N18 -> 96
B19: Emma Moody | C19: WCOC | D19: W50 | H19: 96 | J19: 93 | M19: =IFERROR(LARGE($E19:$L19,1),0)+IFERROR(LARGE($E19:$L19,2),0)+IFERROR(LARGE($E19:$L19,3),0)+IFERROR(LARGE($E19:$L19,4),0)+IFERROR(LARGE($E19:$L19,5),0) -> 189 | N19: =IF(COUNT(E19:L19)>5,5,COUNT(E19:L19)) -> 2 | O19: =M19/N19 -> 94.5
B20: Steve Burge | C20: LOC | D20: M80 | I20: 98 | J20: 90 | M20: =IFERROR(LARGE($E20:$L20,1),0)+IFERROR(LARGE($E20:$L20,2),0)+IFERROR(LARGE($E20:$L20,3),0)+IFERROR(LARGE($E20:$L20,4),0)+IFERROR(LARGE($E20:$L20,5),0) -> 188 | N20: =IF(COUNT(E20:L20)>5,5,COUNT(E20:L20)) -> 2 | O20: =M20/N20 -> 94
B21: Christine Kiddier | C21: BL | D21: W70 | F21: 96 | J21: 91 | M21: =IFERROR(LARGE($E21:$L21,1),0)+IFERROR(LARGE($E21:$L21,2),0)+IFERROR(LARGE($E21:$L21,3),0)+IFERROR(LARGE($E21:$L21,4),0)+IFERROR(LARGE($E21:$L21,5),0) -> 187 | N21: =IF(COUNT(E21:L21)>5,5,COUNT(E21:L21)) -> 2 | O21: =M21/N21 -> 93.5
B22: Dick Whitworth | C22: BL | D22: M80 | E22: 83 | H22: 91 | M22: =IFERROR(LARGE($E22:$L22,1),0)+IFERROR(LARGE($E22:$L22,2),0)+IFERROR(LARGE($E22:$L22,3),0)+IFERROR(LARGE($E22:$L22,4),0)+IFERROR(LARGE($E22:$L22,5),0) -> 174 | N22: =IF(COUNT(E22:L22)>5,5,COUNT(E22:L22)) -> 2 | O22: =M22/N22 -> 87
B23: Rowan Purkis | C23: LOC | D23: W65 | E23: 86 | F23: 86 | M23: =IFERROR(LARGE($E23:$L23,1),0)+IFERROR(LARGE($E23:$L23,2),0)+IFERROR(LARGE($E23:$L23,3),0)+IFERROR(LARGE($E23:$L23,4),0)+IFERROR(LARGE($E23:$L23,5),0) -> 172 | N23: =IF(COUNT(E23:L23)>5,5,COUNT(E23:L23)) -> 2 | O23: =M23/N23 -> 86
B24: Janice Nichols | C24: BL | D24: W60 | E24: 88 | F24: 84 | M24: =IFERROR(LARGE($E24:$L24,1),0)+IFERROR(LARGE($E24:$L24,2),0)+IFERROR(LARGE($E24:$L24,3),0)+IFERROR(LARGE($E24:$L24,4),0)+IFERROR(LARGE($E24:$L24,5),0) -> 172 | N24: =IF(COUNT(E24:L24)>5,5,COUNT(E24:L24)) -> 2 | O24: =M24/N24 -> 86
B25: Lesley Wornham | C25: WCOC | D25: W65 | E25: 87 | J25: 83 | M25: =IFERROR(LARGE($E25:$L25,1),0)+IFERROR(LARGE($E25:$L25,2),0)+IFERROR(LARGE($E25:$L25,3),0)+IFERROR(LARGE($E25:$L25,4),0)+IFERROR(LARGE($E25:$L25,5),0) -> 170 | N25: =IF(COUNT(E25:L25)>5,5,COUNT(E25:L25)) -> 2 | O25: =M25/N25 -> 85
B26: Charles Weir | C26: BL | D26: M60 | E26: 85 | J26: 85 | M26: =IFERROR(LARGE($E26:$L26,1),0)+IFERROR(LARGE($E26:$L26,2),0)+IFERROR(LARGE($E26:$L26,3),0)+IFERROR(LARGE($E26:$L26,4),0)+IFERROR(LARGE($E26:$L26,5),0) -> 170 | N26: =IF(COUNT(E26:L26)>5,5,COUNT(E26:L26)) -> 2 | O26: =M26/N26 -> 85
B27: Anita Evans | C27: BL | D27: W65 | H27: 88 | J27: 81 | M27: =IFERROR(LARGE($E27:$L27,1),0)+IFERROR(LARGE($E27:$L27,2),0)+IFERROR(LARGE($E27:$L27,3),0)+IFERROR(LARGE($E27:$L27,4),0)+IFERROR(LARGE($E27:$L27,5),0) -> 169 | N27: =IF(COUNT(E27:L27)>5,5,COUNT(E27:L27)) -> 2 | O27: =M27/N27 -> 84.5
B28: Helen Neild | C28: LOC | D28: W75 | E28: 78 | J28: 87 | M28: =IFERROR(LARGE($E28:$L28,1),0)+IFERROR(LARGE($E28:$L28,2),0)+IFERROR(LARGE($E28:$L28,3),0)+IFERROR(LARGE($E28:$L28,4),0)+IFERROR(LARGE($E28:$L28,5),0) -> 165 | N28: =IF(COUNT(E28:L28)>5,5,COUNT(E28:L28)) -> 2 | O28: =M28/N28 -> 82.5
B29: David Fenwick | C29: WCOC | D29: M75 | E29: 84 | J29: 80 | M29: =IFERROR(LARGE($E29:$L29,1),0)+IFERROR(LARGE($E29:$L29,2),0)+IFERROR(LARGE($E29:$L29,3),0)+IFERROR(LARGE($E29:$L29,4),0)+IFERROR(LARGE($E29:$L29,5),0) -> 164 | N29: =IF(COUNT(E29:L29)>5,5,COUNT(E29:L29)) -> 2 | O29: =M29/N29 -> 82
B30: Dougal Kyle | C30: BL | D30: M85 | E30: 80 | J30: 77 | M30: =IFERROR(LARGE($E30:$L30,1),0)+IFERROR(LARGE($E30:$L30,2),0)+IFERROR(LARGE($E30:$L30,3),0)+IFERROR(LARGE($E30:$L30,4),0)+IFERROR(LARGE($E30:$L30,5),0) -> 157 | N30: =IF(COUNT(E30:L30)>5,5,COUNT(E30:L30)) -> 2 | O30: =M30/N30 -> 78.5
B31: Richard Towler | C31: LOC | D31: M70 | J31: 99 | M31: =IFERROR(LARGE($E31:$L31,1),0)+IFERROR(LARGE($E31:$L31,2),0)+IFERROR(LARGE($E31:$L31,3),0)+IFERROR(LARGE($E31:$L31,4),0)+IFERROR(LARGE($E31:$L31,5),0) -> 99 | N31: =IF(COUNT(E31:L31)>5,5,COUNT(E31:L31)) -> 1 | O31: =M31/N31 -> 99
B32: Carol McNeill | C32: LOC | D32: W75 | I32: 99 | M32: =IFERROR(LARGE($E32:$L32,1),0)+IFERROR(LARGE($E32:$L32,2),0)+IFERROR(LARGE($E32:$L32,3),0)+IFERROR(LARGE($E32:$L32,4),0)+IFERROR(LARGE($E32:$L32,5),0) -> 99 | N32: =IF(COUNT(E32:L32)>5,5,COUNT(E32:L32)) -> 1 | O32: =M32/N32 -> 99
B33: Patricia Davies | C33: BL | D33: W65 | F33: 99 | M33: =IFERROR(LARGE($E33:$L33,1),0)+IFERROR(LARGE($E33:$L33,2),0)+IFERROR(LARGE($E33:$L33,3),0)+IFERROR(LARGE($E33:$L33,4),0)+IFERROR(LARGE($E33:$L33,5),0) -> 99 | N33: =IF(COUNT(E33:L33)>5,5,COUNT(E33:L33)) -> 1 | O33: =M33/N33 -> 99
B34: Rach Stavert | C34: LOC | D34: W55 | I34: 97 | M34: =IFERROR(LARGE($E34:$L34,1),0)+IFERROR(LARGE($E34:$L34,2),0)+IFERROR(LARGE($E34:$L34,3),0)+IFERROR(LARGE($E34:$L34,4),0)+IFERROR(LARGE($E34:$L34,5),0) -> 97 | N34: =IF(COUNT(E34:L34)>5,5,COUNT(E34:L34)) -> 1 | O34: =M34/N34 -> 97
B35: Becky Shelford | C35: LOC | D35: W21 | E35: 95 | M35: =IFERROR(LARGE($E35:$L35,1),0)+IFERROR(LARGE($E35:$L35,2),0)+IFERROR(LARGE($E35:$L35,3),0)+IFERROR(LARGE($E35:$L35,4),0)+IFERROR(LARGE($E35:$L35,5),0) -> 95 | N35: =IF(COUNT(E35:L35)>5,5,COUNT(E35:L35)) -> 1 | O35: =M35/N35 -> 95
B36: Hilary Eastley | C36: BL | D36: W65 | E36: 94 | M36: =IFERROR(LARGE($E36:$L36,1),0)+IFERROR(LARGE($E36:$L36,2),0)+IFERROR(LARGE($E36:$L36,3),0)+IFERROR(LARGE($E36:$L36,4),0)+IFERROR(LARGE($E36:$L36,5),0) -> 94 | N36: =IF(COUNT(E36:L36)>5,5,COUNT(E36:L36)) -> 1 | O36: =M36/N36 -> 94
B37: Paul Tickner | C37: WCOC | D37: M65 | F37: 93 | M37: =IFERROR(LARGE($E37:$L37,1),0)+IFERROR(LARGE($E37:$L37,2),0)+IFERROR(LARGE($E37:$L37,3),0)+IFERROR(LARGE($E37:$L37,4),0)+IFERROR(LARGE($E37:$L37,5),0) -> 93 | N37: =IF(COUNT(E37:L37)>5,5,COUNT(E37:L37)) -> 1 | O37: =M37/N37 -> 93
B38: Sheila Hobson | C38: LOC | D38: W65 | H38: 93 | M38: =IFERROR(LARGE($E38:$L38,1),0)+IFERROR(LARGE($E38:$L38,2),0)+IFERROR(LARGE($E38:$L38,3),0)+IFERROR(LARGE($E38:$L38,4),0)+IFERROR(LARGE($E38:$L38,5),0) -> 93 | N38: =IF(COUNT(E38:L38)>5,5,COUNT(E38:L38)) -> 1 | O38: =M38/N38 -> 93
B39: Isobel Williamson | C39: LOC | D39: W70 | K39: 93 | M39: =IFERROR(LARGE($E39:$L39,1),0)+IFERROR(LARGE($E39:$L39,2),0)+IFERROR(LARGE($E39:$L39,3),0)+IFERROR(LARGE($E39:$L39,4),0)+IFERROR(LARGE($E39:$L39,5),0) -> 93 | N39: =IF(COUNT(E39:L39)>5,5,COUNT(E39:L39)) -> 1 | O39: =M39/N39 -> 93
B40: Heather Prince | C40: BL | D40: W60 | E40: 93 | M40: =IFERROR(LARGE($E40:$L40,1),0)+IFERROR(LARGE($E40:$L40,2),0)+IFERROR(LARGE($E40:$L40,3),0)+IFERROR(LARGE($E40:$L40,4),0)+IFERROR(LARGE($E40:$L40,5),0) -> 93 | N40: =IF(COUNT(E40:L40)>5,5,COUNT(E40:L40)) -> 1 | O40: =M40/N40 -> 93
...

Sheet Green
B1: Green | E1: =Yellow!E2 -> Penrith Beacon (BL) | F1: =Yellow!F2 -> Loughrigg (LOC) | G1: =Yellow!G2 -> Lank Rigg (WCOC) | H1: =Yellow!H2 -> Ling Fell (WCOC) | I1: =Yellow!I2 -> Harter Fell (LOC) | J1: =Yellow!J2 -> Faulds Brow (BL) | K1: =Yellow!K2 -> Latrigg & Greta Gorge (WCOC) | L1: =Yellow!L2 -> 0 | M1: Galoppen Score | N1: Number of Counting Scores | O1: Average of Counting Scores
B2: Name | C2: Club | D2: Age Class | M2: Galoppen Score
B3: Sophie Crawford | C3: WCOC | D3: W14 | E3: 93 | F3: 93 | G3: 95 | J3: 95 | K3: 97 | M3: =IFERROR(LARGE($E3:$L3,1),0)+IFERROR(LARGE($E3:$L3,2),0)+IFERROR(LARGE($E3:$L3,3),0)+IFERROR(LARGE($E3:$L3,4),0)+IFERROR(LARGE($E3:$L3,5),0) -> 473 | N3: =IF(COUNT(E3:L3)>5,5,COUNT(E3:L3)) -> 5 | O3: =M3/N3 -> 94.6
B4: Roger Thomas | C4: WCOC | D4: M60 | E4: 92 | F4: 96 | H4: 96 | J4: 90 | K4: 92 | M4: =IFERROR(LARGE($E4:$L4,1),0)+IFERROR(LARGE($E4:$L4,2),0)+IFERROR(LARGE($E4:$L4,3),0)+IFERROR(LARGE($E4:$L4,4),0)+IFERROR(LARGE($E4:$L4,5),0) -> 466 | N4: =IF(COUNT(E4:L4)>5,5,COUNT(E4:L4)) -> 5 | O4: =M4/N4 -> 93.2
B5: Ian Teasdale | C5: WCOC | D5: M60 | E5: 89 | G5: 90 | H5: 92 | I5: 87 | J5: 85 | K5: 84 | M5: =IFERROR(LARGE($E5:$L5,1),0)+IFERROR(LARGE($E5:$L5,2),0)+IFERROR(LARGE($E5:$L5,3),0)+IFERROR(LARGE($E5:$L5,4),0)+IFERROR(LARGE($E5:$L5,5),0) -> 443 | N5: =IF(COUNT(E5:L5)>5,5,COUNT(E5:L5)) -> 5 | O5: =M5/N5 -> 88.6
B6: Anne Burbidge | C6: WCOC | D6: W60 | E6: 62 | F6: 84 | G6: 91 | H6: 88 | I6: 92 | J6: 75 | K6: 81 | M6: =IFERROR(LARGE($E6:$L6,1),0)+IFERROR(LARGE($E6:$L6,2),0)+IFERROR(LARGE($E6:$L6,3),0)+IFERROR(LARGE($E6:$L6,4),0)+IFERROR(LARGE($E6:$L6,5),0) -> 436 | N6: =IF(COUNT(E6:L6)>5,5,COUNT(E6:L6)) -> 5 | O6: =M6/N6 -> 87.2
B7: Eva Humphreys | C7: WCOC | D7: W16 | F7: 87 | G7: 82 | H7: 86 | I7: 79 | J7: 83 | K7: 96 | M7: =IFERROR(LARGE($E7:$L7,1),0)+IFERROR(LARGE($E7:$L7,2),0)+IFERROR(LARGE($E7:$L7,3),0)+IFERROR(LARGE($E7:$L7,4),0)+IFERROR(LARGE($E7:$L7,5),0) -> 434 | N7: =IF(COUNT(E7:L7)>5,5,COUNT(E7:L7)) -> 5 | O7: =M7/N7 -> 86.8
B8: Eleanor Osborne | C8: LOC | D8: W45 | G8: 92 | H8: 97 | I8: 78 | J8: 78 | K8: 86 | M8: =IFERROR(LARGE($E8:$L8,1),0)+IFERROR(LARGE($E8:$L8,2),0)+IFERROR(LARGE($E8:$L8,3),0)+IFERROR(LARGE($E8:$L8,4),0)+IFERROR(LARGE($E8:$L8,5),0) -> 431 | N8: =IF(COUNT(E8:L8)>5,5,COUNT(E8:L8)) -> 5 | O8: =M8/N8 -> 86.2
B9: Sally Heppell | C9: WCOC | D9: W45 | E9: 80 | F9: 83 | G9: 84 | H9: 91 | J9: 80 | M9: =IFERROR(LARGE($E9:$L9,1),0)+IFERROR(LARGE($E9:$L9,2),0)+IFERROR(LARGE($E9:$L9,3),0)+IFERROR(LARGE($E9:$L9,4),0)+IFERROR(LARGE($E9:$L9,5),0) -> 418 | N9: =IF(COUNT(E9:L9)>5,5,COUNT(E9:L9)) -> 5 | O9: =M9/N9 -> 83.6
B10: Carl Humphreys | C10: WCOC | D10: M40 | F10: 76 | G10: 80 | H10: 84 | J10: 84 | K10: 85 | M10: =IFERROR(LARGE($E10:$L10,1),0)+IFERROR(LARGE($E10:$L10,2),0)+IFERROR(LARGE($E10:$L10,3),0)+IFERROR(LARGE($E10:$L10,4),0)+IFERROR(LARGE($E10:$L10,5),0) -> 409 | N10: =IF(COUNT(E10:L10)>5,5,COUNT(E10:L10)) -> 5 | O10: =M10/N10 -> 81.8
B11: Tony Duncan | C11: WCOC | D11: M75 | E11: 82 | F11: 75 | G11: 88 | H11: 77 | J11: 77 | K11: 72 | M11: =IFERROR(LARGE($E11:$L11,1),0)+IFERROR(LARGE($E11:$L11,2),0)+IFERROR(LARGE($E11:$L11,3),0)+IFERROR(LARGE($E11:$L11,4),0)+IFERROR(LARGE($E11:$L11,5),0) -> 399 | N11: =IF(COUNT(E11:L11)>5,5,COUNT(E11:L11)) -> 5 | O11: =M11/N11 -> 79.8
B12: Toby Heppell | C12: WCOC | D12: M14 | E12: 97 | G12: 96 | H12: 98 | J12: 99 | M12: =IFERROR(LARGE($E12:$L12,1),0)+IFERROR(LARGE($E12:$L12,2),0)+IFERROR(LARGE($E12:$L12,3),0)+IFERROR(LARGE($E12:$L12,4),0)+IFERROR(LARGE($E12:$L12,5),0) -> 390 | N12: =IF(COUNT(E12:L12)>5,5,COUNT(E12:L12)) -> 4 | O12: =M12/N12 -> 97.5
B13: Roger Jackson | C13: WCOC | D13: M75 | G13: 85 | H13: 93 | J13: 79 | K13: 89 | M13: =IFERROR(LARGE($E13:$L13,1),0)+IFERROR(LARGE($E13:$L13,2),0)+IFERROR(LARGE($E13:$L13,3),0)+IFERROR(LARGE($E13:$L13,4),0)+IFERROR(LARGE($E13:$L13,5),0) -> 346 | N13: =IF(COUNT(E13:L13)>5,5,COUNT(E13:L13)) -> 4 | O13: =M13/N13 -> 86.5
B14: Alex Crawford | C14: WCOC | D14: W50 | E14: 77 | G14: 87 | H14: 85 | K14: 73 | M14: =IFERROR(LARGE($E14:$L14,1),0)+IFERROR(LARGE($E14:$L14,2),0)+IFERROR(LARGE($E14:$L14,3),0)+IFERROR(LARGE($E14:$L14,4),0)+IFERROR(LARGE($E14:$L14,5),0) -> 322 | N14: =IF(COUNT(E14:L14)>5,5,COUNT(E14:L14)) -> 4 | O14: =M14/N14 -> 80.5
B15: Deborah Goodwin | C15: WCOC | D15: W60 | G15: 79 | I15: 88 | J15: 72 | K15: 76 | M15: =IFERROR(LARGE($E15:$L15,1),0)+IFERROR(LARGE($E15:$L15,2),0)+IFERROR(LARGE($E15:$L15,3),0)+IFERROR(LARGE($E15:$L15,4),0)+IFERROR(LARGE($E15:$L15,5),0) -> 315 | N15: =IF(COUNT(E15:L15)>5,5,COUNT(E15:L15)) -> 4 | O15: =M15/N15 -> 78.75
B16: Kathryn Savage | C16: LOC | D16: W45 | F16: 71 | H16: 83 | I16: 77 | J16: 82 | M16: =IFERROR(LARGE($E16:$L16,1),0)+IFERROR(LARGE($E16:$L16,2),0)+IFERROR(LARGE($E16:$L16,3),0)+IFERROR(LARGE($E16:$L16,4),0)+IFERROR(LARGE($E16:$L16,5),0) -> 313 | N16: =IF(COUNT(E16:L16)>5,5,COUNT(E16:L16)) -> 4 | O16: =M16/N16 -> 78.25
B17: Sam Osborne | C17: LOC | D17: M14 | G17: 97 | J17: 97 | K17: 99 | M17: =IFERROR(LARGE($E17:$L17,1),0)+IFERROR(LARGE($E17:$L17,2),0)+IFERROR(LARGE($E17:$L17,3),0)+IFERROR(LARGE($E17:$L17,4),0)+IFERROR(LARGE($E17:$L17,5),0) -> 293 | N17: =IF(COUNT(E17:L17)>5,5,COUNT(E17:L17)) -> 3 | O17: =M17/N17 -> 97.666667
B18: Richard Evans | C18: BL | D18: M65 | E18: 65 | F18: 70 | H18: 80 | J18: 70 | M18: =IFERROR(LARGE($E18:$L18,1),0)+IFERROR(LARGE($E18:$L18,2),0)+IFERROR(LARGE($E18:$L18,3),0)+IFERROR(LARGE($E18:$L18,4),0)+IFERROR(LARGE($E18:$L18,5),0) -> 285 | N18: =IF(COUNT(E18:L18)>5,5,COUNT(E18:L18)) -> 4 | O18: =M18/N18 -> 71.25
B19: Stella Lewsley | C19: BL | D19: W65 | E19: 99 | J19: 94 | K19: 91 | M19: =IFERROR(LARGE($E19:$L19,1),0)+IFERROR(LARGE($E19:$L19,2),0)+IFERROR(LARGE($E19:$L19,3),0)+IFERROR(LARGE($E19:$L19,4),0)+IFERROR(LARGE($E19:$L19,5),0) -> 284 | N19: =IF(COUNT(E19:L19)>5,5,COUNT(E19:L19)) -> 3 | O19: =M19/N19 -> 94.666667
B20: Jenny Wren | C20: BL | D20: W70 | E20: 69 | F20: 72 | H20: 76 | J20: 63 | M20: =IFERROR(LARGE($E20:$L20,1),0)+IFERROR(LARGE($E20:$L20,2),0)+IFERROR(LARGE($E20:$L20,3),0)+IFERROR(LARGE($E20:$L20,4),0)+IFERROR(LARGE($E20:$L20,5),0) -> 280 | N20: =IF(COUNT(E20:L20)>5,5,COUNT(E20:L20)) -> 4 | O20: =M20/N20 -> 70
B21: Graham Capper | C21: LOC | D21: M60 | F21: 95 | J21: 92 | K21: 90 | M21: =IFERROR(LARGE($E21:$L21,1),0)+IFERROR(LARGE($E21:$L21,2),0)+IFERROR(LARGE($E21:$L21,3),0)+IFERROR(LARGE($E21:$L21,4),0)+IFERROR(LARGE($E21:$L21,5),0) -> 277 | N21: =IF(COUNT(E21:L21)>5,5,COUNT(E21:L21)) -> 3 | O21: =M21/N21 -> 92.333333
B22: Mike Cumpstey | C22: BL | D22: M75 | E22: 60 | H22: 75 | J22: 67 | K22: 75 | M22: =IFERROR(LARGE($E22:$L22,1),0)+IFERROR(LARGE($E22:$L22,2),0)+IFERROR(LARGE($E22:$L22,3),0)+IFERROR(LARGE($E22:$L22,4),0)+IFERROR(LARGE($E22:$L22,5),0) -> 277 | N22: =IF(COUNT(E22:L22)>5,5,COUNT(E22:L22)) -> 4 | O22: =M22/N22 -> 69.25
B23: Richard Cummings | C23: WCOC | D23: M60 | E23: 90 | I23: 98 | J23: 87 | M23: =IFERROR(LARGE($E23:$L23,1),0)+IFERROR(LARGE($E23:$L23,2),0)+IFERROR(LARGE($E23:$L23,3),0)+IFERROR(LARGE($E23:$L23,4),0)+IFERROR(LARGE($E23:$L23,5),0) -> 275 | N23: =IF(COUNT(E23:L23)>5,5,COUNT(E23:L23)) -> 3 | O23: =M23/N23 -> 91.666667
B24: Susan Skinner | C24: WCOC | D24: W55 | E24: 95 | F24: 90 | H24: 87 | M24: =IFERROR(LARGE($E24:$L24,1),0)+IFERROR(LARGE($E24:$L24,2),0)+IFERROR(LARGE($E24:$L24,3),0)+IFERROR(LARGE($E24:$L24,4),0)+IFERROR(LARGE($E24:$L24,5),0) -> 272 | N24: =IF(COUNT(E24:L24)>5,5,COUNT(E24:L24)) -> 3 | O24: =M24/N24 -> 90.666667
B25: Lynne Thomas | C25: WCOC | D25: W50 | E25: 88 | J25: 93 | K25: 88 | M25: =IFERROR(LARGE($E25:$L25,1),0)+IFERROR(LARGE($E25:$L25,2),0)+IFERROR(LARGE($E25:$L25,3),0)+IFERROR(LARGE($E25:$L25,4),0)+IFERROR(LARGE($E25:$L25,5),0) -> 269 | N25: =IF(COUNT(E25:L25)>5,5,COUNT(E25:L25)) -> 3 | O25: =M25/N25 -> 89.666667
B26: Cliff Etherden | C26: LOC | D26: M70 | E26: 98 | J26: 91 | K26: 80 | M26: =IFERROR(LARGE($E26:$L26,1),0)+IFERROR(LARGE($E26:$L26,2),0)+IFERROR(LARGE($E26:$L26,3),0)+IFERROR(LARGE($E26:$L26,4),0)+IFERROR(LARGE($E26:$L26,5),0) -> 269 | N26: =IF(COUNT(E26:L26)>5,5,COUNT(E26:L26)) -> 3 | O26: =M26/N26 -> 89.666667
B27: Raymond Wren | C27: BL | D27: M75 | F27: 92 | H27: 81 | K27: 93 | M27: =IFERROR(LARGE($E27:$L27,1),0)+IFERROR(LARGE($E27:$L27,2),0)+IFERROR(LARGE($E27:$L27,3),0)+IFERROR(LARGE($E27:$L27,4),0)+IFERROR(LARGE($E27:$L27,5),0) -> 266 | N27: =IF(COUNT(E27:L27)>5,5,COUNT(E27:L27)) -> 3 | O27: =M27/N27 -> 88.666667
B28: Margaret Mackenzie | C28: WCOC | D28: W60 | G28: 89 | H28: 90 | J28: 86 | M28: =IFERROR(LARGE($E28:$L28,1),0)+IFERROR(LARGE($E28:$L28,2),0)+IFERROR(LARGE($E28:$L28,3),0)+IFERROR(LARGE($E28:$L28,4),0)+IFERROR(LARGE($E28:$L28,5),0) -> 265 | N28: =IF(COUNT(E28:L28)>5,5,COUNT(E28:L28)) -> 3 | O28: =M28/N28 -> 88.333333
B29: Louise Dunn | C29: LOC | D29: W60 | E29: 94 | F29: 78 | J29: 88 | M29: =IFERROR(LARGE($E29:$L29,1),0)+IFERROR(LARGE($E29:$L29,2),0)+IFERROR(LARGE($E29:$L29,3),0)+IFERROR(LARGE($E29:$L29,4),0)+IFERROR(LARGE($E29:$L29,5),0) -> 260 | N29: =IF(COUNT(E29:L29)>5,5,COUNT(E29:L29)) -> 3 | O29: =M29/N29 -> 86.666667
B30: Richard Bartlett | C30: LOC | D30: M65 | F30: 69 | I30: 82 | K30: 70 | M30: =IFERROR(LARGE($E30:$L30,1),0)+IFERROR(LARGE($E30:$L30,2),0)+IFERROR(LARGE($E30:$L30,3),0)+IFERROR(LARGE($E30:$L30,4),0)+IFERROR(LARGE($E30:$L30,5),0) -> 221 | N30: =IF(COUNT(E30:L30)>5,5,COUNT(E30:L30)) -> 3 | O30: =M30/N30 -> 73.666667
B31: John Nash | C31: LOC | D31: M70 | E31: 66 | F31: 77 | K31: 71 | M31: =IFERROR(LARGE($E31:$L31,1),0)+IFERROR(LARGE($E31:$L31,2),0)+IFERROR(LARGE($E31:$L31,3),0)+IFERROR(LARGE($E31:$L31,4),0)+IFERROR(LARGE($E31:$L31,5),0) -> 214 | N31: =IF(COUNT(E31:L31)>5,5,COUNT(E31:L31)) -> 3 | O31: =M31/N31 -> 71.333333
B32: Philip Nichols | C32: BL | D32: M65 | E32: 71 | F32: 74 | J32: 68 | M32: =IFERROR(LARGE($E32:$L32,1),0)+IFERROR(LARGE($E32:$L32,2),0)+IFERROR(LARGE($E32:$L32,3),0)+IFERROR(LARGE($E32:$L32,4),0)+IFERROR(LARGE($E32:$L32,5),0) -> 213 | N32: =IF(COUNT(E32:L32)>5,5,COUNT(E32:L32)) -> 3 | O32: =M32/N32 -> 71
B33: Tom Barkas | C33: LOC | D33: M70 | E33: 74 | F33: 65 | J33: 60 | M33: =IFERROR(LARGE($E33:$L33,1),0)+IFERROR(LARGE($E33:$L33,2),0)+IFERROR(LARGE($E33:$L33,3),0)+IFERROR(LARGE($E33:$L33,4),0)+IFERROR(LARGE($E33:$L33,5),0) -> 199 | N33: =IF(COUNT(E33:L33)>5,5,COUNT(E33:L33)) -> 3 | O33: =M33/N33 -> 66.333333
B34: Danny Winterbottom | C34: WCOC | D34: M16 | H34: 99 | J34: 96 | M34: =IFERROR(LARGE($E34:$L34,1),0)+IFERROR(LARGE($E34:$L34,2),0)+IFERROR(LARGE($E34:$L34,3),0)+IFERROR(LARGE($E34:$L34,4),0)+IFERROR(LARGE($E34:$L34,5),0) -> 195 | N34: =IF(COUNT(E34:L34)>5,5,COUNT(E34:L34)) -> 2 | O34: =M34/N34 -> 97.5
B35: Richard Tiley | C35: LOC | D35: M60 | F35: 97 | H35: 95 | M35: =IFERROR(LARGE($E35:$L35,1),0)+IFERROR(LARGE($E35:$L35,2),0)+IFERROR(LARGE($E35:$L35,3),0)+IFERROR(LARGE($E35:$L35,4),0)+IFERROR(LARGE($E35:$L35,5),0) -> 192 | N35: =IF(COUNT(E35:L35)>5,5,COUNT(E35:L35)) -> 2 | O35: =M35/N35 -> 96
B36: Amelia Thompson | C36: LOC | D36: W16 | G36: 94 | I36: 97 | M36: =IFERROR(LARGE($E36:$L36,1),0)+IFERROR(LARGE($E36:$L36,2),0)+IFERROR(LARGE($E36:$L36,3),0)+IFERROR(LARGE($E36:$L36,4),0)+IFERROR(LARGE($E36:$L36,5),0) -> 191 | N36: =IF(COUNT(E36:L36)>5,5,COUNT(E36:L36)) -> 2 | O36: =M36/N36 -> 95.5
B37: Julia Laverack | C37: WAROC | D37: W60 | I37: 89 | K37: 98 | M37: =IFERROR(LARGE($E37:$L37,1),0)+IFERROR(LARGE($E37:$L37,2),0)+IFERROR(LARGE($E37:$L37,3),0)+IFERROR(LARGE($E37:$L37,4),0)+IFERROR(LARGE($E37:$L37,5),0) -> 187 | N37: =IF(COUNT(E37:L37)>5,5,COUNT(E37:L37)) -> 2 | O37: =M37/N37 -> 93.5
B38: Derek Allison | C38: LOC | D38: M65 | F38: 86 | I38: 96 | M38: =IFERROR(LARGE($E38:$L38,1),0)+IFERROR(LARGE($E38:$L38,2),0)+IFERROR(LARGE($E38:$L38,3),0)+IFERROR(LARGE($E38:$L38,4),0)+IFERROR(LARGE($E38:$L38,5),0) -> 182 | N38: =IF(COUNT(E38:L38)>5,5,COUNT(E38:L38)) -> 2 | O38: =M38/N38 -> 91
B39: Robin Thomas | C39: BL | D39: M70 | E39: 91 | F39: 91 | M39: =IFERROR(LARGE($E39:$L39,1),0)+IFERROR(LARGE($E39:$L39,2),0)+IFERROR(LARGE($E39:$L39,3),0)+IFERROR(LARGE($E39:$L39,4),0)+IFERROR(LARGE($E39:$L39,5),0) -> 182 | N39: =IF(COUNT(E39:L39)>5,5,COUNT(E39:L39)) -> 2 | O39: =M39/N39 -> 91
B40: Ann Cummings | C40: WCOC | D40: W60 | E40: 86 | I40: 94 | M40: =IFERROR(LARGE($E40:$L40,1),0)+IFERROR(LARGE($E40:$L40,2),0)+IFERROR(LARGE($E40:$L40,3),0)+IFERROR(LARGE($E40:$L40,4),0)+IFERROR(LARGE($E40:$L40,5),0) -> 180 | N40: =IF(COUNT(E40:L40)>5,5,COUNT(E40:L40)) -> 2 | O40: =M40/N40 -> 90
...

Sheet Blue
B1: Blue | E1: =Green!E1 -> Penrith Beacon (BL) | F1: =Green!F1 -> Loughrigg (LOC) | G1: =Green!G1 -> Lank Rigg (WCOC) | H1: =Green!H1 -> Ling Fell (WCOC) | I1: =Green!I1 -> Harter Fell (LOC) | J1: =Green!J1 -> Faulds Brow (BL) | K1: =Green!K1 -> Latrigg & Greta Gorge (WCOC) | L1: =Green!L1 -> 0 | M1: Galoppen Score | N1: Number of Counting Scores | O1: Average of Counting Scores
B2: Name | C2: Club | D2: Age Class | M2: Galoppen Score
B3: Daniel Heppell | C3: WCOC | D3: M16 | E3: 99 | F3: 99 | G3: 99 | H3: 99 | J3: 99 | M3: =IFERROR(LARGE($E3:$L3,1),0)+IFERROR(LARGE($E3:$L3,2),0)+IFERROR(LARGE($E3:$L3,3),0)+IFERROR(LARGE($E3:$L3,4),0)+IFERROR(LARGE($E3:$L3,5),0) -> 495 | N3: =IF(COUNT(E3:L3)>5,5,COUNT(E3:L3)) -> 5 | O3: =M3/N3 -> 99
B4: Alan Irving | C4: WCOC | D4: M55 | E4: 97 | F4: 95 | H4: 93 | I4: 97 | K4: 97 | M4: =IFERROR(LARGE($E4:$L4,1),0)+IFERROR(LARGE($E4:$L4,2),0)+IFERROR(LARGE($E4:$L4,3),0)+IFERROR(LARGE($E4:$L4,4),0)+IFERROR(LARGE($E4:$L4,5),0) -> 479 | N4: =IF(COUNT(E4:L4)>5,5,COUNT(E4:L4)) -> 5 | O4: =M4/N4 -> 95.8
B5: James Birkinshaw | C5: WCOC | D5: M20 | E5: 95 | F5: 94 | H5: 96 | J5: 94 | K5: 99 | M5: =IFERROR(LARGE($E5:$L5,1),0)+IFERROR(LARGE($E5:$L5,2),0)+IFERROR(LARGE($E5:$L5,3),0)+IFERROR(LARGE($E5:$L5,4),0)+IFERROR(LARGE($E5:$L5,5),0) -> 478 | N5: =IF(COUNT(E5:L5)>5,5,COUNT(E5:L5)) -> 5 | O5: =M5/N5 -> 95.6
B6: Owain Rice | C6: BL | D6: M21 | E6: 96 | F6: 90 | G6: 95 | H6: 90 | I6: 90 | J6: 87 | K6: 91 | M6: =IFERROR(LARGE($E6:$L6,1),0)+IFERROR(LARGE($E6:$L6,2),0)+IFERROR(LARGE($E6:$L6,3),0)+IFERROR(LARGE($E6:$L6,4),0)+IFERROR(LARGE($E6:$L6,5),0) -> 462 | N6: =IF(COUNT(E6:L6)>5,5,COUNT(E6:L6)) -> 5 | O6: =M6/N6 -> 92.4
B7: Emma Crawford | C7: WCOC | D7: W18 | F7: 87 | G7: 85 | H7: 91 | J7: 85 | K7: 96 | M7: =IFERROR(LARGE($E7:$L7,1),0)+IFERROR(LARGE($E7:$L7,2),0)+IFERROR(LARGE($E7:$L7,3),0)+IFERROR(LARGE($E7:$L7,4),0)+IFERROR(LARGE($E7:$L7,5),0) -> 444 | N7: =IF(COUNT(E7:L7)>5,5,COUNT(E7:L7)) -> 5 | O7: =M7/N7 -> 88.8
B8: Stuart Crawford | C8: WCOC | D8: M50 | E8: 84 | F8: 80 | G8: 91 | J8: 76 | K8: 93 | M8: =IFERROR(LARGE($E8:$L8,1),0)+IFERROR(LARGE($E8:$L8,2),0)+IFERROR(LARGE($E8:$L8,3),0)+IFERROR(LARGE($E8:$L8,4),0)+IFERROR(LARGE($E8:$L8,5),0) -> 424 | N8: =IF(COUNT(E8:L8)>5,5,COUNT(E8:L8)) -> 5 | O8: =M8/N8 -> 84.8
B9: Steve Holmes | C9: WCOC | D9: M50 | F9: 96 | G9: 97 | H9: 95 | J9: 97 | M9: =IFERROR(LARGE($E9:$L9,1),0)+IFERROR(LARGE($E9:$L9,2),0)+IFERROR(LARGE($E9:$L9,3),0)+IFERROR(LARGE($E9:$L9,4),0)+IFERROR(LARGE($E9:$L9,5),0) -> 385 | N9: =IF(COUNT(E9:L9)>5,5,COUNT(E9:L9)) -> 4 | O9: =M9/N9 -> 96.25
B10: Isaac Hunter | C10: WCOC | D10: M16 | E10: 98 | F10: 97 | J10: 90 | K10: 92 | M10: =IFERROR(LARGE($E10:$L10,1),0)+IFERROR(LARGE($E10:$L10,2),0)+IFERROR(LARGE($E10:$L10,3),0)+IFERROR(LARGE($E10:$L10,4),0)+IFERROR(LARGE($E10:$L10,5),0) -> 377 | N10: =IF(COUNT(E10:L10)>5,5,COUNT(E10:L10)) -> 4 | O10: =M10/N10 -> 94.25
B11: Isabel Berry | C11: BL | D11: W40 | E11: 86 | F11: 82 | G11: 88 | J11: 89 | M11: =IFERROR(LARGE($E11:$L11,1),0)+IFERROR(LARGE($E11:$L11,2),0)+IFERROR(LARGE($E11:$L11,3),0)+IFERROR(LARGE($E11:$L11,4),0)+IFERROR(LARGE($E11:$L11,5),0) -> 345 | N11: =IF(COUNT(E11:L11)>5,5,COUNT(E11:L11)) -> 4 | O11: =M11/N11 -> 86.25
B12: Ange Jackson | C12: WCOC | D12: W45 | E12: 85 | F12: 72 | H12: 87 | K12: 87 | M12: =IFERROR(LARGE($E12:$L12,1),0)+IFERROR(LARGE($E12:$L12,2),0)+IFERROR(LARGE($E12:$L12,3),0)+IFERROR(LARGE($E12:$L12,4),0)+IFERROR(LARGE($E12:$L12,5),0) -> 331 | N12: =IF(COUNT(E12:L12)>5,5,COUNT(E12:L12)) -> 4 | O12: =M12/N12 -> 82.75
