Workbook

Sheet Penrith Beacon (BL)
B2: Results for BL Penrith Beacon 15 Jan 2022
C4: BROWN
C5: Name | D5: Club | E5: Gender | F5: Year of Birth | G5: Time | H5: Galoppen Score
B6: 1 | C6: Shane Ohly | D6: WAROC | E6: M45 | G6: 2.7666667 | H6: 99
B7: 2 | C7: Charlie Rennie | D7: WCOC | E7: M20 | G7: 2.8395833 | H7: =MIN(H6:H$6)-1 -> 98
B8: 3 | C8: Jamie Rennie | D8: WCOC | E8: M50 | G8: 2.8868056 | H8: =MIN(H$6:H7)-1 -> 97
B9: 4 | C9: Graham Patten | D9: WAROC | E9: M60 | G9: 2.9118056 | H9: =MIN(H$6:H8)-1 -> 96
B10: 5 | C10: Simon Hunter | D10: WCOC | E10: M50 | G10: 3.1104167 | H10: =MIN(H$6:H9)-1 -> 95
B11: 6 | C11: Steve Birkinshaw | D11: WCOC | E11: M50 | G11: 3.1361111 | H11: =MIN(H$6:H10)-1 -> 94
B12: 7 | C12: Chris Naylor | D12: WCOC | E12: M35 | G12: 3.3291667 | H12: =MIN(H$6:H11)-1 -> 93
B13: 8 | C13: Jack Eyre | D13: BL | E13: M21 | G13: 3.33125 | H13: =MIN(H$6:H12)-1 -> 92
B14: 9 | C14: Ian Cumpstey | D14: BL | E14: M45 | G14: 3.4125 | H14: =MIN(H$6:H13)-1 -> 91
B15: 10 | C15: James Chapman | D15: BL | E15: M35 | G15: 3.4409722 | H15: =MIN(H$6:H14)-1 -> 90
B16: 11 | C16: Dan Parker | D16: BL | E16: M60 | G16: 3.4916667 | H16: =MIN(H$6:H15)-1 -> 89
B17: 12 | C17: Tom Matthew | D17: SROC | E17: M50 | G17: 3.5194444 | H17: =MIN(H$6:H16)-1 -> 88
B18: 13 | C18: Mike Harrison | D18: WCOC | E18: M50 | G18: 3.5354167 | H18: =MIN(H$6:H17)-1 -> 87
B19: 14 | C19: Sam Gibbs | D19: WAROC | E19: M45 | G19: 3.6770833 | H19: =MIN(H$6:H18)-1 -> 86
... B28: 23 | C28: Toby Johnson | D28: LOC | E28: M45 | G28: 6.0270833 | H28: =MIN(H$6:H27)-1 -> 77
H29: =MIN(H$6:H28)-1 -> 76
B30: 25 | H30: =MIN(H$6:H29)-1 -> 75
B31: -
B32: -
B33: -
C36: BLUE
C37: Name | D37: Club | E37: Gender | F37: Year of Birth | G37: Time | H37: Galoppen Score
B38: 1 | C38: Daniel Heppell | D38: WCOC | E38: M16 | G38: 2.2729167 | H38: 99
B39: 2 | C39: Isaac Hunter | D39: WCOC | E39: M16 | G39: 2.5534722 | H39: =MIN(H38:H$38)-1 -> 98
B40: 3 | C40: Alan Irving | D40: WCOC | E40: M55 | G40: 2.6513889 | H40: =MIN(H$38:H39)-1 -> 97
B41: 4 | C41: Owain Rice | D41: BL | E41: M21 | G41: 2.7895833 | H41: =MIN(H$38:H40)-1 -> 96
B42: 5 | C42: James Birkinshaw | D42: WCOC | E42: M20 | G42: 2.8409722 | H42: =MIN(H$38:H41)-1 -> 95
B43: 6 | C43: Howard Leslie | D43: WCOC | E43: M60 | G43: 3.1513889 | H43: =MIN(H$38:H42)-1 -> 94
B44: 7 | C44: Christine Goulding | D44: BL | E44: W55 | G44: 3.1854167 | H44: =MIN(H$38:H43)-1 -> 93
B45: 8 | C45: Danny Winterbottom | D45: WCOC | E45: M16 | G45: 3.2229167 | H45: =MIN(H$38:H44)-1 -> 92
B46: 9 | C46: Martin Skinner | D46: WCOC | E46: M55 | G46: 3.2375 | H46: =MIN(H$38:H45)-1 -> 91
B47: 10 | C47: Colin Valentine | D47: WCOC | E47: M60 | G47: 3.2527778 | H47: =MIN(H$38:H46)-1 -> 90
B48: 11 | C48: Andy Lewsley | D48: BL | E48: M65 | G48: 3.38125 | H48: =MIN(H$38:H47)-1 -> 89
B49: 12 | C49: Thomas Rawle | D49: BL | E49: M18 | G49: 3.74375 | H49: =MIN(H$38:H48)-1 -> 88
B50: 13 | C50: Stephen Eastley | D50: BL | E50: M65 | G50: 3.7736111 | H50: =MIN(H$38:H49)-1 -> 87
B51: 14 | C51: Isabel Berry | D51: BL | E51: W40 | G51: 3.8541667 | H51: =MIN(H$38:H50)-1 -> 86
... B57: 20 | C57: Helen Rennie | D57: WCOC | E57: W45 | G57: 5.10625 | H57: =MIN(H$38:H56)-1 -> 80
B58: 21 | H58: =MIN(H$38:H57)-1 -> 79
B59: 22 | H59: =MIN(H$38:H58)-1 -> 78
B60: - | H60: =MIN(H$38:H59)-1 -> 77
B61: - | H61: =MIN(H$38:H60)-1 -> 76
C64: GREEN
C65: Name | D65: Club | E65: Gender | F65: Year of Birth | G65: Time | H65: Galoppen Score
C66: Stella Lewsley | D66: BL | E66: W65 | G66: 2.0326389 | H66: 99
C67: Cliff Etherden | D67: LOC | E67: M70 | G67: 2.1444444 | H67: =MIN(H66:H$66)-1 -> 98
C68: Toby Heppell | D68: WCOC | E68: M14 | G68: 2.1868056 | H68: =MIN(H$66:H67)-1 -> 97
C69: Jill Libby | D69: BL | E69: W65 | G69: 2.3055556 | H69: =MIN(H$66:H68)-1 -> 96
C70: Susan Skinner | D70: WCOC | E70: W55 | G70: 2.3291667 | H70: =MIN(H$66:H69)-1 -> 95
C71: Louise Dunn | D71: LOC | E71: W60 | G71: 2.3368056 | H71: =MIN(H$66:H70)-1 -> 94
C72: Sophie Crawford | D72: WCOC | E72: W14 | G72: 2.3569444 | H72: =MIN(H$66:H71)-1 -> 93
C73: Roger Thomas | D73: WCOC | E73: M60 | G73: 2.4354167 | H73: =MIN(H$66:H72)-1 -> 92
C74: Robin Thomas | D74: BL | E74: M70 | G74: 2.4923611 | H74: =MIN(H$66:H73)-1 -> 91
C75: Richard Cummings | D75: WCOC | E75: M60 | G75: 2.5819444 | H75: =MIN(H$66:H74)-1 -> 90
C76: Ian Teasdale | D76: WCOC | E76: M60 | G76: 2.5875 | H76: =MIN(H$66:H75)-1 -> 89
C77: Lynne Thomas | D77: WCOC | E77: W50 | G77: 2.6166667 | H77: =MIN(H$66:H76)-1 -> 88
C78: Norman French | D78: LOC | E78: M75 | G78: 2.6277778 | H78: =MIN(H$66:H77)-1 -> 87
C79: Ann Cummings | D79: WCOC | E79: W60 | G79: 2.6597222 | H79: =MIN(H$66:H78)-1 -> 86
... C108: Bethan Naylor | D108: WCOC | E108: W35 | G108: 3.8590278 | H108: =MIN(H$66:H107)-1 -> 57
H109: =MIN(H$66:H108)-1 -> 56
H110: =MIN(H$66:H109)-1 -> 55
H111: =MIN(H$66:H110)-1 -> 54
B112: -
B113: -
C116: SHORT GREEN
C117: Name | D117: Club | E117: Gender | F117: Year of Birth | G117: Time | H117: Galoppen Score
B118: 1 | C118: Janet Nash | D118: LOC | E118: W70 | G118: 2.5875 | H118: 99
B119: 2 | C119: Kim Leslie | D119: WCOC | E119: W55 | G119: 2.6881944 | H119: =MIN(H$118:H118)-1 -> 98
B120: 3 | C120: Chris Lates | D120: BL | E120: M80 | G120: 2.7569444 | H120: =MIN(H$118:H119)-1 -> 97
B121: 4 | C121: Gill Browne | D121: LOC | E121: W65 | G121: 2.8888889 | H121: =MIN(H$118:H120)-1 -> 96
B122: 5 | C122: Becky Shelford | D122: LOC | E122: W21 | G122: 2.9055556 | H122: =MIN(H$118:H121)-1 -> 95
B123: 6 | C123: Hilary Eastley | D123: BL | E123: W65 | G123: 2.9458333 | H123: =MIN(H$118:H122)-1 -> 94
B124: 7 | C124: Heather Prince | D124: BL | E124: W60 | G124: 2.9590278 | H124: =MIN(H$118:H123)-1 -> 93
B125: 8 | C125: Karen Blackburn | D125: BL | E125: W75 | G125: 3.1194444 | H125: =MIN(H$118:H124)-1 -> 92
B126: 9 | C126: Malcolm Ruckledge | D126: WCOC | E126: M75 | G126: 3.2256944 | H126: =MIN(H$118:H125)-1 -> 91
B127: 10 | C127: Joan Cumpstey | D127: BL | E127: W70 | G127: 3.2784722 | H127: =MIN(H$118:H126)-1 -> 90
B128: 11 | C128: Stanley Johnston | D128: LOC | E128: M85 | G128: 3.2902778 | H128: =MIN(H$118:H127)-1 -> 89
B129: 12 | C129: Janice Nichols | D129: BL | E129: W60 | G129: 3.3236111 | H129: =MIN(H$118:H128)-1 -> 88
B130: 13 | C130: Lesley Wornham | D130: WCOC | E130: W65 | G130: 3.3270833 | H130: =MIN(H$118:H129)-1 -> 87
... B143: 26 | C143: Richard Moss | D143: BL | E143: M80 | G143: 7.2229167 | H143: =MIN(H$118:H142)-1 -> 74
C148: LIGHT GREEN
C149: Name | D149: Club | E149: Gender | F149: Year of Birth | G149: Time | H149: Galoppen Score
B150: 1 | C150: Ash Boothroyd | D150: WCOC | E150: M14 | G150: 1.9666667 | H150: 99
B151: 2 | C151: George Rennie | D151: WCOC | E151: M14 | G151: 2.2097222 | H151: 98
B152: 3 | C152: Hannah Birkinshaw | D152: WCOC | E152: W14 | G152: 2.6930556 | H152: 97
B153: 4 | C153: Elizabeth Woodcock | D153: WCOC | E153: W45 | G153: 2.9125 | H153: 96
B154: -
C157: ORANGE
C158: Name | D158: Club | E158: Gender | F158: Year of Birth | G158: Time | H158: Galoppen Score
B159: 1 | C159: Tess Gibbs | D159: WAROC | E159: W12 | G159: 1.8506944 | H159: 99
B160: 2 | H160: 98
B161: 3 | H161: 97
B162: 4 | H162: 96
B163: 5 | H163: 95
B164: 6 | H164: 94
B165: 7 | H165: 93
B166: 8
B167: 9
...

Sheet Loughrigg (LOC)
B2: Results for Loughrigg 24 April 2022
B4: BROWN
B7: 12th | C7: Steve Birkinshaw | D7: WCOC | E7: M50 | F7: 2.6340278 | G7: 99
B8: 20th | C8: Jamie Rennie | D8: WCOC | E8: M50 | F8: 2.9291667 | G8: =MIN(G$6:G7)-1 -> 98
B9: 23rd | C9: Joe Hudd | D9: WCOC | E9: M20 | F9: 3.0347222 | G9: =MIN(G$6:G8)-1 -> 97
B10: 24th | C10: Jeff Powell Davies | D10: BL | E10: M40 | F10: 3.0423611 | G10: =MIN(G$6:G9)-1 -> 96
B11: 28th | C11: Simon Hunter | D11: WCOC | E11: M50 | F11: 3.1659722 | G11: =MIN(G$6:G10)-1 -> 95
B12: 32nd | C12: Ian Cumpstey | D12: BL | E12: M45 | F12: 3.2208333 | G12: =MIN(G$6:G11)-1 -> 94
B13: 38th | C13: Peter Scott | D13: LOC | E13: M18 | F13: 3.3138889 | G13: =MIN(G$6:G12)-1 -> 93
B14: 44th | C14: Matthew Horne | D14: LOC | E14: M20 | F14: 3.4895833 | G14: =MIN(G$6:G13)-1 -> 92
B15: 50th | C15: Mike Harrison | D15: WCOC | E15: M50 | F15: 3.6895833 | G15: =MIN(G$6:G14)-1 -> 91
B16: 51st | C16: Robert Smith | D16: LOC | E16: M55 | F16: 3.725 | G16: =MIN(G$6:G15)-1 -> 90
B17: 54th | C17: Steven Breeze | D17: WCOC | E17: M50 | F17: 3.8194444 | G17: =MIN(G$6:G16)-1 -> 89
B18: 59th | C18: Iain Smith-Ward | D18: LOC | E18: M50 | F18: 4.0111111 | G18: =MIN(G$6:G17)-1 -> 88
B19: 63rd | C19: Toby Johnson | D19: LOC | E19: M45 | F19: 4.4354167 | G19: =MIN(G$6:G18)-1 -> 87
B21: BLUE
B22: 1st | C22: Daniel Heppell | D22: WCOC | E22: M16 | F22: 2.0298611 | G22: 99
B23: 5th | C23: Keith Tonkin | D23: BL | E23: M60 | F23: 2.4243056 | G23: =MIN(G$22:G22)-1 -> 98
B24: 6th | C24: Isaac Hunter | D24: WCOC | E24: M16 | F24: 2.4625 | G24: =MIN(G$22:G23)-1 -> 97
B25: 7th | C25: Steve Holmes | D25: WCOC | E25: M50 | F25: 2.4770833 | G25: =MIN(G$22:G24)-1 -> 96
B26: 9th | C26: Alan Irving | D26: WCOC | E26: M55 | F26: 2.50625 | G26: =MIN(G$22:G25)-1 -> 95
B27: 10th | C27: James Birkinshaw | D27: WCOC | E27: M20 | F27: 2.5152778 | G27: =MIN(G$22:G26)-1 -> 94
B28: 12th | C28: Laura Brown | D28: LOC | E28: W18 | F28: 2.5493056 | G28: =MIN(G$22:G27)-1 -> 93
B29: 16th | C29: Karen Parker | D29: BL | E29: W55 | F29: 2.6076389 | G29: =MIN(G$22:G28)-1 -> 92
B30: 18th | C30: Wilfrid Teasdale | D30: WCOC | E30: M18 | F30: 2.6166667 | G30: =MIN(G$22:G29)-1 -> 91
B31: 20th | C31: Owain Rice | D31: BL | E31: M21 | F31: 2.6458333 | G31: =MIN(G$22:G30)-1 -> 90
B32: 22nd | C32: Martin Skinner | D32: WCOC | E32: M55 | F32: 2.6958333 | G32: =MIN(G$22:G31)-1 -> 89
B33: 31st | C33: Nicholas Evans | D33: WCOC | E33: M60 | F33: 2.84375 | G33: =MIN(G$22:G32)-1 -> 88
B34: 35th | C34: John Ferris-Worth | D34: BL | E34: M55 | F34: 2.8625 | G34: =MIN(G$22:G33)-1 -> 87
... B49: 83rd | C49: Ange Jackson | D49: WCOC | E49: W45 | F49: 3.7986111 | G49: =MIN(G$22:G48)-1 -> 72
B52: Green
B54: 6th | C54: Daisy Rennie | D54: WCOC | E54: W16 | F54: 1.9090278 | G54: 99
B55: 7th | C55: Natalie Hawkrigg | D55: BL | E55: W50 | F55: 1.9208333 | G55: =MIN(G$54:G54)-1 -> 98
B56: 12th | C56: Richard Tiley | D56: LOC | E56: M60 | F56: 2.1583333 | G56: =MIN(G$54:G55)-1 -> 97
B57: 15th | C57: Roger Thomas | D57: WCOC | E57: M60 | F57: 2.2263889 | G57: =MIN(G$54:G56)-1 -> 96
B58: 16th | C58: Graham Capper | D58: LOC | E58: M60 | F58: 2.24375 | G58: =MIN(G$54:G57)-1 -> 95
B59: 18th | C59: Anna Lister | D59: LOC | E59: W21 | F59: 2.2541667 | G59: =MIN(G$54:G58)-1 -> 94
B60: 22nd | C60: Sophie Crawford | D60: WCOC | E60: W14 | F60: 2.3555556 | G60: =MIN(G$54:G59)-1 -> 93
B61: 23rd | C61: Raymond Wren | D61: BL | E61: M75 | F61: 2.3916667 | G61: =MIN(G$54:G60)-1 -> 92
B62: 24th | C62: Robin Thomas | D62: BL | E62: M70 | F62: 2.4034722 | G62: =MIN(G$54:G61)-1 -> 91
B63: 25th | C63: Susan Skinner | D63: WCOC | E63: W55 | F63: 2.4055556 | G63: =MIN(G$54:G62)-1 -> 90
B64: 26th | C64: Lindsey Bayles | D64: LOC | E64: W60 | F64: 2.4069444 | G64: =MIN(G$54:G63)-1 -> 89
B65: 27th | C65: Roger Smith | D65: LOC | E65: M70 | F65: 2.4138889 | G65: =MIN(G$54:G64)-1 -> 88
B66: 29th | C66: Eva Humphreys | D66: WCOC | E66: W16 | F66: 2.4347222 | G66: =MIN(G$54:G65)-1 -> 87
... B92: 110th | C92: Deyna Hirst | D92: LOC | E92: W55 | F92: 5.0027778 | G92: =MIN(G$54:G91)-1 -> 61
B94: Short Green
B96: 10th | C96: Patricia Davies | D96: BL | E96: W65 | F96: 2.1826389 | G96: 99
B97: 18th | C97: Kim Leslie | D97: WCOC | E97: W55 | F97: 2.3784722 | G97: =MIN(G$96:G96)-1 -> 98
B98: 19th | C98: Christine Robinson | D98: LOC | E98: W65 | F98: 2.4069444 | G98: =MIN(G$96:G97)-1 -> 97
B99: 25th | C99: Christine Kiddier | D99: BL | E99: W70 | F99: 2.6145833 | G99: =MIN(G$96:G98)-1 -> 96
B100: 32nd | C100: Malcolm Ruckledge | D100: WCOC | E100: M75 | F100: 2.8694444 | G100: =MIN(G$96:G99)-1 -> 95
B101: 39th | C101: Jane Venet | D101: LOC | E101: W65 | F101: 3.0180556 | G101: =MIN(G$96:G100)-1 -> 94
B102: 41st | C102: Paul Tickner | D102: WCOC | E102: M65 | F102: 3.1083333 | G102: =MIN(G$96:G101)-1 -> 93
B103: 44th | C103: Gill Browne | D103: LOC | E103: W65 | F103: 3.1875 | G103: =MIN(G$96:G102)-1 -> 92
B104: 45th | C104: Andrew Smith | D104: LOC | E104: M75 | F104: 3.3013889 | G104: =MIN(G$96:G103)-1 -> 91
B105: 46th | C105: Janette McHendry | D105: WCOC | E105: W50 | F105: 3.3090278 | G105: =MIN(G$96:G104)-1 -> 90
B106: 49th | C106: Ann Smith | D106: LOC | E106: W70 | F106: 3.5201389 | G106: =MIN(G$96:G105)-1 -> 89
B107: 52nd | C107: Janet Nash | D107: LOC | E107: W70 | F107: 3.6847222 | G107: =MIN(G$96:G106)-1 -> 88
B108: 54th | C108: Alan Heppenstall | D108: LOC | E108: M80 | F108: 3.9027778 | G108: =MIN(G$96:G107)-1 -> 87
... B112: 59th | C112: David Lloyd | D112: LOC | E112: M70 | F112: 4.8729167 | G112: =MIN(G$96:G111)-1 -> 83
B114: Very Short Green
B116: 2nd | C116: Eleanor Osborne | D116: LOC | E116: W45 | F116: 1.8868056 | G116: 99
B117: 7th | C117: Richard Moss | D117: BL | E117: M80 | F117: 3.2277778 | G117: 98
B119: Light Green
B121: 8th | C121: George Rennie | D121: WCOC | E121: M14 | F121: 2.5784722 | G121: 99
B122: 14th | C122: Lily Clarkson | D122: WCOC | E122: W14 | F122: 2.9368056 | G122: 98
B124: Orange
B126: 4th | C126: Jamie Osborne | D126: LOC | E126: M12 | F126: 1.3395833 | G126: 99
B127: 7th | C127: Quinn Thompson | D127: LOC | E127: M12 | F127: 1.4923611 | G127: 98
B128: 9th | C128: Martin Keegan | D128: BL | E128: M60 | F128: 1.6534722 | G128: 97
B131: Yellow
B133: 2nd | C133: Wilf Clarkson | D133: WCOC | E133: M10 | F133: 0.81319444 | G133: 99

Sheet Lank Rigg WCOC
B2: Results for Lank Rigg 8 May 2022
B4: BROWN
B5: 1st | C5: Charlie Rennie | D5: WCOC | E5: M20 | F5: 99
B6: 2nd | C6: Ruben Razzetti | D6: BL | E6: M16 | F6: =MIN(F$5:F5)-1 -> 98
B7: 3rd | C7: Jamie Rennie | D7: WCOC | E7: M50 | F7: =MIN(F$5:F6)-1 -> 97
B8: 4th | C8: Joe Hudd | D8: WCOC | E8: M20 | F8: =MIN(F$5:F7)-1 -> 96
B9: 5th | C9: Simon Hunter | D9: WCOC | E9: M50 | F9: =MIN(F$5:F8)-1 -> 95
B10: 6th | C10: Graham Patten | D10: WAROC | E10: M60 | F10: =MIN(F$5:F9)-1 -> 94
B11: 7th | C11: Ben Goodwin | D11: WCOC | E11: M21 | F11: =MIN(F$5:F10)-1 -> 93
B12: 8th | C12: Dan Parker | D12: BL | E12: M60 | F12: =MIN(F$5:F11)-1 -> 92
B13: 10th | C13: Phillip Winskill | D13: WCOC | E13: M45 | F13: =MIN(F$5:F12)-1 -> 91
B14: 12th | C14: Tom Matthew | D14: SROC | E14: M50 | F14: =MIN(F$5:F13)-1 -> 90
B15: 13th | C15: Steve Breeze | D15: WCOC | E15: M50 | F15: =MIN(F$5:F14)-1 -> 89
B16: 14th | C16: Iain Smith-Ward | D16: LOC | E16: M55 | F16: =MIN(F$5:F15)-1 -> 88
B17: 15th | C17: Jasmine Girdlestone | D17: WCOC | E17: W21 | F17: =MIN(F$5:F16)-1 -> 87
B18: 16th | C18: Emma Stuart | D18: BL | E18: W21 | F18: =MIN(F$5:F17)-1 -> 86
B19: BLUE
B20: 1st | C20: Daniel Heppell | D20: WCOC | E20: M16 | F20: 99
B21: 3rd | C21: Keith Tonkin | D21: BL | E21: M60 | F21: =MIN(F$20:F20)-1 -> 98
B22: 4th | C22: Steve Holmes | D22: WCOC | E22: M50 | F22: =MIN(F$20:F21)-1 -> 97
B23: 6th | C23: Karen Parker | D23: BL | E23: W55 | F23: =MIN(F$20:F22)-1 -> 96
B24: 7th | C24: Owain Rice | D24: BL | E24: M21 | F24: =MIN(F$20:F23)-1 -> 95
B25: 8th | C25: Helen Hargreaves | D25: WCOC | E25: W45 | F25: =MIN(F$20:F24)-1 -> 94
B26: 9th | C26: Daisy Rennie | D26: WCOC | E26: W16 | F26: =MIN(F$20:F25)-1 -> 93
B27: 10th | C27: Jeff Goodwin | D27: WCOC | E27: M55 | F27: =MIN(F$20:F26)-1 -> 92
B28: 11th | C28: Stuart Crawford | D28: WCOC | E28: M50 | F28: =MIN(F$20:F27)-1 -> 91
B29: 12th | C29: Howard Leslie | D29: WCOC | E29: M60 | F29: =MIN(F$20:F28)-1 -> 90
B30: 13th | C30: Simon Filmore | D30: LOC | E30: M65 | F30: =MIN(F$20:F29)-1 -> 89
B31: 14th | C31: Isabel Berry | D31: BL | E31: W40 | F31: =MIN(F$20:F30)-1 -> 88
B32: 15th | C32: Scott Ashworth | D32: WCOC | E32: M45 | F32: =MIN(F$20:F31)-1 -> 87
... B38: 21st | C38: Ray Johnstone | D38: WCOC | E38: M70 | F38: =MIN(F$20:F37)-1 -> 81
B41: Green
B42: 1st | C42: Isaac Hunter | D42: WCOC | E42: M16 | F42: 99
B43: 2nd | C43: Michael Billinghurst | D43: WCOC | E43: M60 | F43: =MIN(F$42:F42)-1 -> 98
B44: 3rd | C44: Sam Osborne | D44: LOC | E44: M14 | F44: =MIN(F$42:F43)-1 -> 97
B45: 4th | C45: Toby Heppell | D45: WCOC | E45: M14 | F45: =MIN(F$42:F44)-1 -> 96
B46: 5th | C46: Sophie Crawford | D46: WCOC | E46: W14 | F46: =MIN(F$42:F45)-1 -> 95
B47: 7th | C47: Amelia Thompson | D47: LOC | E47: W16 | F47: =MIN(F$42:F46)-1 -> 94
B48: 8th | C48: Phil Blaylock | D48: WCOC | E48: M45 | F48: =MIN(F$42:F47)-1 -> 93
B49: 11th | C49: Eleanor Osborne | D49: LOC | E49: W45 | F49: =MIN(F$42:F48)-1 -> 92
B50: 12th | C50: Anne Burbidge | D50: WCOC | E50: W60 | F50: =MIN(F$42:F49)-1 -> 91
B51: 13th | C51: Ian Teasdale | D51: WCOC | E51: M60 | F51: =MIN(F$42:F50)-1 -> 90
B52: 14th | C52: Margaret Mackenzie | D52: WCOC | E52: W60 | F52: =MIN(F$42:F51)-1 -> 89
B53: 15th | C53: Tony Duncan | D53: WCOC | E53: M75 | F53: =MIN(F$42:F52)-1 -> 88
B54: 16th | C54: Alex Crawford | D54: WCOC | E54: W50 | F54: =MIN(F$42:F53)-1 -> 87
... B62: 29th | C62: Deborah Goodwin | D62: WCOC | E62: W60 | F62: =MIN(F$42:F61)-1 -> 79
B65: Short Green
B67: 2nd | C67: Catherine Wetherfield | D67: WCOC | E67: W55 | F67: 99
B68: 3rd | C68: Janette McHendry | D68: WCOC | E68: W50 | F68: =MIN(F$67:F67)-1 -> 98
B69: 4th | C69: Cath Lee | D69: LOC | E69: W60 | F69: =MIN(F$67:F68)-1 -> 97
B70: 5th | C70: Kim Leslie | D70: WCOC | E70: W55 | F70: =MIN(F$67:F69)-1 -> 96
B71: 6th | C71: John Nuttall | D71: SELOC | E71: M75 | F71: =MIN(F$67:F70)-1 -> 95
B72: 8th | C72: David Lloyd | D72: LOC | E72: M70 | F72: =MIN(F$67:F71)-1 -> 94
B75: Very Short Green
B77: No-one
B83: Light Green
B85: 1st | C85: George Rennie | D85: WCOC | E85: M14 | F85: 99
B88: Orange
B90: 1st | C90: Jane Hunter | D90: WCOC | E90: W55 | F90: 99
B91: 2nd | C91: Quinn Thompson | D91: LOC | E91: M12 | F91: 98
B95: Yellow
B97: No-one

Sheet Ling Fell
C1: Results for WCOC Ling Fell 18 Sept 2022
B3: BROWN
B4: Name | C4: Club | D4: Class | E4: Time | F4: Galoppen Score
A5: 1st | B5: Steve Birkinshaw | C5: WCOC | D5: M50 | E5: 2.4041667 | F5: 99
A6: 2nd | B6: Jamie Rennie | C6: WCOC | D6: M50 | E6: 2.7333333 | F6: =MIN(F5:F$5)-1 -> 98
A7: 3rd | B7: Wilfrid Teasdale | C7: WCOC | D7: M18 | E7: 2.7701389 | F7: =MIN(F$6:F6)-1 -> 97
A8: 4th | B8: James Rogers | C8: LOC | D8: M21 | E8: 2.8986111 | F8: =MIN(F$6:F7)-1 -> 96
A9: 5th | B9: Lucie-Ellen Todhunter | C9: SROC | D9: W40 | E9: 2.9201389
A10: 6th | B10: Mike Harrison | C10: WCOC | D10: M50 | E10: 3.0527778 | F10: =MIN(F$6:F9)-1 -> 95
A11: 7th | B11: Karen Parker | C11: BL | D11: W55 | E11: 3.0875 | F11: =MIN(F$6:F10)-1 -> 94
A12: 8th | B12: Dan Parker | C12: BL | D12: M60 | E12: 3.1840278 | F12: =MIN(F$6:F11)-1 -> 93
A13: 9th | B13: Michael Osborne | C13: LOC | D13: M45 | E13: 3.2354167 | F13: =MIN(F$6:F12)-1 -> 92
A14: 10th | B14: Peter Scott | C14: LOC | D14: M18 | E14: 3.2847222 | F14: =MIN(F$6:F13)-1 -> 91
A15: 11th | B15: Littledave Cumins | C15: SO | D15: M50 | E15: 3.3208333
A16: 12th | B16: James Todhunter | C16: SROC | D16: M40 | E16: 3.3618056
A17: 13th | B17: Fred Boardman | C17: WCOC | D17: M45 | E17: 3.7638889 | F17: =MIN(F$6:F16)-1 -> 90
A18: 14th | B18: Jessica Richardson | D18: W21 | E18: 4.0215278
A19: 15th | B19: Stuart Graham | C19: SOLWAY | D19: M50 | E19: 4.04375
A20: 16th | B20: Derek Fryer | C20: LOC | D20: M65 | E20: 4.0666667 | F20: =MIN(F$6:F19)-1 -> 89
A21: 17th | B21: Julie Ferris-Worth | C21: BL | D21: W55 | E21: 4.0736111 | F21: =MIN(F$6:F20)-1 -> 88
A22: 18th | B22: Steven Breeze | C22: WCOC | D22: M50 | E22: 4.1611111 | F22: =MIN(F$6:F21)-1 -> 87
B25: BLUE
B26: Name | C26: Club | D26: Class | E26: Time | F26: Galoppen Score
A27: 1st | B27: Daniel Heppell | C27: WCOC | D27: M16 | E27: 1.8569444 | F27: 99
A28: 2nd | B28: Ruben Razzetti | C28: BL | D28: M16 | E28: 1.9506944 | F28: =MIN(F$27:F27)-1 -> 98
A29: 3rd | B29: Sam Osborne | C29: LOC | D29: M14 | E29: 2.4027778 | F29: =MIN(F$27:F28)-1 -> 97
A30: 4th | B30: James Birkinshaw | C30: WCOC | D30: M20 | E30: 2.4236111 | F30: =MIN(F$27:F29)-1 -> 96
A31: 5th | B31: Steve Holmes | C31: WCOC | D31: M50 | E31: 2.4513889 | F31: =MIN(F$27:F30)-1 -> 95
A32: 6th | B32: John Slater | C32: WCOC | D32: M50 | E32: 2.5451389 | F32: =MIN(F$27:F31)-1 -> 94
A33: 7th | B33: Alan Irving | C33: WCOC | D33: M55 | E33: 2.65 | F33: =MIN(F$27:F32)-1 -> 93
A34: 8th | B34: Natalie Hawkrigg | C34: BL | D34: W50 | E34: 2.7173611 | F34: =MIN(F$27:F33)-1 -> 92
A35: 9th | B35: Emma Crawford | C35: WCOC | D35: W18 | E35: 2.8284722 | F35: =MIN(F$27:F34)-1 -> 91
A36: 10th | B36: Owain Rice | C36: BL | D36: M21 | E36: 2.9375 | F36: =MIN(F$27:F35)-1 -> 90
A37: 11th | B37: Daisy Rennie | C37: WCOC | D37: W16 | E37: 2.9527778 | F37: =MIN(F$27:F36)-1 -> 89
A38: 12th | B38: Colin Valentine | C38: WCOC | D38: M60 | E38: 3.0576389 | F38: =MIN(F$27:F37)-1 -> 88
A39: 13th | B39: Ange Jackson | C39: WCOC | D39: W45 | E39: 3.2618056 | F39: =MIN(F$27:F38)-1 -> 87
A40: 14th | B40: Craig Smith | C40: BOK | D40: M55 | E40: 3.3333333
A41: 15th | B41: Lynne Thomas | C41: WCOC | D41: W50 | E41: 3.3569444 | F41: =MIN(F$27:F40)-1 -> 86
A42: 16th | B42: Trevor Hoey | C42: FVO | D42: M55 | E42: 3.3784722
A43: 17th | B43: Rachel Platt | C43: LOC | D43: W35 | E43: 3.4673611 | F43: =MIN(F$27:F42)-1 -> 85
A44: 18th | B44: Liz Heaton | C44: LOC | D44: W40 | E44: 3.5472222 | F44: =MIN(F$27:F43)-1 -> 84
A45: 19th | B45: Helen Rennie | C45: WCOC | D45: W45 | E45: 3.6166667 | F45: =MIN(F$27:F44)-1 -> 83
A46: 20th | B46: Stephen Eastley | C46: BL | D46: M65 | E46: 3.8256944 | F46: =MIN(F$27:F45)-1 -> 82
A47: 21st | B47: Ryan Crellin | C47: WCOC | D47: M35 | E47: 4.0618056 | F47: =MIN(F$27:F46)-1 -> 81
A48: 22nd | B48: John Ferris-Worth | C48: BL | D48: M55 | E48: 4.1270833 | F48: =MIN(F$27:F47)-1 -> 80
B51: GREEN
B52: Name | C52: Club | D52: Class | E52: Time | F52: Galoppen Score
A53: 1st | B53: Danny Winterbottom | C53: WCOC | D53: M16 | E53: 1.7555556 | F53: 99
A54: 2nd | B54: Toby Heppell | C54: WCOC | D54: M14 | E54: 1.7951389 | F54: =MIN(F$53:F53)-1 -> 98
A55: 3rd | B55: Pete Winterbottom | D55: M50 | E55: 1.9125
A56: 4th | B56: Gavin Pattison | D56: M50 | E56: 1.9215278
A57: 5th | B57: Eleanor Osborne | C57: LOC | D57: W45 | E57: 2.3277778 | F57: =MIN(F$53:F56)-1 -> 97
A58: 6th | B58: Roger Thomas | C58: WCOC | D58: M60 | E58: 2.3326389 | F58: =MIN(F$53:F57)-1 -> 96
A59: 7th | B59: Richard Tiley | C59: LOC | D59: M60 | E59: 2.3604167 | F59: =MIN(F$53:F58)-1 -> 95
A60: 8th | B60: Kate Charles | C60: WCOC | D60: W50 | E60: 2.3798611 | F60: =MIN(F$53:F59)-1 -> 94
A61: 9th | B61: Roger Jackson | C61: WCOC | D61: M75 | E61: 2.46875 | F61: =MIN(F$53:F60)-1 -> 93
A62: 10th | B62: Ian Teasdale | C62: WCOC | D62: M60 | E62: 2.5111111 | F62: =MIN(F$53:F61)-1 -> 92
A63: 11th | B63: Sally Heppell | C63: WCOC | D63: W45 | E63: 2.53125 | F63: =MIN(F$53:F62)-1 -> 91
A64: 12th | B64: Margaret Mackenzie | C64: WCOC | D64: W60 | E64: 2.6125 | F64: =MIN(F$53:F63)-1 -> 90
A65: 13th | B65: Dave Hewitt | C65: WAROC | D65: M60 | E65: 2.6430556 | F65: =MIN(F$53:F64)-1 -> 89
A66: 14th | B66: Anne Burbidge | C66: WCOC | D66: W60 | E66: 2.6590278 | F66: =MIN(F$53:F65)-1 -> 88
A67: 15th | B67: Susan Skinner | C67: WCOC | D67: W55 | E67: 2.6625 | F67: =MIN(F$53:F66)-1 -> 87
A68: 16th | B68: Eva Humphreys | C68: WCOC | D68: W16 | E68: 2.7222222 | F68: =MIN(F$53:F67)-1 -> 86
... A73: 21st | B73: Raymond Wren | C73: BL | D73: M75 | E73: 2.9861111 | F73: =MIN(F$53:F72)-1 -> 81
A74: 22nd | B74: Carol Graham | C74: SOLWAY | D74: W55 | E74: 3.0201389
A75: 23rd | B75: Richard Evans | C75: BL | D75: M65 | E75: 3.1277778 | F75: =MIN(F$53:F74)-1 -> 80
A76: 24th | B76: Lorna Hewitt | C76: WAROC | D76: W50 | E76: 3.1791667 | F76: =MIN(F$53:F75)-1 -> 79
A77: 25th | B77: Paul Tickner | C77: WCOC | D77: M65 | E77: 3.4027778 | F77: =MIN(F$53:F76)-1 -> 78
A78: 26th | B78: Tony Duncan | C78: WCOC | D78: M75 | E78: 3.4416667 | F78: =MIN(F$53:F77)-1 -> 77
A79: 27th | B79: Jenny Wren | C79: BL | D79: W70 | E79: 3.575 | F79: =MIN(F$53:F78)-1 -> 76
A80: 28th | B80: Mike Cumpstey | C80: BL | D80: M75 | E80: 3.6479167 | F80: =MIN(F$53:F79)-1 -> 75
A81: 29th | B81: Cath Sullivan | D81: W50 | E81: 3.8520833
A82: 30th | B82: Chris Lates | C82: BL | D82: M80 | E82: 4.2215278 | F82: =MIN(F$53:F81)-1 -> 74
B84: SHORT GREEN
B85: Name | C85: Club | D85: Class | E85: Time | F85: Galoppen Score
A86: 1st | B86: Catherine Wetherfield | C86: WCOC | D86: W55 | E86: 1.9548611 | F86: 99
A87: 2nd | B87: Gill Browne | C87: LOC | D87: W65 | E87: 2.2993056 | F87: =MIN(F$86:F86)-1 -> 98
A88: 3rd | B88: Janette McHendry | C88: WCOC | D88: W50 | E88: 2.7215278 | F88: =MIN(F$86:F87)-1 -> 97
A89: 4th | B89: Emma Moody | C89: WCOC | D89: W50 | E89: 2.9923611 | F89: =MIN(F$86:F88)-1 -> 96
A90: 5th | B90: Hannah Birkinshaw | C90: WCOC | D90: W14 | E90: 2.9972222 | F90: =MIN(F$86:F89)-1 -> 95
A91: 6th | B91: Joan Cumpstey | C91: BL | D91: W70 | E91: 3.1472222 | F91: =MIN(F$86:F90)-1 -> 94
A92: 7th | B92: Sheila Hobson | C92: LOC | D92: W65 | E92: 3.2180556 | F92: =MIN(F$86:F91)-1 -> 93
A93: 8th | B93: Rebecca Crellin | C93: WCOC | D93: W35 | E93: 3.5965278 | F93: =MIN(F$86:F92)-1 -> 92
A94: 9th | B94: Dick Whitworth | C94: BL | D94: M80 | E94: 3.7368056 | F94: =MIN(F$86:F93)-1 -> 91
A95: 10th | B95: Alan Heppenstall | C95: LOC | D95: M80 | E95: 3.8173611 | F95: =MIN(F$86:F94)-1 -> 90
A96: 11th | B96: Jane Hunter | C96: WCOC | D96: W55 | E96: 3.9805556 | F96: =MIN(F$86:F95)-1 -> 89
A97: 12th | B97: Anita Evans | C97: BL | D97: W65 | E97: 4.0319444 | F97: =MIN(F$86:F96)-1 -> 88
A98: 13th | B98: Richard Moss | C98: BL | D98: M80 | E98: 4.4611111 | F98: =MIN(F$86:F97)-1 -> 87
B100: LIGHT GREEN
B101: Name | C101: Club | D101: Class | E101: Time | F101: Galoppen Score
A102: 1st | B102: George Rennie | C102: WCOC | D102: M14 | E102: 1.5513889 | F102: 99
A103: 2nd | B103: Ben Todhunter | C103: SROC | D103: M14 | E103: 1.5881944
A104: 3rd | B104: Kamila Winterbottom | C104: WCOC | D104: W45 | E104: 2.3479167 | F104: =MIN(F$102:F103)-1 -> 98
A105: 4th | B105: Ellie Todhunter | C105: SROC | D105: W14 | E105: 2.4673611
B107: ORANGE
B108: Name | C108: Club | D108: Class | E108: Time | F108: Galoppen Score
A109: 1st | B109: Maisie Todhunter | C109: SROC | D109: W10 | E109: 1.2902778
A110: 2nd | B110: Jane Waterworth | C110: WCOC | D110: W65 | E110: 1.7902778 | F110: 99
B112: YELLOW
B113: Name | C113: Club | D113: Class | E113: Time | F113: Galoppen Score
...

Sheet Harter Fell
C1: Results for LOC Harter Fell 25 Sept 2022
B3: BROWN
B4: Name | C4: Club | D4: Class | E4: Galoppen Score
A5: 1st | B5: Jack Wright | C5: LOC | D5: M21 | E5: 99
A6: 2nd | B6: Steve Birkinshaw | C6: WCOC | D6: M50 | E6: =MIN(E5:E$5)-1 -> 98
A7: 4th | B7: Wilfrid Teasdale | C7: WCOC | D7: M18 | E7: =MIN(E$5:E6)-1 -> 97
A8: 7th | B8: Karen Parker | C8: BL | D8: W55 | E8: =MIN(E$5:E7)-1 -> 96
A9: 8th | B9: James Rogers | C9: LOC | D9: M21 | E9: =MIN(E$5:E8)-1 -> 95
A10: 10th | B10: Jamie Rennie | C10: WCOC | D10: M50 | E10: =MIN(E$5:E9)-1 -> 94
A11: 15th | B11: Steven Breeze | C11: WCOC | D11: M50 | E11: =MIN(E$5:E10)-1 -> 93
B16: BLUE
B17: Name | C17: Club | D17: Class
A18: 1st | B18: Nick Taylor | C18: LOC | D18: M40 | E18: 99
A19: 3rd | B19: Robert Browne | C19: LOC | D19: M21 | E19: =MIN(E$18:E18)-1 -> 98
A20: 6th | B20: Alan Irving | C20: WCOC | D20: M55 | E20: =MIN(E$18:E19)-1 -> 97
A21: 8th | B21: Howard Leslie | C21: WCOC | D21: M60 | E21: =MIN(E$18:E20)-1 -> 96
A22: 9th | B22: Iain Smith-Ward | C22: LOC | D22: M50 | E22: =MIN(E$18:E21)-1 -> 95
A23: 11th | B23: Anne Edwards | C23: LOC | D23: W21 | E23: =MIN(E$18:E22)-1 -> 94
A24: 12th | B24: Roger Thomas | C24: WCOC | D24: M60 | E24: =MIN(E$18:E23)-1 -> 93
A25: 13th | B25: Rachel Platt | C25: LOC | D25: W35 | E25: =MIN(E$18:E24)-1 -> 92
A26: 14th | B26: Jo Cleary | C26: LOC | D26: W55 | E26: =MIN(E$18:E25)-1 -> 91
A27: 15th | B27: Owain Rice | C27: BL | D27: M21 | E27: =MIN(E$18:E26)-1 -> 90
A28: 16th | B28: David Downes | C28: WCOC | D28: M65 | E28: =MIN(E$18:E27)-1 -> 89
A29: 17th | B29: Simon Thomas | C29: WCOC | D29: M40 | E29: =MIN(E$18:E28)-1 -> 88
A30: 18th | B30: Andy Robinson | C30: LOC | D30: M65 | E30: =MIN(E$18:E29)-1 -> 87
A31: 21st | B31: Jane Ligema | C31: LOC | D31: W55 | E31: =MIN(E$18:E30)-1 -> 86
B39: GREEN
B40: Name | C40: Club | D40: Class | E40: Galoppen Score
A41: 1st | B41: Matti Ligema | C41: LOC | D41: M14 | E41: 99
A42: 3rd | B42: Richard Cummings | C42: WCOC | D42: M60 | E42: =MIN(E$41:E41)-1 -> 98
A43: 4th | B43: Amelia Thompson | C43: LOC | D43: W16 | E43: =MIN(E$41:E42)-1 -> 97
A44: 5th | B44: Derek Allison | C44: LOC | D44: M65 | E44: =MIN(E$41:E43)-1 -> 96
A45: 6th | B45: Keith Jones | C45: WAROC | D45: M60 | E45: =MIN(E$41:E44)-1 -> 95
A46: 7th | B46: Ann Cummings | C46: WCOC | D46: W60 | E46: =MIN(E$41:E45)-1 -> 94
A47: 9th | B47: Bob Barnby | C47: WCOC | D47: M70 | E47: =MIN(E$41:E46)-1 -> 93
A48: 12th | B48: Anne Burbidge | C48: WCOC | D48: W60 | E48: =MIN(E$41:E47)-1 -> 92
A49: 14th | B49: Judy Burge | C49: LOC | D49: W65 | E49: =MIN(E$41:E48)-1 -> 91
A50: 17th | B50: Stephen Fellbaum | C50: LOC | D50: M60 | E50: =MIN(E$41:E49)-1 -> 90
A51: 19th | B51: Julia Laverack | C51: WAROC | D51: W60 | E51: =MIN(E$41:E50)-1 -> 89
A52: 20th | B52: Deborah Goodwin | C52: WCOC | D52: W60 | E52: =MIN(E$41:E51)-1 -> 88
A53: 21st | B53: Ian Teasdale | C53: WCOC | D53: M60 | E53: =MIN(E$41:E52)-1 -> 87
... A67: 43rd | B67: Andrew Dean | C67: LOC | D67: M21 | E67: =MIN(E$41:E66)-1 -> 73
B74: SHORT GREEN
B75: Name | C75: Club | D75: Class | E75: Galoppen Score
A76: 1st | B76: Carol McNeill | C76: LOC | D76: W75 | E76: 99
A77: 2nd | B77: Keith Henderson | C77: WIM | D77: M80
A78: 3rd | B78: Steve Burge | C78: LOC | D78: M80 | E78: =MIN(E$76:E77)-1 -> 98
A79: 4th | B79: David Nichol | C79: AYROC | D79: M60
A80: 5th | B80: Miriam Rosen | C80: SROC | D80: W70
A81: 6th | B81: Rach Stavert | C81: LOC | D81: W55 | E81: =MIN(E$76:E80)-1 -> 97
A82: 7th | B82: Catherine Wetherfield | C82: WCOC | D82: W55 | E82: =MIN(E$76:E81)-1 -> 96
A83: 8th | B83: Elizabeth Elliott | C83: WCOC | D83: W70 | E83: =MIN(E$76:E82)-1 -> 95
A84: 9th | B84: Jane Venet | C84: LOC | D84: W65 | E84: =MIN(E$76:E83)-1 -> 94
A85: 10th | B85: Alan Heppenstall | C85: LOC | D85: M80 | E85: =MIN(E$76:E84)-1 -> 93
A86: 11th | B86: Sheelagh Nichol | C86: AYROC | D86: W65
A87: 12th | B87: Gwen Rea | C87: WCOC | D87: W70 | E87: =MIN(E$76:E86)-1 -> 92
A88: 13th | B88: John Pullin | C88: LOC | D88: M70 | E88: =MIN(E$76:E87)-1 -> 91
A89: 14th | B89: Helen Wheelwright | C89: SOC | D89: W60
B100: LIGHT GREEN
B101: Name | C101: Club | D101: Class | E101: Galoppen Score
A102: 1st | B102: Jamie Osborne | C102: LOC | D102: M12 | E102: 99
B115: ORANGE
B116: Name | C116: Club | D116: Class | E116: Galoppen Score
A117: 1st | B117: Quinn Thompson | C117: LOC | D117: M12 | E117: 99
A118: 2nd | B118: Helen Bennett | C118: LOC | D118: W40 | E118: =MIN(E$117:E117)-1 -> 98
B121: YELLOW
B122: Name | C122: Club | D122: Class | E122: Galoppen Score
A123: 1st | B123: James Heppenstall | C123: LOC | D123: M9 | E123: 99
A124: 2nd | B124: Lucie Heppenstall | C124: LOC | D124: W7 | E124: =MIN(E$123:E123)-1 -> 98
A125: 4th | B125: Henry Bennett | C125: LOC | D125: M10 | E125: =MIN(E$123:E124)-1 -> 97
A126: 5th | B126: Emily Payne | D126: W16 | E126: =MIN(E$123:E125)-1 -> 96
A127: 6th | B127: Alice Payne | D127: W14 | E127: =MIN(E$123:E126)-1 -> 95

Sheet Faulds Brow
C1: Results for BL Faulds Brow 23 Oct 2022
B3: BROWN
B4: Name | C4: Club | D4: Class | H4: Galoppen Score
A5: 1st | B5: Joe Woodley | C5: AIRE | D5: M21
A6: 2nd | B6: Ruben Razzetti | C6: BL | D6: M16 | H6: 99
A7: 3rd | B7: Steve Birkinshaw | C7: WCOC | D7: M50 | H7: =MIN(H$5:H6)-1 -> 98
A8: 4th | B8: Daniel SpencerAttackpoint | C8: EUOC | D8: M21
A9: 5th | B9: Peter Scott | C9: LOC | D9: M18 | H9: =MIN(H$5:H8)-1 -> 97
A10: 6th | B10: Joseph Goodwin | C10: WCOC | D10: M21 | H10: =MIN(H$5:H9)-1 -> 96
A11: 7th | B11: Jeff Powell Davies | C11: BL | D11: M40 | H11: =MIN(H$5:H10)-1 -> 95
A12: 8th | B12: Alex Matthew | C12: SROC | D12: M18
A13: 9th | B13: Jim Trueman | C13: MDOC | D13: M55
A14: 10th | B14: Dan Parker | C14: BL | D14: M60 | H14: =MIN(H$5:H13)-1 -> 94
A15: 11th | B15: Paul Neild | C15: WCOC | D15: M45 | H15: =MIN(H$5:H14)-1 -> 93
A16: 12th | B16: Wilfrid Teasdale | C16: WCOC | D16: M18 | H16: =MIN(H$5:H15)-1 -> 92
A17: 13th | B17: Matthew McCreadie | C17: DEE | D17: M16
A18: 14th | B18: Karen Parker | C18: BL | D18: W55 | H18: =MIN(H$5:H17)-1 -> 91
A19: 15th | B19: Michael Osborne | C19: LOC | D19: M45 | H19: =MIN(H$5:H18)-1 -> 90
A20: 16th | B20: Tom Matthew | C20: SROC | D20: M50
A21: 17th | B21: Robert SmithStrava | C21: LOC | D21: M55 | H21: =MIN(H$5:H20)-1 -> 89
A22: 18th | B22: Ian Cumpstey | C22: BL | D22: M45 | H22: =MIN(H$5:H21)-1 -> 88
A23: 19th | B23: Paul Gaines | C23: BL | D23: M50 | H23: =MIN(H$5:H22)-1 -> 87
A24: 20th | B24: Keith Tonkin | C24: BL | D24: M60 | H24: =MIN(H$5:H23)-1 -> 86
A25: 21st | B25: Caitlin Pearson | C25: WCOC | D25: W21 | H25: =MIN(H$5:H24)-1 -> 85
A26: 22nd | B26: Fred Boardman | C26: WCOC | D26: M45 | H26: =MIN(H$5:H25)-1 -> 84
A27: 23rd | B27: Dominic Wathey | C27: MDOC | D27: M18
A28: 24th | B28: Trevor Hoey | C28: FVO | D28: M55
A29: 25th | B29: Andy Robinson | C29: LOC | D29: M65 | H29: =MIN(H$5:H28)-1 -> 83
A30: 26th | B30: Derek Fryer | C30: LOC | D30: M65 | H30: =MIN(H$5:H29)-1 -> 82
A31: 27th | B31: Julie Ferris-Worth | C31: BL | D31: W55 | H31: =MIN(H$5:H30)-1 -> 81
A32: 28th | B32: Urszula Bronkowska | C32: DFOK | D32: W21
H33: =MIN(H$5:H32)-1 -> 80
H34: =MIN(H$5:H33)-1 -> 79
H35: =MIN(H$5:H34)-1 -> 78
B37: BLUE
B38: Name | C38: Club | D38: Class
A39: st | B39: Daniel Heppell | C39: WCOC | D39: M16 | H39: 99
A40: 2nd | B40: Graham Patten | C40: WAROC | D40: M60 | H40: =MIN(H$39:H39)-1 -> 98
A41: 3rd | B41: Steve Holmes | C41: WCOC | D41: M50 | H41: =MIN(H$39:H40)-1 -> 97
A42: 4th | B42: George Hare | C42: NATO | D42: M55
A43: 5th | B43: John Slater | C43: WCOC | D43: M50 | H43: =MIN(H$39:H42)-1 -> 96
A44: 6th | B44: Michael Billinghurst | C44: WCOC | D44: M60 | H44: =MIN(H$39:H43)-1 -> 95
A45: 7th | B45: James Birkinshaw | C45: WCOC | D45: M20 | H45: =MIN(H$39:H44)-1 -> 94
A46: 8th | B46: Nick Evans | C46: WCOC | D46: M60 | H46: =MIN(H$39:H45)-1 -> 93
A47: 9th | B47: Geoff Davis | D47: M65
A48: 10th | B48: Thomas Rawle | C48: BL | D48: M18 | H48: =MIN(H$39:H47)-1 -> 92
A49: 11th | B49: John Ferris-Worth | C49: BL | D49: M55 | H49: =MIN(H$39:H48)-1 -> 91
A50: 12th | B50: Tim Griffin | C50: GRAMP | D50: M55
A51: 13th= | B51: Nadine Wright | C51: OD | D51: W21
A52: 13th= | B52: Isaac Hunter | C52: WCOC | D52: M16 | H52: =MIN(H$39:H51)-1 -> 90
A53: 15th | B53: Roger Gooding | C53: SOS | D53: M45
A54: 16th | B54: Patrick Smyth | D54: M65
A55: 17th | B55: Isabel Berry | C55: BL | D55: W40 | H55: =MIN(H$39:H54)-1 -> 89
A56: 18th | B56: Saskia Warren | C56: NN | D56: W21
A57: 19th | B57: Simon Thomas | C57: WCOC | D57: M40 | H57: =MIN(H$39:H56)-1 -> 88
A58: 20th | B58: Owain Rice | C58: BL | D58: M21 | H58: =MIN(H$39:H57)-1 -> 87
A59: 21st | B59: Cate Matthew | C59: SROC | D59: W16
A60: 22nd | B60: Howard Leslie | C60: WCOC | D60: M60 | H60: =MIN(H$39:H59)-1 -> 86
A61: 23rd | B61: Emma Crawford | C61: WCOC | D61: W18 | H61: =MIN(H$39:H60)-1 -> 85
A62: 24th | B62: John Taylor | C62: SROC | D62: M70
A63: 25th | B63: Richard Wilson | C63: AIRE | D63: M65
A64: 26th | B64: Stephen Eastley | C64: BL | D64: M65 | H64: =MIN(H$39:H63)-1 -> 84
A65: 27th | B65: Jo Taylor | C65: SROC | D65: W55
A66: 28th | B66: Paul Williams | C66: LOC | D66: M65 | H66: =MIN(H$39:H65)-1 -> 83
A67: 29th | B67: Richard Tiley | C67: LOC | D67: M60 | H67: =MIN(H$39:H66)-1 -> 82
A68: 30th | B68: Rachel Platt | C68: LOC | D68: W35 | H68: =MIN(H$39:H67)-1 -> 81
A69: 31st | B69: Raymond Wren | C69: BL | D69: M75 | H69: =MIN(H$39:H68)-1 -> 80
A70: 32nd | B70: Roger Lott | C70: AIRE | D70: M70
A71: 33rd | B71: David Downes | C71: WCOC | D71: M65 | H71: =MIN(H$39:H70)-1 -> 79
A72: 34th | B72: Jo Matthew | C72: SROC | D72: W45
A73: 35th | B73: Julian Lailey | C73: SROC | D73: M75
A74: 36th | B74: Ray Johnstone | C74: WCOC | D74: M70 | H74: =MIN(H$39:H73)-1 -> 78
A75: 37th | B75: Ron Kenyon | C75: BL | D75: M70 | H75: =MIN(H$39:H74)-1 -> 77
A76: 38th | B76: Stuart Crawford | C76: WCOC | D76: M50 | H76: =MIN(H$39:H75)-1 -> 76
A77: 39th | B77: Rob Bailey | C77: CLOK | D77: M60
A78: 40th | B78: James Hollins-Gibson | D78: M35
B85: GREEN
B86: Name | C86: Club | D86: Class | H86: Galoppen Score
A87: 1st | B87: Toby Heppell | C87: WCOC | D87: M14 | H87: 99
A88: 2nd | B88: Gavin Pattison | C88: LOC | D88: M50 | H88: =MIN(H$87:H87)-1 -> 98
A89: 3rd | B89: Sam Osborne | C89: LOC | D89: M14 | H89: =MIN(H$87:H88)-1 -> 97
A90: 4th | B90: Pete Winterbottom | D90: M50
A91: 5th | B91: Danny Winterbottom | C91: WCOC | D91: M16 | H91: =MIN(H$87:H90)-1 -> 96
A92: 6th | B92: Sophie Crawford | C92: WCOC | D92: W14 | H92: =MIN(H$87:H91)-1 -> 95
A93: 7th | B93: John Miklausic | C93: NGOC | D93: M40
A94: 8th | B94: Stella Lewsley | C94: BL | D94: W65 | H94: =MIN(H$87:H93)-1 -> 94
A95: 9th | B95: Lynne Thomas | C95: WCOC | D95: W50 | H95: =MIN(H$87:H94)-1 -> 93
A96: 10th | B96: Graham Capper | C96: LOC | D96: M60 | H96: =MIN(H$87:H95)-1 -> 92
A97: 11th | B97: Cliff Etherden | C97: LOC | D97: M70 | H97: =MIN(H$87:H96)-1 -> 91
A98: 12th | B98: Roger Thomas | C98: WCOC | D98: M60 | H98: =MIN(H$87:H97)-1 -> 90
A99: 13th | B99: Myrtle Ashworth | C99: WCOC | D99: W16 | H99: =MIN(H$87:H98)-1 -> 89
A100: 14th | B100: Louise Dunn | C100: LOC | D100: W60 | H100: =MIN(H$87:H99)-1 -> 88
A101: 15th | B101: Richard Cummings | C101: WCOC | D101: M60 | H101: =MIN(H$87:H100)-1 -> 87
A102: 16th | B102: Margaret Mackenzie | C102: WCOC | D102: W60 | H102: =MIN(H$87:H101)-1 -> 86
A103: 17th | B103: Ian Teasdale | C103: WCOC | D103: M60 | H103: =MIN(H$87:H102)-1 -> 85
A104: 18th | B104: Carl Humphreys | C104: WCOC | D104: M40 | H104: =MIN(H$87:H103)-1 -> 84
A105: 19th | B105: Eva Humphreys | C105: WCOC | D105: W16 | H105: =MIN(H$87:H104)-1 -> 83
... A107: 21st | B107: Dave Neild | C107: LOC | D107: M75 | H107: =MIN(H$87:H106)-1 -> 81
A108: 22nd | B108: David Roach | C108: SLOW | D108: M65
A109: 23rd | B109: Sally Heppell | C109: WCOC | D109: W45 | H109: =MIN(H$87:H108)-1 -> 80
...

Sheet Latrigg
C1: Results for WCOC Latrigg & Greta Gorge 18 Dec 2022
B3: BROWN
B4: Name | C4: Club | D4: Class | H4: Galoppen Score
A5: 1st | B5: Steve Birkinshaw | C5: WCOC | D5: M50 | H5: 99
A6: 2nd | B6: Charlie Rennie | C6: WCOC | D6: M20 | H6: =MIN(H5:H$5)-1 -> 98
A7: 3rd | B7: Ruben Razzetti | C7: BL | D7: M16 | H7: =MIN(H$5:H6)-1 -> 97
A8: 4th | B8: Jamie Rennie | C8: WCOC | D8: M50 | H8: =MIN(H$5:H7)-1 -> 96
A9: 5th= | B9: Phillip Winskill | C9: WCOC | D9: M45 | H9: =MIN(H$5:H8)-1 -> 95
A10: 5th= | B10: Joseph Goodwin | C10: SHUOC | D10: M21
A11: 7th | B11: Jeff Powell Davies | C11: BL | D11: M40 | H11: =MIN(H$5:H10)-1 -> 94
A12: 8th | B12: Karen Parker | C12: BL | D12: W55 | H12: =MIN(H$5:H11)-1 -> 93
A13: 9th | B13: Mike Harrison | C13: WCOC | D13: M50 | H13: =MIN(H$5:H12)-1 -> 92
A14: 10th | B14: Max Wilkinson | C14: NN | D14: M35
A15: 11th | B15: Jim Trueman | C15: MDOC | D15: M55
A16: 12th | B16: Robert Smith | C16: LOC | D16: M55 | H16: =MIN(H$5:H15)-1 -> 91
A17: 13th | B17: Alison O'Neil | C17: ESOC | D17: W35
A18: 14th | B18: Ian Cumpstey | C18: BL | D18: M45 | H18: =MIN(H$5:H17)-1 -> 90
A19: 15th | B19: Dan Parker | C19: BL | D19: M60 | H19: =MIN(H$5:H18)-1 -> 89
A20: 16th | B20: Herbie Ashworth | C20: WCOC | D20: M18 | H20: =MIN(H$5:H19)-1 -> 88
A21: 17th | B21: Gillian Atkinson | D21: W55
A22: 18th | B22: Matthew Atkinson | D22: M21
A23: 19th | B23: Simon Thomas | C23: WCOC | D23: M40 | H23: =MIN(H$5:H22)-1 -> 87
A24: 20th | B24: Derek Fryer | C24: LOC | D24: M65 | H24: =MIN(H$5:H23)-1 -> 86
B37: BLUE
B38: Name | C38: Club | D38: Class
A39: 1st | B39: Ian Maxwell | C39: RR | D39: M60
A40: 2nd | B40: James Birkinshaw | C40: WCOC | D40: M20 | H40: 99
A41: 3rd | B41: Sam Mcloughlin | C41: WCOC | D41: M18 | H41: =MIN(H$39:H40)-1 -> 98
A42: 4th | B42: Alan Irving | C42: WCOC | D42: M55 | H42: =MIN(H$39:H41)-1 -> 97
A43: 5th | B43: Emma Crawford | C43: WCOC | D43: W18 | H43: =MIN(H$39:H42)-1 -> 96
A44: 6th | B44: Chris Pollitt | C44: WCOC | D44: M60 | H44: =MIN(H$39:H43)-1 -> 95
A45: 7th | B45: Howard Leslie | C45: WCOC | D45: M60 | H45: =MIN(H$39:H44)-1 -> 94
A46: 8th | B46: Stuart Crawford | C46: WCOC | D46: M50 | H46: =MIN(H$39:H45)-1 -> 93
A47: 9th | B47: John Taylor | C47: SROC | D47: M70
A48: 10th | B48: Luke Richmond | D48: M21
A49: 11th | B49: Isaac Hunter | C49: WCOC | D49: M16 | H49: =MIN(H$39:H48)-1 -> 92
A50: 12th | B50: Nadine Wright | C50: OD | D50: W21
A51: 13th | B51: Owain Rice | C51: BL | D51: M21 | H51: =MIN(H$39:H50)-1 -> 91
A52: 14th | B52: Christine Goulding | C52: BL | D52: W55 | H52: =MIN(H$39:H51)-1 -> 90
A53: 15th | B53: Andy Lewsley | C53: BL | D53: M65 | H53: =MIN(H$39:H52)-1 -> 89
A54: 16th | B54: Trevor Hoey | C54: FVO | D54: M55
A55: 17th | B55: Daisy Rennie | C55: WCOC | D55: W16 | H55: =MIN(H$39:H54)-1 -> 88
A56: 18th | B56: Ryan Sutton | C56: SLOW | D56: M35
A57: 19th | B57: Ange Jackson | C57: WCOC | D57: W45 | H57: =MIN(H$39:H56)-1 -> 87
A58: 20th | B58: David Riches | C58: CLOK | D58: M60
A59: 21st | B59: Richard Tiley | C59: LOC | D59: M60 | H59: =MIN(H$39:H58)-1 -> 86
A60: 22nd | B60: Amelia Thompson | C60: LOC | D60: W16 | H60: =MIN(H$39:H59)-1 -> 85
A61: 23rd | B61: Helen Rennie | C61: WCOC | D61: W45 | H61: =MIN(H$39:H60)-1 -> 84
A62: 24th | B62: Emily Brooks | D62: W45
A63: 25th | B63: Nick Moore | C63: WCOC | D63: M60 | H63: =MIN(H$39:H62)-1 -> 83
A64: 26th | B64: Julian Lailey | C64: SROC | D64: M75
A65: 27th | B65: Glyn Blakey | D65: M55
A66: 28th | B66: Liz Heaton | C66: LOC | D66: W40 | H66: =MIN(H$39:H65)-1 -> 82
A67: 29th | B67: Andrew Butcher | D67: M55
A68: 30th | B68: James Hollins-Gibson | D68: M35
A69: 31st | B69: Samantha Metcalfe | D69: W45
B85: GREEN
B86: Name | C86: Club | D86: Class | H86: Galoppen Score
A87: 1st | B87: Sam Osborne | C87: LOC | D87: M14 | H87: 99
A88: 2nd | B88: Julia Laverack | C88: WAROC | D88: W60 | H88: =MIN(H$87:H87)-1 -> 98
A89: 3rd | B89: Sophie Crawford | C89: WCOC | D89: W14 | H89: =MIN(H$87:H88)-1 -> 97
A90: 4th | B90: Eva Humphreys | C90: WCOC | D90: W16 | H90: =MIN(H$87:H89)-1 -> 96
A91: 5th | B91: Matthew Birkinshaw | C91: WCOC | D91: M16 | H91: =MIN(H$87:H90)-1 -> 95
A92: 6th | B92: Simon Filmore | C92: LOC | D92: M65 | H92: =MIN(H$87:H91)-1 -> 94
A93: 7th | B93: Raymond Wren | C93: BL | D93: M75 | H93: =MIN(H$87:H92)-1 -> 93
A94: 8th | B94: Roger Thomas | C94: WCOC | D94: M60 | H94: =MIN(H$87:H93)-1 -> 92
A95: 9th | B95: Stella Lewsley | C95: BL | D95: W65 | H95: =MIN(H$87:H94)-1 -> 91
A96: 10th | B96: Graham Watson | C96: WCOC | D96: M60 | H96: =MIN(H$87:H95)-1 -> 90
A97: 11th | B97: Roger Jackson | C97: WCOC | D97: M75 | H97: =MIN(H$87:H96)-1 -> 89
A98: 12th | B98: Lynne Thomas | C98: WCOC | D98: W50 | H98: =MIN(H$87:H97)-1 -> 88
A99: 13th | B99: Maggie Scrugham | C99: LOC | D99: W60 | H99: =MIN(H$87:H98)-1 -> 87
A100: 14th | B100: Eleanor Osborne | C100: LOC | D100: W45 | H100: =MIN(H$87:H99)-1 -> 86
A101: 15th | B101: Eileen Maxwell | C101: RR | D101: W55
A102: 16th | B102: Carl Humphreys | C102: WCOC | D102: M40 | H102: =MIN(H$87:H101)-1 -> 85
A103: 17th | B103: Ian Teasdale | C103: WCOC | D103: M60 | H103: =MIN(H$87:H102)-1 -> 84
A104: 18th | B104: Pete Nelson | C104: WCOC | D104: M65 | H104: =MIN(H$87:H103)-1 -> 83
A105: 19th | B105: George Rennie | C105: WCOC | D105: M14 | H105: =MIN(H$87:H104)-1 -> 82
A106: 20th | B106: Anne Burbidge | C106: WCOC | D106: W60 | H106: =MIN(H$87:H105)-1 -> 81
A107: 21st | B107: Cliff Etherden | C107: LOC | D107: M70 | H107: =MIN(H$87:H106)-1 -> 80
A108: 22nd | B108: Paul Watson | C108: BL | D108: M65 | H108: =MIN(H$87:H107)-1 -> 79
A109: 23rd | B109: Hannah Birkinshaw | C109: WCOC | D109: W14 | H109: =MIN(H$87:H108)-1 -> 78
A110: 24th | B110: Andy Robinson | C110: LOC | D110: M65 | H110: =MIN(H$87:H109)-1 -> 77
A111: 25th | B111: Norman Hall | C111: DEE | D111: M70
A112: 26th | B112: David Rosen | C112: SROC | D112: M65
A113: 27th | B113: Deborah Goodwin | C113: WCOC | D113: W60 | H113: =MIN(H$87:H112)-1 -> 76
A114: 28th | B114: Mike Cumpstey | C114: BL | D114: M75 | H114: =MIN(H$87:H113)-1 -> 75
A115: 29th | B115: Kevan Latham | C115: SELOC | D115: M65
A116: 30th | B116: Simon Cane | C116: LOC | D116: M75 | H116: =MIN(H$87:H115)-1 -> 74
A117: 31st | B117: Alex Crawford | C117: WCOC | D117: W50 | H117: =MIN(H$87:H116)-1 -> 73
A118: 32nd | B118: Tony Duncan | C118: WCOC | D118: M75 | H118: =MIN(H$87:H117)-1 -> 72
A119: 33rd | B119: Miriam Rosen | C119: SROC | D119: W70
A120: 34th | B120: Eleanor Broughton | C120: SLOW | D120: W35
A121: 35th | B121: John Nash | C121: LOC | D121: M70 | H121: =MIN(H$87:H120)-1 -> 71
A122: 36th | B122: Richard Bartlett | C122: LOC | D122: M65 | H122: =MIN(H$87:H121)-1 -> 70
A123: 37th | B123: Emma Graham | D123: W21 | H123: =MIN(H$87:H122)-1 -> 69
B143: SHORT GREEN
B144: Name | C144: Club | D144: Class | H144: Galoppen Score
A145: 1st | B145: Catherine Wetherfield | C145: WCOC | D145: W55 | H145: 99
A146: 2nd | B146: Gill Browne | C146: LOC | D146: W65 | H146: =MIN(H$145:H145)-1 -> 98
A147: 3rd | B147: Christine Robinson | C147: LOC | D147: W65 | H147: =MIN(H$145:H146)-1 -> 97
...

Sheet Yellow
B1: Yellow
B2: Name | C2: Club | D2: Age Class | E2: Penrith Beacon (BL) | F2: Loughrigg (LOC) | G2: Lank Rigg (WCOC) | H2: Ling Fell (WCOC) | I2: Harter Fell (LOC) | J2: Faulds Brow (BL) | K2: Latrigg & Greta Gorge (WCOC) | M2: Galoppen Score | N2: Number of Counting Scores | O2: Average of Counting Scores
B3: Wilf Clarkson | C3: WCOC | D3: M10 | F3: 99 | M3: =IFERROR(LARGE($E3:$L3,1),0)+IFERROR(LARGE($E3:$L3,2),0)+IFERROR(LARGE($E3:$L3,3),0)+IFERROR(LARGE($E3:$L3,4),0)+IFERROR(LARGE($E3:$L3,5),0) -> 99 | N3: =IF(COUNT(E3:L3)>5,5,COUNT(E3:L3)) -> 1 | O3: =M3/N3 -> 99
B4: James Heppenstall | C4: LOC | D4: M9 | I4: 99 | M4: =IFERROR(LARGE($E4:$L4,1),0)+IFERROR(LARGE($E4:$L4,2),0)+IFERROR(LARGE($E4:$L4,3),0)+IFERROR(LARGE($E4:$L4,4),0)+IFERROR(LARGE($E4:$L4,5),0) -> 99 | N4: =IF(COUNT(E4:L4)>5,5,COUNT(E4:L4)) -> 1 | O4: =M4/N4 -> 99
B5: Gary Flynn | C5: LOC | D5: M21 | E5: 99 | M5: =IFERROR(LARGE($E5:$L5,1),0)+IFERROR(LARGE($E5:$L5,2),0)+IFERROR(LARGE($E5:$L5,3),0)+IFERROR(LARGE($E5:$L5,4),0)+IFERROR(LARGE($E5:$L5,5),0) -> 99 | N5: =IF(COUNT(E5:L5)>5,5,COUNT(E5:L5)) -> 1 | O5: =M5/N5 -> 99
B6: Lucie Heppenstall | C6: LOC | D6: W7 | I6: 98 | M6: =IFERROR(LARGE($E6:$L6,1),0)+IFERROR(LARGE($E6:$L6,2),0)+IFERROR(LARGE($E6:$L6,3),0)+IFERROR(LARGE($E6:$L6,4),0)+IFERROR(LARGE($E6:$L6,5),0) -> 98 | N6: =IF(COUNT(E6:L6)>5,5,COUNT(E6:L6)) -> 1 | O6: =M6/N6 -> 98
B7: Ned Hutt | C7: BL | D7: M10 | E7: 98 | M7: =IFERROR(LARGE($E7:$L7,1),0)+IFERROR(LARGE($E7:$L7,2),0)+IFERROR(LARGE($E7:$L7,3),0)+IFERROR(LARGE($E7:$L7,4),0)+IFERROR(LARGE($E7:$L7,5),0) -> 98 | N7: =IF(COUNT(E7:L7)>5,5,COUNT(E7:L7)) -> 1 | O7: =M7/N7 -> 98
B8: Stefie Stein | C8: WCOC | D8: W10 | E8: 97 | M8: =IFERROR(LARGE($E8:$L8,1),0)+IFERROR(LARGE($E8:$L8,2),0)+IFERROR(LARGE($E8:$L8,3),0)+IFERROR(LARGE($E8:$L8,4),0)+IFERROR(LARGE($E8:$L8,5),0) -> 97 | N8: =IF(COUNT(E8:L8)>5,5,COUNT(E8:L8)) -> 1 | O8: =M8/N8 -> 97
B9: Henry Bennett | C9: LOC | D9: M10 | I9: 97 | M9: =IFERROR(LARGE($E9:$L9,1),0)+IFERROR(LARGE($E9:$L9,2),0)+IFERROR(LARGE($E9:$L9,3),0)+IFERROR(LARGE($E9:$L9,4),0)+IFERROR(LARGE($E9:$L9,5),0) -> 97 | N9: =IF(COUNT(E9:L9)>5,5,COUNT(E9:L9)) -> 1 | O9: =M9/N9 -> 97
B10: Jonty Razzetti | C10: BL | D10: M10 | E10: 96 | M10: =IFERROR(LARGE($E10:$L10,1),0)+IFERROR(LARGE($E10:$L10,2),0)+IFERROR(LARGE($E10:$L10,3),0)+IFERROR(LARGE($E10:$L10,4),0)+IFERROR(LARGE($E10:$L10,5),0) -> 96 | N10: =IF(COUNT(E10:L10)>5,5,COUNT(E10:L10)) -> 1 | O10: =M10/N10 -> 96
B11: Sola Holmes | C11: WCOC | D11: W10 | E11: 95 | M11: =IFERROR(LARGE($E11:$L11,1),0)+IFERROR(LARGE($E11:$L11,2),0)+IFERROR(LARGE($E11:$L11,3),0)+IFERROR(LARGE($E11:$L11,4),0)+IFERROR(LARGE($E11:$L11,5),0) -> 95 | N11: =IF(COUNT(E11:L11)>5,5,COUNT(E11:L11)) -> 1 | O11: =M11/N11 -> 95
B12: Naylor | C12: WCOC | D12: M10 | E12: 94 | M12: =IFERROR(LARGE($E12:$L12,1),0)+IFERROR(LARGE($E12:$L12,2),0)+IFERROR(LARGE($E12:$L12,3),0)+IFERROR(LARGE($E12:$L12,4),0)+IFERROR(LARGE($E12:$L12,5),0) -> 94 | N12: =IF(COUNT(E12:L12)>5,5,COUNT(E12:L12)) -> 1 | O12: =M12/N12 -> 94
B13: Cerys Naylor | C13: WCOC | D13: W10 | E13: 93 | M13: =IFERROR(LARGE($E13:$L13,1),0)+IFERROR(LARGE($E13:$L13,2),0)+IFERROR(LARGE($E13:$L13,3),0)+IFERROR(LARGE($E13:$L13,4),0)+IFERROR(LARGE($E13:$L13,5),0) -> 93 | N13: =IF(COUNT(E13:L13)>5,5,COUNT(E13:L13)) -> 1 | O13: =M13/N13 -> 93
B16: =COUNTA(B3:B14) -> 11 | E16: =COUNTA(E3:E14) -> 7 | F16: =COUNTA(F3:F14) -> 1 | G16: =COUNTA(G3:G14) -> 0 | H16: =COUNTA(H3:H14) -> 0 | I16: =COUNTA(I3:I14) -> 3 | L16: =COUNTA(L3:L14) -> 0 | M16: =COUNTA(M3:M14) -> 11 | N16: =COUNTA(N3:N14) -> 11 | O16: =COUNTA(O3:O14) -> 11

Sheet Orange
B1: Orange | E1: =Yellow!E2 -> Penrith Beacon (BL) | F1: =Yellow!F2 -> Loughrigg (LOC) | G1: =Yellow!G2 -> Lank Rigg (WCOC) | H1: =Yellow!H2 -> Ling Fell (WCOC) | I1: =Yellow!I2 -> Harter Fell (LOC) | J1: =Yellow!J2 -> Faulds Brow (BL) | K1: =Yellow!K2 -> Latrigg & Greta Gorge (WCOC) | L1: =Yellow!L2 -> 0 | M1: Galoppen Score | N1: Number of Counting Scores | O1: Average of Counting Scores
B2: Name | C2: Club | D2: Age Class | M2: Galoppen Score
B3: Quinn Thompson | C3: LOC | D3: M12 | F3: 98 | G3: 98 | I3: 99 | M3: =IFERROR(LARGE($E3:$L3,1),0)+IFERROR(LARGE($E3:$L3,2),0)+IFERROR(LARGE($E3:$L3,3),0)+IFERROR(LARGE($E3:$L3,4),0)+IFERROR(LARGE($E3:$L3,5),0) -> 295 | N3: =IF(COUNT(E3:L3)>5,5,COUNT(E3:L3)) -> 3 | O3: =M3/N3 -> 98.333333
B4: Jane Waterworth | C4: WCOC | D4: W65 | H4: 99 | M4: =IFERROR(LARGE($E4:$L4,1),0)+IFERROR(LARGE($E4:$L4,2),0)+IFERROR(LARGE($E4:$L4,3),0)+IFERROR(LARGE($E4:$L4,4),0)+IFERROR(LARGE($E4:$L4,5),0) -> 99 | N4: =IF(COUNT(E4:L4)>5,5,COUNT(E4:L4)) -> 1 | O4: =M4/N4 -> 99
B5: Jane Hunter | C5: WCOC | D5: W55 | G5: 99 | M5: =IFERROR(LARGE($E5:$L5,1),0)+IFERROR(LARGE($E5:$L5,2),0)+IFERROR(LARGE($E5:$L5,3),0)+IFERROR(LARGE($E5:$L5,4),0)+IFERROR(LARGE($E5:$L5,5),0) -> 99 | N5: =IF(COUNT(E5:L5)>5,5,COUNT(E5:L5)) -> 1 | O5: =M5/N5 -> 99
B6: Rafferty Phillips | C6: WCOC | D6: M10 | J6: 99 | M6: =IFERROR(LARGE($E6:$L6,1),0)+IFERROR(LARGE($E6:$L6,2),0)+IFERROR(LARGE($E6:$L6,3),0)+IFERROR(LARGE($E6:$L6,4),0)+IFERROR(LARGE($E6:$L6,5),0) -> 99 | N6: =IF(COUNT(E6:L6)>5,5,COUNT(E6:L6)) -> 1 | O6: =M6/N6 -> 99
B7: Tess Gibbs | C7: WAROC | D7: W12 | E7: 99 | M7: =IFERROR(LARGE($E7:$L7,1),0)+IFERROR(LARGE($E7:$L7,2),0)+IFERROR(LARGE($E7:$L7,3),0)+IFERROR(LARGE($E7:$L7,4),0)+IFERROR(LARGE($E7:$L7,5),0) -> 99 | N7: =IF(COUNT(E7:L7)>5,5,COUNT(E7:L7)) -> 1 | O7: =M7/N7 -> 99
B8: Jamie Osborne | C8: LOC | D8: M12 | F8: 99 | M8: =IFERROR(LARGE($E8:$L8,1),0)+IFERROR(LARGE($E8:$L8,2),0)+IFERROR(LARGE($E8:$L8,3),0)+IFERROR(LARGE($E8:$L8,4),0)+IFERROR(LARGE($E8:$L8,5),0) -> 99 | N8: =IF(COUNT(E8:L8)>5,5,COUNT(E8:L8)) -> 1 | O8: =M8/N8 -> 99
B9: Sola Holmes | C9: WCOC | D9: W10 | J9: 98 | M9: =IFERROR(LARGE($E9:$L9,1),0)+IFERROR(LARGE($E9:$L9,2),0)+IFERROR(LARGE($E9:$L9,3),0)+IFERROR(LARGE($E9:$L9,4),0)+IFERROR(LARGE($E9:$L9,5),0) -> 98 | N9: =IF(COUNT(E9:L9)>5,5,COUNT(E9:L9)) -> 1 | O9: =M9/N9 -> 98
B10: Helen Bennett | C10: LOC | D10: W40 | I10: 98 | M10: =IFERROR(LARGE($E10:$L10,1),0)+IFERROR(LARGE($E10:$L10,2),0)+IFERROR(LARGE($E10:$L10,3),0)+IFERROR(LARGE($E10:$L10,4),0)+IFERROR(LARGE($E10:$L10,5),0) -> 98 | N10: =IF(COUNT(E10:L10)>5,5,COUNT(E10:L10)) -> 1 | O10: =M10/N10 -> 98
B11: Martin Keegan | C11: BL | D11: M60 | F11: 97 | M11: =IFERROR(LARGE($E11:$L11,1),0)+IFERROR(LARGE($E11:$L11,2),0)+IFERROR(LARGE($E11:$L11,3),0)+IFERROR(LARGE($E11:$L11,4),0)+IFERROR(LARGE($E11:$L11,5),0) -> 97 | N11: =IF(COUNT(E11:L11)>5,5,COUNT(E11:L11)) -> 1 | O11: =M11/N11 -> 97
B16: =COUNTA(B3:B11) -> 9 | E16: =COUNTA(E3:E11) -> 1 | F16: =COUNTA(F3:F11) -> 3 | G16: =COUNTA(G3:G11) -> 2 | H16: =COUNTA(H3:H11) -> 1 | I16: =COUNTA(I3:I11) -> 2 | J16: =COUNTA(J3:J11) -> 2 | K16: =COUNTA(K3:K11) -> 0 | L16: =COUNTA(L3:L11) -> 0 | ... O16: =COUNTA(O3:O11) -> 9

Sheet L Green
B1: Light Green | E1: =Yellow!E2 -> Penrith Beacon (BL) | F1: =Yellow!F2 -> Loughrigg (LOC) | G1: =Yellow!G2 -> Lank Rigg (WCOC) | H1: =Yellow!H2 -> Ling Fell (WCOC) | I1: =Yellow!I2 -> Harter Fell (LOC) | J1: =Yellow!J2 -> Faulds Brow (BL) | K1: =Yellow!K2 -> Latrigg & Greta Gorge (WCOC) | L1: =Yellow!L2 -> 0 | M1: Galoppen Score | N1: Number of Counting Scores | O1: Average of Counting Scores
B2: Name | C2: Club | D2: Age Class | M2: Galoppen Score
B3: George Rennie | C3: WCOC | D3: M14 | E3: 98 | F3: 99 | G3: 99 | H3: 99 | M3: =IFERROR(LARGE($E3:$L3,1),0)+IFERROR(LARGE($E3:$L3,2),0)+IFERROR(LARGE($E3:$L3,3),0)+IFERROR(LARGE($E3:$L3,4),0)+IFERROR(LARGE($E3:$L3,5),0) -> 395 | N3: =IF(COUNT(E3:L3)>5,5,COUNT(E3:L3)) -> 4 | O3: =M3/N3 -> 98.75
B4: Jamie Osborne | C4: LOC | D4: M12 | I4: 99 | J4: 99 | K4: 99 | M4: =IFERROR(LARGE($E4:$L4,1),0)+IFERROR(LARGE($E4:$L4,2),0)+IFERROR(LARGE($E4:$L4,3),0)+IFERROR(LARGE($E4:$L4,4),0)+IFERROR(LARGE($E4:$L4,5),0) -> 297 | N4: =IF(COUNT(E4:L4)>5,5,COUNT(E4:L4)) -> 3 | O4: =M4/N4 -> 99
B5: Ash Boothroyd | C5: WCOC | D5: M14 | E5: 99 | M5: =IFERROR(LARGE($E5:$L5,1),0)+IFERROR(LARGE($E5:$L5,2),0)+IFERROR(LARGE($E5:$L5,3),0)+IFERROR(LARGE($E5:$L5,4),0)+IFERROR(LARGE($E5:$L5,5),0) -> 99 | N5: =IF(COUNT(E5:L5)>5,5,COUNT(E5:L5)) -> 1 | O5: =M5/N5 -> 99
B6: Lily Clarkson | C6: WCOC | D6: W14 | F6: 98 | M6: =IFERROR(LARGE($E6:$L6,1),0)+IFERROR(LARGE($E6:$L6,2),0)+IFERROR(LARGE($E6:$L6,3),0)+IFERROR(LARGE($E6:$L6,4),0)+IFERROR(LARGE($E6:$L6,5),0) -> 98 | N6: =IF(COUNT(E6:L6)>5,5,COUNT(E6:L6)) -> 1 | O6: =M6/N6 -> 98
B7: Kamila Winterbottom | C7: WCOC | D7: W45 | H7: 98 | M7: =IFERROR(LARGE($E7:$L7,1),0)+IFERROR(LARGE($E7:$L7,2),0)+IFERROR(LARGE($E7:$L7,3),0)+IFERROR(LARGE($E7:$L7,4),0)+IFERROR(LARGE($E7:$L7,5),0) -> 98 | N7: =IF(COUNT(E7:L7)>5,5,COUNT(E7:L7)) -> 1 | O7: =M7/N7 -> 98
B8: Maria Gaines | C8: BL | D8: W14 | J8: 98 | M8: =IFERROR(LARGE($E8:$L8,1),0)+IFERROR(LARGE($E8:$L8,2),0)+IFERROR(LARGE($E8:$L8,3),0)+IFERROR(LARGE($E8:$L8,4),0)+IFERROR(LARGE($E8:$L8,5),0) -> 98 | N8: =IF(COUNT(E8:L8)>5,5,COUNT(E8:L8)) -> 1 | O8: =M8/N8 -> 98
B9: Hannah Birkinshaw | C9: WCOC | D9: W14 | E9: 97 | M9: =IFERROR(LARGE($E9:$L9,1),0)+IFERROR(LARGE($E9:$L9,2),0)+IFERROR(LARGE($E9:$L9,3),0)+IFERROR(LARGE($E9:$L9,4),0)+IFERROR(LARGE($E9:$L9,5),0) -> 97 | N9: =IF(COUNT(E9:L9)>5,5,COUNT(E9:L9)) -> 1 | O9: =M9/N9 -> 97
B10: Karen Saunders | C10: LOC | D10: W55 | J10: 97 | M10: =IFERROR(LARGE($E10:$L10,1),0)+IFERROR(LARGE($E10:$L10,2),0)+IFERROR(LARGE($E10:$L10,3),0)+IFERROR(LARGE($E10:$L10,4),0)+IFERROR(LARGE($E10:$L10,5),0) -> 97 | N10: =IF(COUNT(E10:L10)>5,5,COUNT(E10:L10)) -> 1 | O10: =M10/N10 -> 97
B11: Elizabeth Woodcock | C11: WCOC | D11: W45 | E11: 96 | M11: =IFERROR(LARGE($E11:$L11,1),0)+IFERROR(LARGE($E11:$L11,2),0)+IFERROR(LARGE($E11:$L11,3),0)+IFERROR(LARGE($E11:$L11,4),0)+IFERROR(LARGE($E11:$L11,5),0) -> 96 | N11: =IF(COUNT(E11:L11)>5,5,COUNT(E11:L11)) -> 1 | O11: =M11/N11 -> 96

Sheet VSGreen
B1: Very Short Green | E1: =Yellow!E2 -> Penrith Beacon (BL) | F1: =Yellow!F2 -> Loughrigg (LOC) | G1: =Yellow!G2 -> Lank Rigg (WCOC) | H1: =Yellow!H2 -> Ling Fell (WCOC) | I1: =Yellow!I2 -> Harter Fell (LOC) | J1: =Yellow!J2 -> Faulds Brow (BL) | K1: =Yellow!K2 -> Latrigg & Greta Gorge (WCOC) | L1: =Yellow!L2 -> 0 | M1: Galoppen Score | N1: Number of Counting Scores | O1: Average of Counting Scores
B2: Name | C2: Club | D2: Age Class | M2: Galoppen Score
B3: Eleanor Osborne | C3: LOC | D3: W45 | F3: 99 | M3: =IFERROR(LARGE($E3:$L3,1),0)+IFERROR(LARGE($E3:$L3,2),0)+IFERROR(LARGE($E3:$L3,3),0)+IFERROR(LARGE($E3:$L3,4),0)+IFERROR(LARGE($E3:$L3,5),0) -> 99 | N3: =IF(COUNT(E3:L3)>5,5,COUNT(E3:L3)) -> 1 | O3: =M3/N3 -> 99
B4: Richard Moss | C4: BL | D4: M80 | F4: 98 | M4: =IFERROR(LARGE($E4:$L4,1),0)+IFERROR(LARGE($E4:$L4,2),0)+IFERROR(LARGE($E4:$L4,3),0)+IFERROR(LARGE($E4:$L4,4),0)+IFERROR(LARGE($E4:$L4,5),0) -> 98 | N4: =IF(COUNT(E4:L4)>5,5,COUNT(E4:L4)) -> 1 | O4: =M4/N4 -> 98

Sheet S Green
B1: Short Green | E1: =Yellow!E2 -> Penrith Beacon (BL) | F1: =Yellow!F2 -> Loughrigg (LOC) | G1: =Yellow!G2 -> Lank Rigg (WCOC) | H1: =Yellow!H2 -> Ling Fell (WCOC) | I1: =Yellow!I2 -> Harter Fell (LOC) | J1: =Yellow!J2 -> Faulds Brow (BL) | K1: =Yellow!K2 -> Latrigg & Greta Gorge (WCOC) | L1: =Yellow!L2 -> 0 | M1: Galoppen Score | N1: Number of Counting Scores | O1: Average of Counting Scores
B2: Name | C2: Club | D2: Age Class | M2: Galoppen Score
B3: Catherine Wetherfield | C3: WCOC | D3: W55 | G3: 99 | H3: 99 | I3: 96 | J3: 98 | K3: 99 | M3: =IFERROR(LARGE($E3:$L3,1),0)+IFERROR(LARGE($E3:$L3,2),0)+IFERROR(LARGE($E3:$L3,3),0)+IFERROR(LARGE($E3:$L3,4),0)+IFERROR(LARGE($E3:$L3,5),0) -> 491 | N3: =IF(COUNT(E3:L3)>5,5,COUNT(E3:L3)) -> 5 | O3: =M3/N3 -> 98.2
B4: Gill Browne | C4: LOC | D4: W65 | E4: 96 | F4: 92 | H4: 98 | J4: 96 | K4: 98 | M4: =IFERROR(LARGE($E4:$L4,1),0)+IFERROR(LARGE($E4:$L4,2),0)+IFERROR(LARGE($E4:$L4,3),0)+IFERROR(LARGE($E4:$L4,4),0)+IFERROR(LARGE($E4:$L4,5),0) -> 480 | N4: =IF(COUNT(E4:L4)>5,5,COUNT(E4:L4)) -> 5 | O4: =M4/N4 -> 96
B5: Kim Leslie | C5: WCOC | D5: W55 | E5: 98 | F5: 98 | G5: 96 | J5: 89 | K5: 96 | M5: =IFERROR(LARGE($E5:$L5,1),0)+IFERROR(LARGE($E5:$L5,2),0)+IFERROR(LARGE($E5:$L5,3),0)+IFERROR(LARGE($E5:$L5,4),0)+IFERROR(LARGE($E5:$L5,5),0) -> 477 | N5: =IF(COUNT(E5:L5)>5,5,COUNT(E5:L5)) -> 5 | O5: =M5/N5 -> 95.4
B6: David Lloyd | C6: LOC | D6: M70 | E6: 76 | F6: 83 | G6: 94 | J6: 95 | K6: 91 | M6: =IFERROR(LARGE($E6:$L6,1),0)+IFERROR(LARGE($E6:$L6,2),0)+IFERROR(LARGE($E6:$L6,3),0)+IFERROR(LARGE($E6:$L6,4),0)+IFERROR(LARGE($E6:$L6,5),0) -> 439 | N6: =IF(COUNT(E6:L6)>5,5,COUNT(E6:L6)) -> 5 | O6: =M6/N6 -> 87.8
B7: Alan Heppenstall | C7: LOC | D7: M80 | F7: 87 | H7: 90 | I7: 93 | J7: 76 | K7: 86 | M7: =IFERROR(LARGE($E7:$L7,1),0)+IFERROR(LARGE($E7:$L7,2),0)+IFERROR(LARGE($E7:$L7,3),0)+IFERROR(LARGE($E7:$L7,4),0)+IFERROR(LARGE($E7:$L7,5),0) -> 432 | N7: =IF(COUNT(E7:L7)>5,5,COUNT(E7:L7)) -> 5 | O7: =M7/N7 -> 86.4
B8: Janet Nash | C8: LOC | D8: W70 | E8: 99 | F8: 88 | J8: 94 | K8: 92 | M8: =IFERROR(LARGE($E8:$L8,1),0)+IFERROR(LARGE($E8:$L8,2),0)+IFERROR(LARGE($E8:$L8,3),0)+IFERROR(LARGE($E8:$L8,4),0)+IFERROR(LARGE($E8:$L8,5),0) -> 373 | N8: =IF(COUNT(E8:L8)>5,5,COUNT(E8:L8)) -> 4 | O8: =M8/N8 -> 93.25
B9: Joan Cumpstey | C9: BL | D9: W70 | E9: 90 | F9: 85 | H9: 94 | J9: 82 | M9: =IFERROR(LARGE($E9:$L9,1),0)+IFERROR(LARGE($E9:$L9,2),0)+IFERROR(LARGE($E9:$L9,3),0)+IFERROR(LARGE($E9:$L9,4),0)+IFERROR(LARGE($E9:$L9,5),0) -> 351 | N9: =IF(COUNT(E9:L9)>5,5,COUNT(E9:L9)) -> 4 | O9: =M9/N9 -> 87.75
B10: Christine Robinson | C10: LOC | D10: W65 | F10: 97 | J10: 92 | K10: 97 | M10: =IFERROR(LARGE($E10:$L10,1),0)+IFERROR(LARGE($E10:$L10,2),0)+IFERROR(LARGE($E10:$L10,3),0)+IFERROR(LARGE($E10:$L10,4),0)+IFERROR(LARGE($E10:$L10,5),0) -> 286 | N10: =IF(COUNT(E10:L10)>5,5,COUNT(E10:L10)) -> 3 | O10: =M10/N10 -> 95.333333
B11: Janette McHendry | C11: WCOC | D11: W50 | F11: 90 | G11: 98 | H11: 97 | M11: =IFERROR(LARGE($E11:$L11,1),0)+IFERROR(LARGE($E11:$L11,2),0)+IFERROR(LARGE($E11:$L11,3),0)+IFERROR(LARGE($E11:$L11,4),0)+IFERROR(LARGE($E11:$L11,5),0) -> 285 | N11: =IF(COUNT(E11:L11)>5,5,COUNT(E11:L11)) -> 3 | O11: =M11/N11 -> 95
B12: Cath Lee | C12: LOC | D12: W60 | G12: 97 | J12: 88 | K12: 94 | M12: =IFERROR(LARGE($E12:$L12,1),0)+IFERROR(LARGE($E12:$L12,2),0)+IFERROR(LARGE($E12:$L12,3),0)+IFERROR(LARGE($E12:$L12,4),0)+IFERROR(LARGE($E12:$L12,5),0) -> 279 | N12: =IF(COUNT(E12:L12)>5,5,COUNT(E12:L12)) -> 3 | O12: =M12/N12 -> 93
B13: Jane Venet | C13: LOC | D13: W65 | F13: 94 | H13: 89 | I13: 94 | M13: =IFERROR(LARGE($E13:$L13,1),0)+IFERROR(LARGE($E13:$L13,2),0)+IFERROR(LARGE($E13:$L13,3),0)+IFERROR(LARGE($E13:$L13,4),0)+IFERROR(LARGE($E13:$L13,5),0) -> 277 | N13: =IF(COUNT(E13:L13)>5,5,COUNT(E13:L13)) -> 3 | O13: =M13/N13 -> 92.333333
B14: Malcolm Ruckledge | C14: WCOC | D14: M75 | E14: 91 | F14: 95 | J14: 86 | M14: =IFERROR(LARGE($E14:$L14,1),0)+IFERROR(LARGE($E14:$L14,2),0)+IFERROR(LARGE($E14:$L14,3),0)+IFERROR(LARGE($E14:$L14,4),0)+IFERROR(LARGE($E14:$L14,5),0) -> 272 | N14: =IF(COUNT(E14:L14)>5,5,COUNT(E14:L14)) -> 3 | O14: =M14/N14 -> 90.666667
B15: Elizabeth Elliott | C15: WCOC | D15: W70 | I15: 95 | J15: 84 | K15: 88 | M15: =IFERROR(LARGE($E15:$L15,1),0)+IFERROR(LARGE($E15:$L15,2),0)+IFERROR(LARGE($E15:$L15,3),0)+IFERROR(LARGE($E15:$L15,4),0)+IFERROR(LARGE($E15:$L15,5),0) -> 267 | N15: =IF(COUNT(E15:L15)>5,5,COUNT(E15:L15)) -> 3 | O15: =M15/N15 -> 89
B16: Richard Moss | C16: BL | D16: M80 | E16: 74 | H16: 87 | J16: 78 | M16: =IFERROR(LARGE($E16:$L16,1),0)+IFERROR(LARGE($E16:$L16,2),0)+IFERROR(LARGE($E16:$L16,3),0)+IFERROR(LARGE($E16:$L16,4),0)+IFERROR(LARGE($E16:$L16,5),0) -> 239 | N16: =IF(COUNT(E16:L16)>5,5,COUNT(E16:L16)) -> 3 | O16: =M16/N16 -> 79.666667
B17: Hannah Birkinshaw | C17: WCOC | D17: W14 | H17: 95 | J17: 97 | M17: =IFERROR(LARGE($E17:$L17,1),0)+IFERROR(LARGE($E17:$L17,2),0)+IFERROR(LARGE($E17:$L17,3),0)+IFERROR(LARGE($E17:$L17,4),0)+IFERROR(LARGE($E17:$L17,5),0) -> 192 | N17: =IF(COUNT(E17:L17)>5,5,COUNT(E17:L17)) -> 2 | O17: =M17/N17 -> 96
B18: Chris Lates | C18: BL | D18: M80 | E18: 97 | K18: 95 | M18: =IFERROR(LARGE($E18:$L18,1),0)+IFERROR(LARGE($E18:$L18,2),0)+IFERROR(LARGE($E18:$L18,3),0)+IFERROR(LARGE($E18:$L18,4),0)+IFERROR(LARGE($E18:$L18,5),0) -> 192 | N18: =IF(COUNT(E18:L18)>5,5,COUNT(E18:L18)) -> 2 | O18: =M18/N18 -> 96
B19: Emma Moody | C19: WCOC | D19: W50 | H19: 96 | J19: 93 | M19: =IFERROR(LARGE($E19:$L19,1),0)+IFERROR(LARGE($E19:$L19,2),0)+IFERROR(LARGE($E19:$L19,3),0)+IFERROR(LARGE($E19:$L19,4),0)+IFERROR(LARGE($E19:$L19,5),0) -> 189 | N19: =IF(COUNT(E19:L19)>5,5,COUNT(E19:L19)) -> 2 | O19: =M19/N19 -> 94.5
B20: Steve Burge | C20: LOC | D20: M80 | I20: 98 | J20: 90 | M20: =IFERROR(LARGE($E20:$L20,1),0)+IFERROR(LARGE($E20:$L20,2),0)+IFERROR(LARGE($E20:$L20,3),0)+IFERROR(LARGE($E20:$L20,4),0)+IFERROR(LARGE($E20:$L20,5),0) -> 188 | N20: =IF(COUNT(E20:L20)>5,5,COUNT(E20:L20)) -> 2 | O20: =M20/N20 -> 94
B21: Christine Kiddier | C21: BL | D21: W70 | F21: 96 | J21: 91 | M21: =IFERROR(LARGE($E21:$L21,1),0)+IFERROR(LARGE($E21:$L21,2),0)+IFERROR(LARGE($E21:$L21,3),0)+IFERROR(LARGE($E21:$L21,4),0)+IFERROR(LARGE($E21:$L21,5),0) -> 187 | N21: =IF(COUNT(E21:L21)>5,5,COUNT(E21:L21)) -> 2 | O21: =M21/N21 -> 93.5
B22: Dick Whitworth | C22: BL | D22: M80 | E22: 83 | H22: 91 | M22: =IFERROR(LARGE($E22:$L22,1),0)+IFERROR(LARGE($E22:$L22,2),0)+IFERROR(LARGE($E22:$L22,3),0)+IFERROR(LARGE($E22:$L22,4),0)+IFERROR(LARGE($E22:$L22,5),0) -> 174 | N22: =IF(COUNT(E22:L22)>5,5,COUNT(E22:L22)) -> 2 | O22: =M22/N22 -> 87
B23: Rowan Purkis | C23: LOC | D23: W65 | E23: 86 | F23: 86 | M23: =IFERROR(LARGE($E23:$L23,1),0)+IFERROR(LARGE($E23:$L23,2),0)+IFERROR(LARGE($E23:$L23,3),0)+IFERROR(LARGE($E23:$L23,4),0)+IFERROR(LARGE($E23:$L23,5),0) -> 172 | N23: =IF(COUNT(E23:L23)>5,5,COUNT(E23:L23)) -> 2 | O23: =M23/N23 -> 86
B24: Janice Nichols | C24: BL | D24: W60 | E24: 88 | F24: 84 | M24: =IFERROR(LARGE($E24:$L24,1),0)+IFERROR(LARGE($E24:$L24,2),0)+IFERROR(LARGE($E24:$L24,3),0)+IFERROR(LARGE($E24:$L24,4),0)+IFERROR(LARGE($E24:$L24,5),0) -> 172 | N24: =IF(COUNT(E24:L24)>5,5,COUNT(E24:L24)) -> 2 | O24: =M24/N24 -> 86
B25: Lesley Wornham | C25: WCOC | D25: W65 | E25: 87 | J25: 83 | M25: =IFERROR(LARGE($E25:$L25,1),0)+IFERROR(LARGE($E25:$L25,2),0)+IFERROR(LARGE($E25:$L25,3),0)+IFERROR(LARGE($E25:$L25,4),0)+IFERROR(LARGE($E25:$L25,5),0) -> 170 | N25: =IF(COUNT(E25:L25)>5,5,COUNT(E25:L25)) -> 2 | O25: =M25/N25 -> 85
B26: Charles Weir | C26: BL | D26: M60 | E26: 85 | J26: 85 | M26: =IFERROR(LARGE($E26:$L26,1),0)+IFERROR(LARGE($E26:$L26,2),0)+IFERROR(LARGE($E26:$L26,3),0)+IFERROR(LARGE($E26:$L26,4),0)+IFERROR(LARGE($E26:$L26,5),0) -> 170 | N26: =IF(COUNT(E26:L26)>5,5,COUNT(E26:L26)) -> 2 | O26: =M26/N26 -> 85
B27: Anita Evans | C27: BL | D27: W65 | H27: 88 | J27: 81 | M27: =IFERROR(LARGE($E27:$L27,1),0)+IFERROR(LARGE($E27:$L27,2),0)+IFERROR(LARGE($E27:$L27,3),0)+IFERROR(LARGE($E27:$L27,4),0)+IFERROR(LARGE($E27:$L27,5),0) -> 169 | N27: =IF(COUNT(E27:L27)>5,5,COUNT(E27:L27)) -> 2 | O27: =M27/N27 -> 84.5
B28: Helen Neild | C28: LOC | D28: W75 | E28: 78 | J28: 87 | M28: =IFERROR(LARGE($E28:$L28,1),0)+IFERROR(LARGE($E28:$L28,2),0)+IFERROR(LARGE($E28:$L28,3),0)+IFERROR(LARGE($E28:$L28,4),0)+IFERROR(LARGE($E28:$L28,5),0) -> 165 | N28: =IF(COUNT(E28:L28)>5,5,COUNT(E28:L28)) -> 2 | O28: =M28/N28 -> 82.5
B29: David Fenwick | C29: WCOC | D29: M75 | E29: 84 | J29: 80 | M29: =IFERROR(LARGE($E29:$L29,1),0)+IFERROR(LARGE($E29:$L29,2),0)+IFERROR(LARGE($E29:$L29,3),0)+IFERROR(LARGE($E29:$L29,4),0)+IFERROR(LARGE($E29:$L29,5),0) -> 164 | N29: =IF(COUNT(E29:L29)>5,5,COUNT(E29:L29)) -> 2 | O29: =M29/N29 -> 82
B30: Dougal Kyle | C30: BL | D30: M85 | E30: 80 | J30: 77 | M30: =IFERROR(LARGE($E30:$L30,1),0)+IFERROR(LARGE($E30:$L30,2),0)+IFERROR(LARGE($E30:$L30,3),0)+IFERROR(LARGE($E30:$L30,4),0)+IFERROR(LARGE($E30:$L30,5),0) -> 157 | N30: =IF(COUNT(E30:L30)>5,5,COUNT(E30:L30)) -> 2 | O30: =M30/N30 -> 78.5
B31: Richard Towler | C31: LOC | D31: M70 | J31: 99 | M31: =IFERROR(LARGE($E31:$L31,1),0)+IFERROR(LARGE($E31:$L31,2),0)+IFERROR(LARGE($E31:$L31,3),0)+IFERROR(LARGE($E31:$L31,4),0)+IFERROR(LARGE($E31:$L31,5),0) -> 99 | N31: =IF(COUNT(E31:L31)>5,5,COUNT(E31:L31)) -> 1 | O31: =M31/N31 -> 99
B32: Carol McNeill | C32: LOC | D32: W75 | I32: 99 | M32: =IFERROR(LARGE($E32:$L32,1),0)+IFERROR(LARGE($E32:$L32,2),0)+IFERROR(LARGE($E32:$L32,3),0)+IFERROR(LARGE($E32:$L32,4),0)+IFERROR(LARGE($E32:$L32,5),0) -> 99 | N32: =IF(COUNT(E32:L32)>5,5,COUNT(E32:L32)) -> 1 | O32: =M32/N32 -> 99
B33: Patricia Davies | C33: BL | D33: W65 | F33: 99 | M33: =IFERROR(LARGE($E33:$L33,1),0)+IFERROR(LARGE($E33:$L33,2),0)+IFERROR(LARGE($E33:$L33,3),0)+IFERROR(LARGE($E33:$L33,4),0)+IFERROR(LARGE($E33:$L33,5),0) -> 99 | N33: =IF(COUNT(E33:L33)>5,5,COUNT(E33:L33)) -> 1 | O33: =M33/N33 -> 99
B34: Rach Stavert | C34: LOC | D34: W55 | I34: 97 | M34: =IFERROR(LARGE($E34:$L34,1),0)+IFERROR(LARGE($E34:$L34,2),0)+IFERROR(LARGE($E34:$L34,3),0)+IFERROR(LARGE($E34:$L34,4),0)+IFERROR(LARGE($E34:$L34,5),0) -> 97 | N34: =IF(COUNT(E34:L34)>5,5,COUNT(E34:L34)) -> 1 | O34: =M34/N34 -> 97
B35: Becky Shelford | C35: LOC | D35: W21 | E35: 95 | M35: =IFERROR(LARGE($E35:$L35,1),0)+IFERROR(LARGE($E35:$L35,2),0)+IFERROR(LARGE($E35:$L35,3),0)+IFERROR(LARGE($E35:$L35,4),0)+IFERROR(LARGE($E35:$L35,5),0) -> 95 | N35: =IF(COUNT(E35:L35)>5,5,COUNT(E35:L35)) -> 1 | O35: =M35/N35 -> 95
B36: Hilary Eastley | C36: BL | D36: W65 | E36: 94 | M36: =IFERROR(LARGE($E36:$L36,1),0)+IFERROR(LARGE($E36:$L36,2),0)+IFERROR(LARGE($E36:$L36,3),0)+IFERROR(LARGE($E36:$L36,4),0)+IFERROR(LARGE($E36:$L36,5),0) -> 94 | N36: =IF(COUNT(E36:L36)>5,5,COUNT(E36:L36)) -> 1 | O36: =M36/N36 -> 94
B37: Paul Tickner | C37: WCOC | D37: M65 | F37: 93 | M37: =IFERROR(LARGE($E37:$L37,1),0)+IFERROR(LARGE($E37:$L37,2),0)+IFERROR(LARGE($E37:$L37,3),0)+IFERROR(LARGE($E37:$L37,4),0)+IFERROR(LARGE($E37:$L37,5),0) -> 93 | N37: =IF(COUNT(E37:L37)>5,5,COUNT(E37:L37)) -> 1 | O37: =M37/N37 -> 93
B38: Sheila Hobson | C38: LOC | D38: W65 | H38: 93 | M38: =IFERROR(LARGE($E38:$L38,1),0)+IFERROR(LARGE($E38:$L38,2),0)+IFERROR(LARGE($E38:$L38,3),0)+IFERROR(LARGE($E38:$L38,4),0)+IFERROR(LARGE($E38:$L38,5),0) -> 93 | N38: =IF(COUNT(E38:L38)>5,5,COUNT(E38:L38)) -> 1 | O38: =M38/N38 -> 93
B39: Isobel Williamson | C39: LOC | D39: W70 | K39: 93 | M39: =IFERROR(LARGE($E39:$L39,1),0)+IFERROR(LARGE($E39:$L39,2),0)+IFERROR(LARGE($E39:$L39,3),0)+IFERROR(LARGE($E39:$L39,4),0)+IFERROR(LARGE($E39:$L39,5),0) -> 93 | N39: =IF(COUNT(E39:L39)>5,5,COUNT(E39:L39)) -> 1 | O39: =M39/N39 -> 93
B40: Heather Prince | C40: BL | D40: W60 | E40: 93 | M40: =IFERROR(LARGE($E40:$L40,1),0)+IFERROR(LARGE($E40:$L40,2),0)+IFERROR(LARGE($E40:$L40,3),0)+IFERROR(LARGE($E40:$L40,4),0)+IFERROR(LARGE($E40:$L40,5),0) -> 93 | N40: =IF(COUNT(E40:L40)>5,5,COUNT(E40:L40)) -> 1 | O40: =M40/N40 -> 93
B41: Rebecca Crellin | C41: WCOC | D41: W35 | H41: 92 | M41: =IFERROR(LARGE($E41:$L41,1),0)+IFERROR(LARGE($E41:$L41,2),0)+IFERROR(LARGE($E41:$L41,3),0)+IFERROR(LARGE($E41:$L41,4),0)+IFERROR(LARGE($E41:$L41,5),0) -> 92 | N41: =IF(COUNT(E41:L41)>5,5,COUNT(E41:L41)) -> 1 | O41: =M41/N41 -> 92
B42: Gwen Rea | C42: WCOC | D42: W70 | I42: 92 | M42: =IFERROR(LARGE($E42:$L42,1),0)+IFERROR(LARGE($E42:$L42,2),0)+IFERROR(LARGE($E42:$L42,3),0)+IFERROR(LARGE($E42:$L42,4),0)+IFERROR(LARGE($E42:$L42,5),0) -> 92 | N42: =IF(COUNT(E42:L42)>5,5,COUNT(E42:L42)) -> 1 | O42: =M42/N42 -> 92
B43: Karen Blackburn | C43: BL | D43: W75 | E43: 92 | M43: =IFERROR(LARGE($E43:$L43,1),0)+IFERROR(LARGE($E43:$L43,2),0)+IFERROR(LARGE($E43:$L43,3),0)+IFERROR(LARGE($E43:$L43,4),0)+IFERROR(LARGE($E43:$L43,5),0) -> 92 | N43: =IF(COUNT(E43:L43)>5,5,COUNT(E43:L43)) -> 1 | O43: =M43/N43 -> 92
B44: John Pullin | C44: LOC | D44: M70 | I44: 91 | M44: =IFERROR(LARGE($E44:$L44,1),0)+IFERROR(LARGE($E44:$L44,2),0)+IFERROR(LARGE($E44:$L44,3),0)+IFERROR(LARGE($E44:$L44,4),0)+IFERROR(LARGE($E44:$L44,5),0) -> 91 | N44: =IF(COUNT(E44:L44)>5,5,COUNT(E44:L44)) -> 1 | O44: =M44/N44 -> 91
B45: Andrew Smith | C45: LOC | D45: M75 | F45: 91 | M45: =IFERROR(LARGE($E45:$L45,1),0)+IFERROR(LARGE($E45:$L45,2),0)+IFERROR(LARGE($E45:$L45,3),0)+IFERROR(LARGE($E45:$L45,4),0)+IFERROR(LARGE($E45:$L45,5),0) -> 91 | N45: =IF(COUNT(E45:L45)>5,5,COUNT(E45:L45)) -> 1 | O45: =M45/N45 -> 91
B46: Myrtle Ashworth | C46: WCOC | D46: W16 | K46: 90 | M46: =IFERROR(LARGE($E46:$L46,1),0)+IFERROR(LARGE($E46:$L46,2),0)+IFERROR(LARGE($E46:$L46,3),0)+IFERROR(LARGE($E46:$L46,4),0)+IFERROR(LARGE($E46:$L46,5),0) -> 90 | N46: =IF(COUNT(E46:L46)>5,5,COUNT(E46:L46)) -> 1 | O46: =M46/N46 -> 90
B47: Debbie Watson | C47: WCOC | D47: W60 | K47: 89 | M47: =IFERROR(LARGE($E47:$L47,1),0)+IFERROR(LARGE($E47:$L47,2),0)+IFERROR(LARGE($E47:$L47,3),0)+IFERROR(LARGE($E47:$L47,4),0)+IFERROR(LARGE($E47:$L47,5),0) -> 89 | N47: =IF(COUNT(E47:L47)>5,5,COUNT(E47:L47)) -> 1 | O47: =M47/N47 -> 89
B48: Ann Smith | C48: LOC | D48: W70 | F48: 89 | M48: =IFERROR(LARGE($E48:$L48,1),0)+IFERROR(LARGE($E48:$L48,2),0)+IFERROR(LARGE($E48:$L48,3),0)+IFERROR(LARGE($E48:$L48,4),0)+IFERROR(LARGE($E48:$L48,5),0) -> 89 | N48: =IF(COUNT(E48:L48)>5,5,COUNT(E48:L48)) -> 1 | O48: =M48/N48 -> 89
B49: Judith Filmore | C49: LOC | D49: W60 | K49: 87 | M49: =IFERROR(LARGE($E49:$L49,1),0)+IFERROR(LARGE($E49:$L49,2),0)+IFERROR(LARGE($E49:$L49,3),0)+IFERROR(LARGE($E49:$L49,4),0)+IFERROR(LARGE($E49:$L49,5),0) -> 87 | N49: =IF(COUNT(E49:L49)>5,5,COUNT(E49:L49)) -> 1 | O49: =M49/N49 -> 87
B50: Chris Horsewill | C50: LOC | D50: W60 | E50: 82 | M50: =IFERROR(LARGE($E50:$L50,1),0)+IFERROR(LARGE($E50:$L50,2),0)+IFERROR(LARGE($E50:$L50,3),0)+IFERROR(LARGE($E50:$L50,4),0)+IFERROR(LARGE($E50:$L50,5),0) -> 82 | N50: =IF(COUNT(E50:L50)>5,5,COUNT(E50:L50)) -> 1 | O50: =M50/N50 -> 82
B51: Karen Saunders | C51: LOC | D51: W55 | E51: 81 | M51: =IFERROR(LARGE($E51:$L51,1),0)+IFERROR(LARGE($E51:$L51,2),0)+IFERROR(LARGE($E51:$L51,3),0)+IFERROR(LARGE($E51:$L51,4),0)+IFERROR(LARGE($E51:$L51,5),0) -> 81 | N51: =IF(COUNT(E51:L51)>5,5,COUNT(E51:L51)) -> 1 | O51: =M51/N51 -> 81
B52: Rosalie Liddell | C52: BL | D52: W65 | E52: 79 | M52: =IFERROR(LARGE($E52:$L52,1),0)+IFERROR(LARGE($E52:$L52,2),0)+IFERROR(LARGE($E52:$L52,3),0)+IFERROR(LARGE($E52:$L52,4),0)+IFERROR(LARGE($E52:$L52,5),0) -> 79 | N52: =IF(COUNT(E52:L52)>5,5,COUNT(E52:L52)) -> 1 | O52: =M52/N52 -> 79
B53: Nancy Powell Davies | C53: BL | D53: W70 | J53: 79 | M53: =IFERROR(LARGE($E53:$L53,1),0)+IFERROR(LARGE($E53:$L53,2),0)+IFERROR(LARGE($E53:$L53,3),0)+IFERROR(LARGE($E53:$L53,4),0)+IFERROR(LARGE($E53:$L53,5),0) -> 79 | N53: =IF(COUNT(E53:L53)>5,5,COUNT(E53:L53)) -> 1 | O53: =M53/N53 -> 79
B54: Kamila Winterbottom | C54: WCOC | D54: W45 | E54: 77 | M54: =IFERROR(LARGE($E54:$L54,1),0)+IFERROR(LARGE($E54:$L54,2),0)+IFERROR(LARGE($E54:$L54,3),0)+IFERROR(LARGE($E54:$L54,4),0)+IFERROR(LARGE($E54:$L54,5),0) -> 77 | N54: =IF(COUNT(E54:L54)>5,5,COUNT(E54:L54)) -> 1 | O54: =M54/N54 -> 77
B55: Geoff Armer | C55: BL | D55: M75 | E55: 75 | M55: =IFERROR(LARGE($E55:$L55,1),0)+IFERROR(LARGE($E55:$L55,2),0)+IFERROR(LARGE($E55:$L55,3),0)+IFERROR(LARGE($E55:$L55,4),0)+IFERROR(LARGE($E55:$L55,5),0) -> 75 | N55: =IF(COUNT(E55:L55)>5,5,COUNT(E55:L55)) -> 1 | O55: =M55/N55 -> 75
B76: =COUNTA(B3:B75) -> 53 | C76: =COUNTA(C3:C75) -> 53 | D76: =COUNTA(D3:D75) -> 53 | E76: =COUNTA(E3:E75) -> 25 | F76: =COUNTA(F3:F75) -> 17 | G76: =COUNTA(G3:G75) -> 5 | H76: =COUNTA(H3:H75) -> 13 | I76: =COUNTA(I3:I75) -> 9 | ... O76: =COUNTA(O3:O75) -> 53

Sheet Green
B1: Green | E1: =Yellow!E2 -> Penrith Beacon (BL) | F1: =Yellow!F2 -> Loughrigg (LOC) | G1: =Yellow!G2 -> Lank Rigg (WCOC) | H1: =Yellow!H2 -> Ling Fell (WCOC) | I1: =Yellow!I2 -> Harter Fell (LOC) | J1: =Yellow!J2 -> Faulds Brow (BL) | K1: =Yellow!K2 -> Latrigg & Greta Gorge (WCOC) | L1: =Yellow!L2 -> 0 | M1: Galoppen Score | N1: Number of Counting Scores | O1: Average of Counting Scores
B2: Name | C2: Club | D2: Age Class | M2: Galoppen Score
B3: Sophie Crawford | C3: WCOC | D3: W14 | E3: 93 | F3: 93 | G3: 95 | J3: 95 | K3: 97 | M3: =IFERROR(LARGE($E3:$L3,1),0)+IFERROR(LARGE($E3:$L3,2),0)+IFERROR(LARGE($E3:$L3,3),0)+IFERROR(LARGE($E3:$L3,4),0)+IFERROR(LARGE($E3:$L3,5),0) -> 473 | N3: =IF(COUNT(E3:L3)>5,5,COUNT(E3:L3)) -> 5 | O3: =M3/N3 -> 94.6
B4: Roger Thomas | C4: WCOC | D4: M60 | E4: 92 | F4: 96 | H4: 96 | J4: 90 | K4: 92 | M4: =IFERROR(LARGE($E4:$L4,1),0)+IFERROR(LARGE($E4:$L4,2),0)+IFERROR(LARGE($E4:$L4,3),0)+IFERROR(LARGE($E4:$L4,4),0)+IFERROR(LARGE($E4:$L4,5),0) -> 466 | N4: =IF(COUNT(E4:L4)>5,5,COUNT(E4:L4)) -> 5 | O4: =M4/N4 -> 93.2
B5: Ian Teasdale | C5: WCOC | D5: M60 | E5: 89 | G5: 90 | H5: 92 | I5: 87 | J5: 85 | K5: 84 | M5: =IFERROR(LARGE($E5:$L5,1),0)+IFERROR(LARGE($E5:$L5,2),0)+IFERROR(LARGE($E5:$L5,3),0)+IFERROR(LARGE($E5:$L5,4),0)+IFERROR(LARGE($E5:$L5,5),0) -> 443 | N5: =IF(COUNT(E5:L5)>5,5,COUNT(E5:L5)) -> 5 | O5: =M5/N5 -> 88.6
B6: Anne Burbidge | C6: WCOC | D6: W60 | E6: 62 | F6: 84 | G6: 91 | H6: 88 | I6: 92 | J6: 75 | K6: 81 | M6: =IFERROR(LARGE($E6:$L6,1),0)+IFERROR(LARGE($E6:$L6,2),0)+IFERROR(LARGE($E6:$L6,3),0)+IFERROR(LARGE($E6:$L6,4),0)+IFERROR(LARGE($E6:$L6,5),0) -> 436 | N6: =IF(COUNT(E6:L6)>5,5,COUNT(E6:L6)) -> 5 | O6: =M6/N6 -> 87.2
B7: Eva Humphreys | C7: WCOC | D7: W16 | F7: 87 | G7: 82 | H7: 86 | I7: 79 | J7: 83 | K7: 96 | M7: =IFERROR(LARGE($E7:$L7,1),0)+IFERROR(LARGE($E7:$L7,2),0)+IFERROR(LARGE($E7:$L7,3),0)+IFERROR(LARGE($E7:$L7,4),0)+IFERROR(LARGE($E7:$L7,5),0) -> 434 | N7: =IF(COUNT(E7:L7)>5,5,COUNT(E7:L7)) -> 5 | O7: =M7/N7 -> 86.8
B8: Eleanor Osborne | C8: LOC | D8: W45 | G8: 92 | H8: 97 | I8: 78 | J8: 78 | K8: 86 | M8: =IFERROR(LARGE($E8:$L8,1),0)+IFERROR(LARGE($E8:$L8,2),0)+IFERROR(LARGE($E8:$L8,3),0)+IFERROR(LARGE($E8:$L8,4),0)+IFERROR(LARGE($E8:$L8,5),0) -> 431 | N8: =IF(COUNT(E8:L8)>5,5,COUNT(E8:L8)) -> 5 | O8: =M8/N8 -> 86.2
B9: Sally Heppell | C9: WCOC | D9: W45 | E9: 80 | F9: 83 | G9: 84 | H9: 91 | J9: 80 | M9: =IFERROR(LARGE($E9:$L9,1),0)+IFERROR(LARGE($E9:$L9,2),0)+IFERROR(LARGE($E9:$L9,3),0)+IFERROR(LARGE($E9:$L9,4),0)+IFERROR(LARGE($E9:$L9,5),0) -> 418 | N9: =IF(COUNT(E9:L9)>5,5,COUNT(E9:L9)) -> 5 | O9: =M9/N9 -> 83.6
B10: Carl Humphreys | C10: WCOC | D10: M40 | F10: 76 | G10: 80 | H10: 84 | J10: 84 | K10: 85 | M10: =IFERROR(LARGE($E10:$L10,1),0)+IFERROR(LARGE($E10:$L10,2),0)+IFERROR(LARGE($E10:$L10,3),0)+IFERROR(LARGE($E10:$L10,4),0)+IFERROR(LARGE($E10:$L10,5),0) -> 409 | N10: =IF(COUNT(E10:L10)>5,5,COUNT(E10:L10)) -> 5 | O10: =M10/N10 -> 81.8
B11: Tony Duncan | C11: WCOC | D11: M75 | E11: 82 | F11: 75 | G11: 88 | H11: 77 | J11: 77 | K11: 72 | M11: =IFERROR(LARGE($E11:$L11,1),0)+IFERROR(LARGE($E11:$L11,2),0)+IFERROR(LARGE($E11:$L11,3),0)+IFERROR(LARGE($E11:$L11,4),0)+IFERROR(LARGE($E11:$L11,5),0) -> 399 | N11: =IF(COUNT(E11:L11)>5,5,COUNT(E11:L11)) -> 5 | O11: =M11/N11 -> 79.8
B12: Toby Heppell | C12: WCOC | D12: M14 | E12: 97 | G12: 96 | H12: 98 | J12: 99 | M12: =IFERROR(LARGE($E12:$L12,1),0)+IFERROR(LARGE($E12:$L12,2),0)+IFERROR(LARGE($E12:$L12,3),0)+IFERROR(LARGE($E12:$L12,4),0)+IFERROR(LARGE($E12:$L12,5),0) -> 390 | N12: =IF(COUNT(E12:L12)>5,5,COUNT(E12:L12)) -> 4 | O12: =M12/N12 -> 97.5
B13: Roger Jackson | C13: WCOC | D13: M75 | G13: 85 | H13: 93 | J13: 79 | K13: 89 | M13: =IFERROR(LARGE($E13:$L13,1),0)+IFERROR(LARGE($E13:$L13,2),0)+IFERROR(LARGE($E13:$L13,3),0)+IFERROR(LARGE($E13:$L13,4),0)+IFERROR(LARGE($E13:$L13,5),0) -> 346 | N13: =IF(COUNT(E13:L13)>5,5,COUNT(E13:L13)) -> 4 | O13: =M13/N13 -> 86.5
B14: Alex Crawford | C14: WCOC | D14: W50 | E14: 77 | G14: 87 | H14: 85 | K14: 73 | M14: =IFERROR(LARGE($E14:$L14,1),0)+IFERROR(LARGE($E14:$L14,2),0)+IFERROR(LARGE($E14:$L14,3),0)+IFERROR(LARGE($E14:$L14,4),0)+IFERROR(LARGE($E14:$L14,5),0) -> 322 | N14: =IF(COUNT(E14:L14)>5,5,COUNT(E14:L14)) -> 4 | O14: =M14/N14 -> 80.5
B15: Deborah Goodwin | C15: WCOC | D15: W60 | G15: 79 | I15: 88 | J15: 72 | K15: 76 | M15: =IFERROR(LARGE($E15:$L15,1),0)+IFERROR(LARGE($E15:$L15,2),0)+IFERROR(LARGE($E15:$L15,3),0)+IFERROR(LARGE($E15:$L15,4),0)+IFERROR(LARGE($E15:$L15,5),0) -> 315 | N15: =IF(COUNT(E15:L15)>5,5,COUNT(E15:L15)) -> 4 | O15: =M15/N15 -> 78.75
B16: Kathryn Savage | C16: LOC | D16: W45 | F16: 71 | H16: 83 | I16: 77 | J16: 82 | M16: =IFERROR(LARGE($E16:$L16,1),0)+IFERROR(LARGE($E16:$L16,2),0)+IFERROR(LARGE($E16:$L16,3),0)+IFERROR(LARGE($E16:$L16,4),0)+IFERROR(LARGE($E16:$L16,5),0) -> 313 | N16: =IF(COUNT(E16:L16)>5,5,COUNT(E16:L16)) -> 4 | O16: =M16/N16 -> 78.25
B17: Sam Osborne | C17: LOC | D17: M14 | G17: 97 | J17: 97 | K17: 99 | M17: =IFERROR(LARGE($E17:$L17,1),0)+IFERROR(LARGE($E17:$L17,2),0)+IFERROR(LARGE($E17:$L17,3),0)+IFERROR(LARGE($E17:$L17,4),0)+IFERROR(LARGE($E17:$L17,5),0) -> 293 | N17: =IF(COUNT(E17:L17)>5,5,COUNT(E17:L17)) -> 3 | O17: =M17/N17 -> 97.666667
B18: Richard Evans | C18: BL | D18: M65 | E18: 65 | F18: 70 | H18: 80 | J18: 70 | M18: =IFERROR(LARGE($E18:$L18,1),0)+IFERROR(LARGE($E18:$L18,2),0)+IFERROR(LARGE($E18:$L18,3),0)+IFERROR(LARGE($E18:$L18,4),0)+IFERROR(LARGE($E18:$L18,5),0) -> 285 | N18: =IF(COUNT(E18:L18)>5,5,COUNT(E18:L18)) -> 4 | O18: =M18/N18 -> 71.25
B19: Stella Lewsley | C19: BL | D19: W65 | E19: 99 | J19: 94 | K19: 91 | M19: =IFERROR(LARGE($E19:$L19,1),0)+IFERROR(LARGE($E19:$L19,2),0)+IFERROR(LARGE($E19:$L19,3),0)+IFERROR(LARGE($E19:$L19,4),0)+IFERROR(LARGE($E19:$L19,5),0) -> 284 | N19: =IF(COUNT(E19:L19)>5,5,COUNT(E19:L19)) -> 3 | O19: =M19/N19 -> 94.666667
B20: Jenny Wren | C20: BL | D20: W70 | E20: 69 | F20: 72 | H20: 76 | J20: 63 | M20: =IFERROR(LARGE($E20:$L20,1),0)+IFERROR(LARGE($E20:$L20,2),0)+IFERROR(LARGE($E20:$L20,3),0)+IFERROR(LARGE($E20:$L20,4),0)+IFERROR(LARGE($E20:$L20,5),0) -> 280 | N20: =IF(COUNT(E20:L20)>5,5,COUNT(E20:L20)) -> 4 | O20: =M20/N20 -> 70
B21: Graham Capper | C21: LOC | D21: M60 | F21: 95 | J21: 92 | K21: 90 | M21: =IFERROR(LARGE($E21:$L21,1),0)+IFERROR(LARGE($E21:$L21,2),0)+IFERROR(LARGE($E21:$L21,3),0)+IFERROR(LARGE($E21:$L21,4),0)+IFERROR(LARGE($E21:$L21,5),0) -> 277 | N21: =IF(COUNT(E21:L21)>5,5,COUNT(E21:L21)) -> 3 | O21: =M21/N21 -> 92.333333
B22: Mike Cumpstey | C22: BL | D22: M75 | E22: 60 | H22: 75 | J22: 67 | K22: 75 | M22: =IFERROR(LARGE($E22:$L22,1),0)+IFERROR(LARGE($E22:$L22,2),0)+IFERROR(LARGE($E22:$L22,3),0)+IFERROR(LARGE($E22:$L22,4),0)+IFERROR(LARGE($E22:$L22,5),0) -> 277 | N22: =IF(COUNT(E22:L22)>5,5,COUNT(E22:L22)) -> 4 | O22: =M22/N22 -> 69.25
B23: Richard Cummings | C23: WCOC | D23: M60 | E23: 90 | I23: 98 | J23: 87 | M23: =IFERROR(LARGE($E23:$L23,1),0)+IFERROR(LARGE($E23:$L23,2),0)+IFERROR(LARGE($E23:$L23,3),0)+IFERROR(LARGE($E23:$L23,4),0)+IFERROR(LARGE($E23:$L23,5),0) -> 275 | N23: =IF(COUNT(E23:L23)>5,5,COUNT(E23:L23)) -> 3 | O23: =M23/N23 -> 91.666667
B24: Susan Skinner | C24: WCOC | D24: W55 | E24: 95 | F24: 90 | H24: 87 | M24: =IFERROR(LARGE($E24:$L24,1),0)+IFERROR(LARGE($E24:$L24,2),0)+IFERROR(LARGE($E24:$L24,3),0)+IFERROR(LARGE($E24:$L24,4),0)+IFERROR(LARGE($E24:$L24,5),0) -> 272 | N24: =IF(COUNT(E24:L24)>5,5,COUNT(E24:L24)) -> 3 | O24: =M24/N24 -> 90.666667
B25: Lynne Thomas | C25: WCOC | D25: W50 | E25: 88 | J25: 93 | K25: 88 | M25: =IFERROR(LARGE($E25:$L25,1),0)+IFERROR(LARGE($E25:$L25,2),0)+IFERROR(LARGE($E25:$L25,3),0)+IFERROR(LARGE($E25:$L25,4),0)+IFERROR(LARGE($E25:$L25,5),0) -> 269 | N25: =IF(COUNT(E25:L25)>5,5,COUNT(E25:L25)) -> 3 | O25: =M25/N25 -> 89.666667
B26: Cliff Etherden | C26: LOC | D26: M70 | E26: 98 | J26: 91 | K26: 80 | M26: =IFERROR(LARGE($E26:$L26,1),0)+IFERROR(LARGE($E26:$L26,2),0)+IFERROR(LARGE($E26:$L26,3),0)+IFERROR(LARGE($E26:$L26,4),0)+IFERROR(LARGE($E26:$L26,5),0) -> 269 | N26: =IF(COUNT(E26:L26)>5,5,COUNT(E26:L26)) -> 3 | O26: =M26/N26 -> 89.666667
B27: Raymond Wren | C27: BL | D27: M75 | F27: 92 | H27: 81 | K27: 93 | M27: =IFERROR(LARGE($E27:$L27,1),0)+IFERROR(LARGE($E27:$L27,2),0)+IFERROR(LARGE($E27:$L27,3),0)+IFERROR(LARGE($E27:$L27,4),0)+IFERROR(LARGE($E27:$L27,5),0) -> 266 | N27: =IF(COUNT(E27:L27)>5,5,COUNT(E27:L27)) -> 3 | O27: =M27/N27 -> 88.666667
B28: Margaret Mackenzie | C28: WCOC | D28: W60 | G28: 89 | H28: 90 | J28: 86 | M28: =IFERROR(LARGE($E28:$L28,1),0)+IFERROR(LARGE($E28:$L28,2),0)+IFERROR(LARGE($E28:$L28,3),0)+IFERROR(LARGE($E28:$L28,4),0)+IFERROR(LARGE($E28:$L28,5),0) -> 265 | N28: =IF(COUNT(E28:L28)>5,5,COUNT(E28:L28)) -> 3 | O28: =M28/N28 -> 88.333333
B29: Louise Dunn | C29: LOC | D29: W60 | E29: 94 | F29: 78 | J29: 88 | M29: =IFERROR(LARGE($E29:$L29,1),0)+IFERROR(LARGE($E29:$L29,2),0)+IFERROR(LARGE($E29:$L29,3),0)+IFERROR(LARGE($E29:$L29,4),0)+IFERROR(LARGE($E29:$L29,5),0) -> 260 | N29: =IF(COUNT(E29:L29)>5,5,COUNT(E29:L29)) -> 3 | O29: =M29/N29 -> 86.666667
B30: Richard Bartlett | C30: LOC | D30: M65 | F30: 69 | I30: 82 | K30: 70 | M30: =IFERROR(LARGE($E30:$L30,1),0)+IFERROR(LARGE($E30:$L30,2),0)+IFERROR(LARGE($E30:$L30,3),0)+IFERROR(LARGE($E30:$L30,4),0)+IFERROR(LARGE($E30:$L30,5),0) -> 221 | N30: =IF(COUNT(E30:L30)>5,5,COUNT(E30:L30)) -> 3 | O30: =M30/N30 -> 73.666667
B31: John Nash | C31: LOC | D31: M70 | E31: 66 | F31: 77 | K31: 71 | M31: =IFERROR(LARGE($E31:$L31,1),0)+IFERROR(LARGE($E31:$L31,2),0)+IFERROR(LARGE($E31:$L31,3),0)+IFERROR(LARGE($E31:$L31,4),0)+IFERROR(LARGE($E31:$L31,5),0) -> 214 | N31: =IF(COUNT(E31:L31)>5,5,COUNT(E31:L31)) -> 3 | O31: =M31/N31 -> 71.333333
B32: Philip Nichols | C32: BL | D32: M65 | E32: 71 | F32: 74 | J32: 68 | M32: =IFERROR(LARGE($E32:$L32,1),0)+IFERROR(LARGE($E32:$L32,2),0)+IFERROR(LARGE($E32:$L32,3),0)+IFERROR(LARGE($E32:$L32,4),0)+IFERROR(LARGE($E32:$L32,5),0) -> 213 | N32: =IF(COUNT(E32:L32)>5,5,COUNT(E32:L32)) -> 3 | O32: =M32/N32 -> 71
B33: Tom Barkas | C33: LOC | D33: M70 | E33: 74 | F33: 65 | J33: 60 | M33: =IFERROR(LARGE($E33:$L33,1),0)+IFERROR(LARGE($E33:$L33,2),0)+IFERROR(LARGE($E33:$L33,3),0)+IFERROR(LARGE($E33:$L33,4),0)+IFERROR(LARGE($E33:$L33,5),0) -> 199 | N33: =IF(COUNT(E33:L33)>5,5,COUNT(E33:L33)) -> 3 | O33: =M33/N33 -> 66.333333
B34: Danny Winterbottom | C34: WCOC | D34: M16 | H34: 99 | J34: 96 | M34: =IFERROR(LARGE($E34:$L34,1),0)+IFERROR(LARGE($E34:$L34,2),0)+IFERROR(LARGE($E34:$L34,3),0)+IFERROR(LARGE($E34:$L34,4),0)+IFERROR(LARGE($E34:$L34,5),0) -> 195 | N34: =IF(COUNT(E34:L34)>5,5,COUNT(E34:L34)) -> 2 | O34: =M34/N34 -> 97.5
B35: Richard Tiley | C35: LOC | D35: M60 | F35: 97 | H35: 95 | M35: =IFERROR(LARGE($E35:$L35,1),0)+IFERROR(LARGE($E35:$L35,2),0)+IFERROR(LARGE($E35:$L35,3),0)+IFERROR(LARGE($E35:$L35,4),0)+IFERROR(LARGE($E35:$L35,5),0) -> 192 | N35: =IF(COUNT(E35:L35)>5,5,COUNT(E35:L35)) -> 2 | O35: =M35/N35 -> 96
B36: Amelia Thompson | C36: LOC | D36: W16 | G36: 94 | I36: 97 | M36: =IFERROR(LARGE($E36:$L36,1),0)+IFERROR(LARGE($E36:$L36,2),0)+IFERROR(LARGE($E36:$L36,3),0)+IFERROR(LARGE($E36:$L36,4),0)+IFERROR(LARGE($E36:$L36,5),0) -> 191 | N36: =IF(COUNT(E36:L36)>5,5,COUNT(E36:L36)) -> 2 | O36: =M36/N36 -> 95.5
B37: Julia Laverack | C37: WAROC | D37: W60 | I37: 89 | K37: 98 | M37: =IFERROR(LARGE($E37:$L37,1),0)+IFERROR(LARGE($E37:$L37,2),0)+IFERROR(LARGE($E37:$L37,3),0)+IFERROR(LARGE($E37:$L37,4),0)+IFERROR(LARGE($E37:$L37,5),0) -> 187 | N37: =IF(COUNT(E37:L37)>5,5,COUNT(E37:L37)) -> 2 | O37: =M37/N37 -> 93.5
B38: Derek Allison | C38: LOC | D38: M65 | F38: 86 | I38: 96 | M38: =IFERROR(LARGE($E38:$L38,1),0)+IFERROR(LARGE($E38:$L38,2),0)+IFERROR(LARGE($E38:$L38,3),0)+IFERROR(LARGE($E38:$L38,4),0)+IFERROR(LARGE($E38:$L38,5),0) -> 182 | N38: =IF(COUNT(E38:L38)>5,5,COUNT(E38:L38)) -> 2 | O38: =M38/N38 -> 91
B39: Robin Thomas | C39: BL | D39: M70 | E39: 91 | F39: 91 | M39: =IFERROR(LARGE($E39:$L39,1),0)+IFERROR(LARGE($E39:$L39,2),0)+IFERROR(LARGE($E39:$L39,3),0)+IFERROR(LARGE($E39:$L39,4),0)+IFERROR(LARGE($E39:$L39,5),0) -> 182 | N39: =IF(COUNT(E39:L39)>5,5,COUNT(E39:L39)) -> 2 | O39: =M39/N39 -> 91
B40: Ann Cummings | C40: WCOC | D40: W60 | E40: 86 | I40: 94 | M40: =IFERROR(LARGE($E40:$L40,1),0)+IFERROR(LARGE($E40:$L40,2),0)+IFERROR(LARGE($E40:$L40,3),0)+IFERROR(LARGE($E40:$L40,4),0)+IFERROR(LARGE($E40:$L40,5),0) -> 180 | N40: =IF(COUNT(E40:L40)>5,5,COUNT(E40:L40)) -> 2 | O40: =M40/N40 -> 90
B41: Phil Blaylock | C41: WCOC | D41: M45 | E41: 83 | G41: 93 | M41: =IFERROR(LARGE($E41:$L41,1),0)+IFERROR(LARGE($E41:$L41,2),0)+IFERROR(LARGE($E41:$L41,3),0)+IFERROR(LARGE($E41:$L41,4),0)+IFERROR(LARGE($E41:$L41,5),0) -> 176 | N41: =IF(COUNT(E41:L41)>5,5,COUNT(E41:L41)) -> 2 | O41: =M41/N41 -> 88
B42: Bob Barnby | C42: WCOC | D42: M70 | E42: 81 | I42: 93 | M42: =IFERROR(LARGE($E42:$L42,1),0)+IFERROR(LARGE($E42:$L42,2),0)+IFERROR(LARGE($E42:$L42,3),0)+IFERROR(LARGE($E42:$L42,4),0)+IFERROR(LARGE($E42:$L42,5),0) -> 174 | N42: =IF(COUNT(E42:L42)>5,5,COUNT(E42:L42)) -> 2 | O42: =M42/N42 -> 87
B43: Gavin Pattison | C43: LOC | D43: M50 | I43: 76 | J43: 98 | M43: =IFERROR(LARGE($E43:$L43,1),0)+IFERROR(LARGE($E43:$L43,2),0)+IFERROR(LARGE($E43:$L43,3),0)+IFERROR(LARGE($E43:$L43,4),0)+IFERROR(LARGE($E43:$L43,5),0) -> 174 | N43: =IF(COUNT(E43:L43)>5,5,COUNT(E43:L43)) -> 2 | O43: =M43/N43 -> 87
B44: Dave Hewitt | C44: WAROC | D44: M60 | E44: 79 | H44: 89 | M44: =IFERROR(LARGE($E44:$L44,1),0)+IFERROR(LARGE($E44:$L44,2),0)+IFERROR(LARGE($E44:$L44,3),0)+IFERROR(LARGE($E44:$L44,4),0)+IFERROR(LARGE($E44:$L44,5),0) -> 168 | N44: =IF(COUNT(E44:L44)>5,5,COUNT(E44:L44)) -> 2 | O44: =M44/N44 -> 84
B45: Rachel Platt | C45: LOC | D45: W35 | E45: 85 | F45: 81 | M45: =IFERROR(LARGE($E45:$L45,1),0)+IFERROR(LARGE($E45:$L45,2),0)+IFERROR(LARGE($E45:$L45,3),0)+IFERROR(LARGE($E45:$L45,4),0)+IFERROR(LARGE($E45:$L45,5),0) -> 166 | N45: =IF(COUNT(E45:L45)>5,5,COUNT(E45:L45)) -> 2 | O45: =M45/N45 -> 83
B46: Judy Burge | C46: LOC | D46: W65 | I46: 91 | J46: 74 | M46: =IFERROR(LARGE($E46:$L46,1),0)+IFERROR(LARGE($E46:$L46,2),0)+IFERROR(LARGE($E46:$L46,3),0)+IFERROR(LARGE($E46:$L46,4),0)+IFERROR(LARGE($E46:$L46,5),0) -> 165 | N46: =IF(COUNT(E46:L46)>5,5,COUNT(E46:L46)) -> 2 | O46: =M46/N46 -> 82.5
B47: Maggie Scrugham | C47: LOC | D47: W60 | J47: 76 | K47: 87 | M47: =IFERROR(LARGE($E47:$L47,1),0)+IFERROR(LARGE($E47:$L47,2),0)+IFERROR(LARGE($E47:$L47,3),0)+IFERROR(LARGE($E47:$L47,4),0)+IFERROR(LARGE($E47:$L47,5),0) -> 163 | N47: =IF(COUNT(E47:L47)>5,5,COUNT(E47:L47)) -> 2 | O47: =M47/N47 -> 81.5
B48: Andy Robinson | C48: LOC | D48: M65 | F48: 85 | K48: 77 | M48: =IFERROR(LARGE($E48:$L48,1),0)+IFERROR(LARGE($E48:$L48,2),0)+IFERROR(LARGE($E48:$L48,3),0)+IFERROR(LARGE($E48:$L48,4),0)+IFERROR(LARGE($E48:$L48,5),0) -> 162 | N48: =IF(COUNT(E48:L48)>5,5,COUNT(E48:L48)) -> 2 | O48: =M48/N48 -> 81
B49: Paul Watson | C49: BL | D49: M65 | I49: 81 | K49: 79 | M49: =IFERROR(LARGE($E49:$L49,1),0)+IFERROR(LARGE($E49:$L49,2),0)+IFERROR(LARGE($E49:$L49,3),0)+IFERROR(LARGE($E49:$L49,4),0)+IFERROR(LARGE($E49:$L49,5),0) -> 160 | N49: =IF(COUNT(E49:L49)>5,5,COUNT(E49:L49)) -> 2 | O49: =M49/N49 -> 80
B50: Lorna Hewitt | C50: WAROC | D50: W50 | E50: 75 | H50: 79 | M50: =IFERROR(LARGE($E50:$L50,1),0)+IFERROR(LARGE($E50:$L50,2),0)+IFERROR(LARGE($E50:$L50,3),0)+IFERROR(LARGE($E50:$L50,4),0)+IFERROR(LARGE($E50:$L50,5),0) -> 154 | N50: =IF(COUNT(E50:L50)>5,5,COUNT(E50:L50)) -> 2 | O50: =M50/N50 -> 77
B51: Paul Tickner | C51: WCOC | D51: M65 | H51: 78 | I51: 75 | M51: =IFERROR(LARGE($E51:$L51,1),0)+IFERROR(LARGE($E51:$L51,2),0)+IFERROR(LARGE($E51:$L51,3),0)+IFERROR(LARGE($E51:$L51,4),0)+IFERROR(LARGE($E51:$L51,5),0) -> 153 | N51: =IF(COUNT(E51:L51)>5,5,COUNT(E51:L51)) -> 2 | O51: =M51/N51 -> 76.5
B52: Simon Cane | C52: LOC | D52: M75 | F52: 79 | K52: 74 | M52: =IFERROR(LARGE($E52:$L52,1),0)+IFERROR(LARGE($E52:$L52,2),0)+IFERROR(LARGE($E52:$L52,3),0)+IFERROR(LARGE($E52:$L52,4),0)+IFERROR(LARGE($E52:$L52,5),0) -> 153 | N52: =IF(COUNT(E52:L52)>5,5,COUNT(E52:L52)) -> 2 | O52: =M52/N52 -> 76.5
B53: Helen Rennie | C53: WCOC | D53: W45 | F53: 68 | I53: 84 | M53: =IFERROR(LARGE($E53:$L53,1),0)+IFERROR(LARGE($E53:$L53,2),0)+IFERROR(LARGE($E53:$L53,3),0)+IFERROR(LARGE($E53:$L53,4),0)+IFERROR(LARGE($E53:$L53,5),0) -> 152 | N53: =IF(COUNT(E53:L53)>5,5,COUNT(E53:L53)) -> 2 | O53: =M53/N53 -> 76
B54: Jane Yates | C54: BL | D54: W50 | E54: 64 | I54: 83 | M54: =IFERROR(LARGE($E54:$L54,1),0)+IFERROR(LARGE($E54:$L54,2),0)+IFERROR(LARGE($E54:$L54,3),0)+IFERROR(LARGE($E54:$L54,4),0)+IFERROR(LARGE($E54:$L54,5),0) -> 147 | N54: =IF(COUNT(E54:L54)>5,5,COUNT(E54:L54)) -> 2 | O54: =M54/N54 -> 73.5
B55: Judith Filmore | C55: LOC | D55: W60 | F55: 64 | G55: 81 | M55: =IFERROR(LARGE($E55:$L55,1),0)+IFERROR(LARGE($E55:$L55,2),0)+IFERROR(LARGE($E55:$L55,3),0)+IFERROR(LARGE($E55:$L55,4),0)+IFERROR(LARGE($E55:$L55,5),0) -> 145 | N55: =IF(COUNT(E55:L55)>5,5,COUNT(E55:L55)) -> 2 | O55: =M55/N55 -> 72.5
B56: Dave Neild | C56: LOC | D56: M75 | E56: 61 | J56: 81 | M56: =IFERROR(LARGE($E56:$L56,1),0)+IFERROR(LARGE($E56:$L56,2),0)+IFERROR(LARGE($E56:$L56,3),0)+IFERROR(LARGE($E56:$L56,4),0)+IFERROR(LARGE($E56:$L56,5),0) -> 142 | N56: =IF(COUNT(E56:L56)>5,5,COUNT(E56:L56)) -> 2 | O56: =M56/N56 -> 71
B57: Chris Lates | C57: BL | D57: M80 | H57: 74 | J57: 66 | M57: =IFERROR(LARGE($E57:$L57,1),0)+IFERROR(LARGE($E57:$L57,2),0)+IFERROR(LARGE($E57:$L57,3),0)+IFERROR(LARGE($E57:$L57,4),0)+IFERROR(LARGE($E57:$L57,5),0) -> 140 | N57: =IF(COUNT(E57:L57)>5,5,COUNT(E57:L57)) -> 2 | O57: =M57/N57 -> 70
B58: Dave Walton | C58: LOC | D58: M70 | I58: 74 | J58: 58 | M58: =IFERROR(LARGE($E58:$L58,1),0)+IFERROR(LARGE($E58:$L58,2),0)+IFERROR(LARGE($E58:$L58,3),0)+IFERROR(LARGE($E58:$L58,4),0)+IFERROR(LARGE($E58:$L58,5),0) -> 132 | N58: =IF(COUNT(E58:L58)>5,5,COUNT(E58:L58)) -> 2 | O58: =M58/N58 -> 66
B59: David Rawle | C59: BL | D59: M50 | E59: 72 | J59: 57 | M59: =IFERROR(LARGE($E59:$L59,1),0)+IFERROR(LARGE($E59:$L59,2),0)+IFERROR(LARGE($E59:$L59,3),0)+IFERROR(LARGE($E59:$L59,4),0)+IFERROR(LARGE($E59:$L59,5),0) -> 129 | N59: =IF(COUNT(E59:L59)>5,5,COUNT(E59:L59)) -> 2 | O59: =M59/N59 -> 64.5
B60: Ralph Liddell | C60: BL | D60: M70 | E60: 59 | J60: 64 | M60: =IFERROR(LARGE($E60:$L60,1),0)+IFERROR(LARGE($E60:$L60,2),0)+IFERROR(LARGE($E60:$L60,3),0)+IFERROR(LARGE($E60:$L60,4),0)+IFERROR(LARGE($E60:$L60,5),0) -> 123 | N60: =IF(COUNT(E60:L60)>5,5,COUNT(E60:L60)) -> 2 | O60: =M60/N60 -> 61.5
B61: Isaac Hunter | C61: WCOC | D61: M16 | G61: 99 | M61: =IFERROR(LARGE($E61:$L61,1),0)+IFERROR(LARGE($E61:$L61,2),0)+IFERROR(LARGE($E61:$L61,3),0)+IFERROR(LARGE($E61:$L61,4),0)+IFERROR(LARGE($E61:$L61,5),0) -> 99 | N61: =IF(COUNT(E61:L61)>5,5,COUNT(E61:L61)) -> 1 | O61: =M61/N61 -> 99
B62: Daisy Rennie | C62: WCOC | D62: W16 | F62: 99 | M62: =IFERROR(LARGE($E62:$L62,1),0)+IFERROR(LARGE($E62:$L62,2),0)+IFERROR(LARGE($E62:$L62,3),0)+IFERROR(LARGE($E62:$L62,4),0)+IFERROR(LARGE($E62:$L62,5),0) -> 99 | N62: =IF(COUNT(E62:L62)>5,5,COUNT(E62:L62)) -> 1 | O62: =M62/N62 -> 99
B63: Matti Ligema | C63: LOC | D63: M14 | I63: 99 | M63: =IFERROR(LARGE($E63:$L63,1),0)+IFERROR(LARGE($E63:$L63,2),0)+IFERROR(LARGE($E63:$L63,3),0)+IFERROR(LARGE($E63:$L63,4),0)+IFERROR(LARGE($E63:$L63,5),0) -> 99 | N63: =IF(COUNT(E63:L63)>5,5,COUNT(E63:L63)) -> 1 | O63: =M63/N63 -> 99
B64: Michael Billinghurst | C64: WCOC | D64: M60 | G64: 98 | M64: =IFERROR(LARGE($E64:$L64,1),0)+IFERROR(LARGE($E64:$L64,2),0)+IFERROR(LARGE($E64:$L64,3),0)+IFERROR(LARGE($E64:$L64,4),0)+IFERROR(LARGE($E64:$L64,5),0) -> 98 | N64: =IF(COUNT(E64:L64)>5,5,COUNT(E64:L64)) -> 1 | O64: =M64/N64 -> 98
B65: Natalie Hawkrigg | C65: BL | D65: W50 | F65: 98 | M65: =IFERROR(LARGE($E65:$L65,1),0)+IFERROR(LARGE($E65:$L65,2),0)+IFERROR(LARGE($E65:$L65,3),0)+IFERROR(LARGE($E65:$L65,4),0)+IFERROR(LARGE($E65:$L65,5),0) -> 98 | N65: =IF(COUNT(E65:L65)>5,5,COUNT(E65:L65)) -> 1 | O65: =M65/N65 -> 98
B66: Jill Libby | C66: BL | D66: W65 | E66: 96 | M66: =IFERROR(LARGE($E66:$L66,1),0)+IFERROR(LARGE($E66:$L66,2),0)+IFERROR(LARGE($E66:$L66,3),0)+IFERROR(LARGE($E66:$L66,4),0)+IFERROR(LARGE($E66:$L66,5),0) -> 96 | N66: =IF(COUNT(E66:L66)>5,5,COUNT(E66:L66)) -> 1 | O66: =M66/N66 -> 96
B67: Matthew Birkinshaw | C67: WCOC | D67: M16 | K67: 95 | M67: =IFERROR(LARGE($E67:$L67,1),0)+IFERROR(LARGE($E67:$L67,2),0)+IFERROR(LARGE($E67:$L67,3),0)+IFERROR(LARGE($E67:$L67,4),0)+IFERROR(LARGE($E67:$L67,5),0) -> 95 | N67: =IF(COUNT(E67:L67)>5,5,COUNT(E67:L67)) -> 1 | O67: =M67/N67 -> 95
B68: Keith Jones | C68: WAROC | D68: M60 | I68: 95 | M68: =IFERROR(LARGE($E68:$L68,1),0)+IFERROR(LARGE($E68:$L68,2),0)+IFERROR(LARGE($E68:$L68,3),0)+IFERROR(LARGE($E68:$L68,4),0)+IFERROR(LARGE($E68:$L68,5),0) -> 95 | N68: =IF(COUNT(E68:L68)>5,5,COUNT(E68:L68)) -> 1 | O68: =M68/N68 -> 95
B69: Kate Charles | C69: WCOC | D69: W50 | H69: 94 | M69: =IFERROR(LARGE($E69:$L69,1),0)+IFERROR(LARGE($E69:$L69,2),0)+IFERROR(LARGE($E69:$L69,3),0)+IFERROR(LARGE($E69:$L69,4),0)+IFERROR(LARGE($E69:$L69,5),0) -> 94 | N69: =IF(COUNT(E69:L69)>5,5,COUNT(E69:L69)) -> 1 | O69: =M69/N69 -> 94
B70: Simon Filmore | C70: LOC | D70: M65 | K70: 94 | M70: =IFERROR(LARGE($E70:$L70,1),0)+IFERROR(LARGE($E70:$L70,2),0)+IFERROR(LARGE($E70:$L70,3),0)+IFERROR(LARGE($E70:$L70,4),0)+IFERROR(LARGE($E70:$L70,5),0) -> 94 | N70: =IF(COUNT(E70:L70)>5,5,COUNT(E70:L70)) -> 1 | O70: =M70/N70 -> 94
B71: Anna Lister | C71: LOC | D71: W21 | F71: 94 | M71: =IFERROR(LARGE($E71:$L71,1),0)+IFERROR(LARGE($E71:$L71,2),0)+IFERROR(LARGE($E71:$L71,3),0)+IFERROR(LARGE($E71:$L71,4),0)+IFERROR(LARGE($E71:$L71,5),0) -> 94 | N71: =IF(COUNT(E71:L71)>5,5,COUNT(E71:L71)) -> 1 | O71: =M71/N71 -> 94
B72: Stephen Fellbaum | C72: LOC | D72: M60 | I72: 90 | M72: =IFERROR(LARGE($E72:$L72,1),0)+IFERROR(LARGE($E72:$L72,2),0)+IFERROR(LARGE($E72:$L72,3),0)+IFERROR(LARGE($E72:$L72,4),0)+IFERROR(LARGE($E72:$L72,5),0) -> 90 | N72: =IF(COUNT(E72:L72)>5,5,COUNT(E72:L72)) -> 1 | O72: =M72/N72 -> 90
B73: Myrtle Ashworth | C73: WCOC | D73: W16 | J73: 89 | M73: =IFERROR(LARGE($E73:$L73,1),0)+IFERROR(LARGE($E73:$L73,2),0)+IFERROR(LARGE($E73:$L73,3),0)+IFERROR(LARGE($E73:$L73,4),0)+IFERROR(LARGE($E73:$L73,5),0) -> 89 | N73: =IF(COUNT(E73:L73)>5,5,COUNT(E73:L73)) -> 1 | O73: =M73/N73 -> 89
B74: Lindsey Bayles | C74: LOC | D74: W60 | F74: 89 | M74: =IFERROR(LARGE($E74:$L74,1),0)+IFERROR(LARGE($E74:$L74,2),0)+IFERROR(LARGE($E74:$L74,3),0)+IFERROR(LARGE($E74:$L74,4),0)+IFERROR(LARGE($E74:$L74,5),0) -> 89 | N74: =IF(COUNT(E74:L74)>5,5,COUNT(E74:L74)) -> 1 | O74: =M74/N74 -> 89
B75: Roger Smith | C75: LOC | D75: M70 | F75: 88 | M75: =IFERROR(LARGE($E75:$L75,1),0)+IFERROR(LARGE($E75:$L75,2),0)+IFERROR(LARGE($E75:$L75,3),0)+IFERROR(LARGE($E75:$L75,4),0)+IFERROR(LARGE($E75:$L75,5),0) -> 88 | N75: =IF(COUNT(E75:L75)>5,5,COUNT(E75:L75)) -> 1 | O75: =M75/N75 -> 88
B76: Norman French | C76: LOC | D76: M75 | E76: 87 | M76: =IFERROR(LARGE($E76:$L76,1),0)+IFERROR(LARGE($E76:$L76,2),0)+IFERROR(LARGE($E76:$L76,3),0)+IFERROR(LARGE($E76:$L76,4),0)+IFERROR(LARGE($E76:$L76,5),0) -> 87 | N76: =IF(COUNT(E76:L76)>5,5,COUNT(E76:L76)) -> 1 | O76: =M76/N76 -> 87
B77: David Jackson | C77: LOC | D77: M55 | I77: 86 | M77: =IFERROR(LARGE($E77:$L77,1),0)+IFERROR(LARGE($E77:$L77,2),0)+IFERROR(LARGE($E77:$L77,3),0)+IFERROR(LARGE($E77:$L77,4),0)+IFERROR(LARGE($E77:$L77,5),0) -> 86 | N77: =IF(COUNT(E77:L77)>5,5,COUNT(E77:L77)) -> 1 | O77: =M77/N77 -> 86
B78: Chris Heaton | C78: LOC | D78: M40 | I78: 85 | M78: =IFERROR(LARGE($E78:$L78,1),0)+IFERROR(LARGE($E78:$L78,2),0)+IFERROR(LARGE($E78:$L78,3),0)+IFERROR(LARGE($E78:$L78,4),0)+IFERROR(LARGE($E78:$L78,5),0) -> 85 | N78: =IF(COUNT(E78:L78)>5,5,COUNT(E78:L78)) -> 1 | O78: =M78/N78 -> 85
B79: Debbie Thompson | C79: BL | D79: W65 | E79: 84 | M79: =IFERROR(LARGE($E79:$L79,1),0)+IFERROR(LARGE($E79:$L79,2),0)+IFERROR(LARGE($E79:$L79,3),0)+IFERROR(LARGE($E79:$L79,4),0)+IFERROR(LARGE($E79:$L79,5),0) -> 84 | N79: =IF(COUNT(E79:L79)>5,5,COUNT(E79:L79)) -> 1 | O79: =M79/N79 -> 84
B80: Pete Nelson | C80: WCOC | D80: M65 | K80: 83 | M80: =IFERROR(LARGE($E80:$L80,1),0)+IFERROR(LARGE($E80:$L80,2),0)+IFERROR(LARGE($E80:$L80,3),0)+IFERROR(LARGE($E80:$L80,4),0)+IFERROR(LARGE($E80:$L80,5),0) -> 83 | N80: =IF(COUNT(E80:L80)>5,5,COUNT(E80:L80)) -> 1 | O80: =M80/N80 -> 83
B81: Christine Kiddier | C81: BL | D81: W70 | G81: 83 | M81: =IFERROR(LARGE($E81:$L81,1),0)+IFERROR(LARGE($E81:$L81,2),0)+IFERROR(LARGE($E81:$L81,3),0)+IFERROR(LARGE($E81:$L81,4),0)+IFERROR(LARGE($E81:$L81,5),0) -> 83 | N81: =IF(COUNT(E81:L81)>5,5,COUNT(E81:L81)) -> 1 | O81: =M81/N81 -> 83
B82: Pete Nelson | C82: WCOC | D82: M65 | H82: 82 | M82: =IFERROR(LARGE($E82:$L82,1),0)+IFERROR(LARGE($E82:$L82,2),0)+IFERROR(LARGE($E82:$L82,3),0)+IFERROR(LARGE($E82:$L82,4),0)+IFERROR(LARGE($E82:$L82,5),0) -> 82 | N82: =IF(COUNT(E82:L82)>5,5,COUNT(E82:L82)) -> 1 | O82: =M82/N82 -> 82
B83: George Rennie | C83: WCOC | D83: M14 | K83: 82 | M83: =IFERROR(LARGE($E83:$L83,1),0)+IFERROR(LARGE($E83:$L83,2),0)+IFERROR(LARGE($E83:$L83,3),0)+IFERROR(LARGE($E83:$L83,4),0)+IFERROR(LARGE($E83:$L83,5),0) -> 82 | N83: =IF(COUNT(E83:L83)>5,5,COUNT(E83:L83)) -> 1 | O83: =M83/N83 -> 82
B84: Steve Kruger | C84: LOC | D84: M60 | F84: 82 | M84: =IFERROR(LARGE($E84:$L84,1),0)+IFERROR(LARGE($E84:$L84,2),0)+IFERROR(LARGE($E84:$L84,3),0)+IFERROR(LARGE($E84:$L84,4),0)+IFERROR(LARGE($E84:$L84,5),0) -> 82 | N84: =IF(COUNT(E84:L84)>5,5,COUNT(E84:L84)) -> 1 | O84: =M84/N84 -> 82
B85: Michael Osborne | C85: LOC | D85: M45 | F85: 80 | M85: =IFERROR(LARGE($E85:$L85,1),0)+IFERROR(LARGE($E85:$L85,2),0)+IFERROR(LARGE($E85:$L85,3),0)+IFERROR(LARGE($E85:$L85,4),0)+IFERROR(LARGE($E85:$L85,5),0) -> 80 | N85: =IF(COUNT(E85:L85)>5,5,COUNT(E85:L85)) -> 1 | O85: =M85/N85 -> 80
B86: Jean Bell | C86: LOC | D86: W55 | I86: 80 | M86: =IFERROR(LARGE($E86:$L86,1),0)+IFERROR(LARGE($E86:$L86,2),0)+IFERROR(LARGE($E86:$L86,3),0)+IFERROR(LARGE($E86:$L86,4),0)+IFERROR(LARGE($E86:$L86,5),0) -> 80 | N86: =IF(COUNT(E86:L86)>5,5,COUNT(E86:L86)) -> 1 | O86: =M86/N86 -> 80
B87: Jeff Cowton | C87: WCOC | D87: M60 | E87: 78 | M87: =IFERROR(LARGE($E87:$L87,1),0)+IFERROR(LARGE($E87:$L87,2),0)+IFERROR(LARGE($E87:$L87,3),0)+IFERROR(LARGE($E87:$L87,4),0)+IFERROR(LARGE($E87:$L87,5),0) -> 78 | N87: =IF(COUNT(E87:L87)>5,5,COUNT(E87:L87)) -> 1 | O87: =M87/N87 -> 78
B88: Hannah Birkinshaw | C88: WCOC | D88: W14 | K88: 78 | M88: =IFERROR(LARGE($E88:$L88,1),0)+IFERROR(LARGE($E88:$L88,2),0)+IFERROR(LARGE($E88:$L88,3),0)+IFERROR(LARGE($E88:$L88,4),0)+IFERROR(LARGE($E88:$L88,5),0) -> 78 | N88: =IF(COUNT(E88:L88)>5,5,COUNT(E88:L88)) -> 1 | O88: =M88/N88 -> 78
B89: Janet Evans | C89: WCOC | D89: W60 | E89: 76 | M89: =IFERROR(LARGE($E89:$L89,1),0)+IFERROR(LARGE($E89:$L89,2),0)+IFERROR(LARGE($E89:$L89,3),0)+IFERROR(LARGE($E89:$L89,4),0)+IFERROR(LARGE($E89:$L89,5),0) -> 76 | N89: =IF(COUNT(E89:L89)>5,5,COUNT(E89:L89)) -> 1 | O89: =M89/N89 -> 76
B90: Jane Ligema | C90: LOC | D90: W55 | F90: 73 | M90: =IFERROR(LARGE($E90:$L90,1),0)+IFERROR(LARGE($E90:$L90,2),0)+IFERROR(LARGE($E90:$L90,3),0)+IFERROR(LARGE($E90:$L90,4),0)+IFERROR(LARGE($E90:$L90,5),0) -> 73 | N90: =IF(COUNT(E90:L90)>5,5,COUNT(E90:L90)) -> 1 | O90: =M90/N90 -> 73
B91: Helen Livesey | C91: LOC | D91: W55 | J91: 73 | M91: =IFERROR(LARGE($E91:$L91,1),0)+IFERROR(LARGE($E91:$L91,2),0)+IFERROR(LARGE($E91:$L91,3),0)+IFERROR(LARGE($E91:$L91,4),0)+IFERROR(LARGE($E91:$L91,5),0) -> 73 | N91: =IF(COUNT(E91:L91)>5,5,COUNT(E91:L91)) -> 1 | O91: =M91/N91 -> 73
B92: Andrew Dean | C92: LOC | D92: M21 | I92: 73 | M92: =IFERROR(LARGE($E92:$L92,1),0)+IFERROR(LARGE($E92:$L92,2),0)+IFERROR(LARGE($E92:$L92,3),0)+IFERROR(LARGE($E92:$L92,4),0)+IFERROR(LARGE($E92:$L92,5),0) -> 73 | N92: =IF(COUNT(E92:L92)>5,5,COUNT(E92:L92)) -> 1 | O92: =M92/N92 -> 73
B93: Patricia Davies | C93: BL | D93: W65 | E93: 73 | M93: =IFERROR(LARGE($E93:$L93,1),0)+IFERROR(LARGE($E93:$L93,2),0)+IFERROR(LARGE($E93:$L93,3),0)+IFERROR(LARGE($E93:$L93,4),0)+IFERROR(LARGE($E93:$L93,5),0) -> 73 | N93: =IF(COUNT(E93:L93)>5,5,COUNT(E93:L93)) -> 1 | O93: =M93/N93 -> 73
B94: Marion Inchmore | C94: LOC | D94: W65 | J94: 71 | M94: =IFERROR(LARGE($E94:$L94,1),0)+IFERROR(LARGE($E94:$L94,2),0)+IFERROR(LARGE($E94:$L94,3),0)+IFERROR(LARGE($E94:$L94,4),0)+IFERROR(LARGE($E94:$L94,5),0) -> 71 | N94: =IF(COUNT(E94:L94)>5,5,COUNT(E94:L94)) -> 1 | O94: =M94/N94 -> 71
B95: Emma Moody | C95: WCOC | D95: W50 | E95: 70 | M95: =IFERROR(LARGE($E95:$L95,1),0)+IFERROR(LARGE($E95:$L95,2),0)+IFERROR(LARGE($E95:$L95,3),0)+IFERROR(LARGE($E95:$L95,4),0)+IFERROR(LARGE($E95:$L95,5),0) -> 70 | N95: =IF(COUNT(E95:L95)>5,5,COUNT(E95:L95)) -> 1 | O95: =M95/N95 -> 70
B96: Kate Golby | C96: WCOC | D96: W60 | J96: 69 | M96: =IFERROR(LARGE($E96:$L96,1),0)+IFERROR(LARGE($E96:$L96,2),0)+IFERROR(LARGE($E96:$L96,3),0)+IFERROR(LARGE($E96:$L96,4),0)+IFERROR(LARGE($E96:$L96,5),0) -> 69 | N96: =IF(COUNT(E96:L96)>5,5,COUNT(E96:L96)) -> 1 | O96: =M96/N96 -> 69
B97: Emma Graham | D97: W21 | K97: 69 | M97: =IFERROR(LARGE($E97:$L97,1),0)+IFERROR(LARGE($E97:$L97,2),0)+IFERROR(LARGE($E97:$L97,3),0)+IFERROR(LARGE($E97:$L97,4),0)+IFERROR(LARGE($E97:$L97,5),0) -> 69 | N97: =IF(COUNT(E97:L97)>5,5,COUNT(E97:L97)) -> 1 | O97: =M97/N97 -> 69
B98: Jerry Purkis | C98: LOC | D98: M65 | E98: 68 | M98: =IFERROR(LARGE($E98:$L98,1),0)+IFERROR(LARGE($E98:$L98,2),0)+IFERROR(LARGE($E98:$L98,3),0)+IFERROR(LARGE($E98:$L98,4),0)+IFERROR(LARGE($E98:$L98,5),0) -> 68 | N98: =IF(COUNT(E98:L98)>5,5,COUNT(E98:L98)) -> 1 | O98: =M98/N98 -> 68
B99: Hazel Gibbs | C99: LOC | D99: W70 | F99: 67 | M99: =IFERROR(LARGE($E99:$L99,1),0)+IFERROR(LARGE($E99:$L99,2),0)+IFERROR(LARGE($E99:$L99,3),0)+IFERROR(LARGE($E99:$L99,4),0)+IFERROR(LARGE($E99:$L99,5),0) -> 67 | N99: =IF(COUNT(E99:L99)>5,5,COUNT(E99:L99)) -> 1 | O99: =M99/N99 -> 67
B100: Andrew Leedham | C100: LOC | D100: M55 | F100: 66 | M100: =IFERROR(LARGE($E100:$L100,1),0)+IFERROR(LARGE($E100:$L100,2),0)+IFERROR(LARGE($E100:$L100,3),0)+IFERROR(LARGE($E100:$L100,4),0)+IFERROR(LARGE($E100:$L100,5),0) -> 66 | N100: =IF(COUNT(E100:L100)>5,5,COUNT(E100:L100)) -> 1 | O100: =M100/N100 -> 66
...

Sheet Blue
B1: Blue | E1: =Green!E1 -> Penrith Beacon (BL) | F1: =Green!F1 -> Loughrigg (LOC) | G1: =Green!G1 -> Lank Rigg (WCOC) | H1: =Green!H1 -> Ling Fell (WCOC) | I1: =Green!I1 -> Harter Fell (LOC) | J1: =Green!J1 -> Faulds Brow (BL) | K1: =Green!K1 -> Latrigg & Greta Gorge (WCOC) | L1: =Green!L1 -> 0 | M1: Galoppen Score | N1: Number of Counting Scores | O1: Average of Counting Scores
B2: Name | C2: Club | D2: Age Class | M2: Galoppen Score
B3: Daniel Heppell | C3: WCOC | D3: M16 | E3: 99 | F3: 99 | G3: 99 | H3: 99 | J3: 99 | M3: =IFERROR(LARGE($E3:$L3,1),0)+IFERROR(LARGE($E3:$L3,2),0)+IFERROR(LARGE($E3:$L3,3),0)+IFERROR(LARGE($E3:$L3,4),0)+IFERROR(LARGE($E3:$L3,5),0) -> 495 | N3: =IF(COUNT(E3:L3)>5,5,COUNT(E3:L3)) -> 5 | O3: =M3/N3 -> 99
B4: Alan Irving | C4: WCOC | D4: M55 | E4: 97 | F4: 95 | H4: 93 | I4: 97 | K4: 97 | M4: =IFERROR(LARGE($E4:$L4,1),0)+IFERROR(LARGE($E4:$L4,2),0)+IFERROR(LARGE($E4:$L4,3),0)+IFERROR(LARGE($E4:$L4,4),0)+IFERROR(LARGE($E4:$L4,5),0) -> 479 | N4: =IF(COUNT(E4:L4)>5,5,COUNT(E4:L4)) -> 5 | O4: =M4/N4 -> 95.8
B5: James Birkinshaw | C5: WCOC | D5: M20 | E5: 95 | F5: 94 | H5: 96 | J5: 94 | K5: 99 | M5: =IFERROR(LARGE($E5:$L5,1),0)+IFERROR(LARGE($E5:$L5,2),0)+IFERROR(LARGE($E5:$L5,3),0)+IFERROR(LARGE($E5:$L5,4),0)+IFERROR(LARGE($E5:$L5,5),0) -> 478 | N5: =IF(COUNT(E5:L5)>5,5,COUNT(E5:L5)) -> 5 | O5: =M5/N5 -> 95.6
B6: Owain Rice | C6: BL | D6: M21 | E6: 96 | F6: 90 | G6: 95 | H6: 90 | I6: 90 | J6: 87 | K6: 91 | M6: =IFERROR(LARGE($E6:$L6,1),0)+IFERROR(LARGE($E6:$L6,2),0)+IFERROR(LARGE($E6:$L6,3),0)+IFERROR(LARGE($E6:$L6,4),0)+IFERROR(LARGE($E6:$L6,5),0) -> 462 | N6: =IF(COUNT(E6:L6)>5,5,COUNT(E6:L6)) -> 5 | O6: =M6/N6 -> 92.4
B7: Emma Crawford | C7: WCOC | D7: W18 | F7: 87 | G7: 85 | H7: 91 | J7: 85 | K7: 96 | M7: =IFERROR(LARGE($E7:$L7,1),0)+IFERROR(LARGE($E7:$L7,2),0)+IFERROR(LARGE($E7:$L7,3),0)+IFERROR(LARGE($E7:$L7,4),0)+IFERROR(LARGE($E7:$L7,5),0) -> 444 | N7: =IF(COUNT(E7:L7)>5,5,COUNT(E7:L7)) -> 5 | O7: =M7/N7 -> 88.8
B8: Stuart Crawford | C8: WCOC | D8: M50 | E8: 84 | F8: 80 | G8: 91 | J8: 76 | K8: 93 | M8: =IFERROR(LARGE($E8:$L8,1),0)+IFERROR(LARGE($E8:$L8,2),0)+IFERROR(LARGE($E8:$L8,3),0)+IFERROR(LARGE($E8:$L8,4),0)+IFERROR(LARGE($E8:$L8,5),0) -> 424 | N8: =IF(COUNT(E8:L8)>5,5,COUNT(E8:L8)) -> 5 | O8: =M8/N8 -> 84.8
B9: Steve Holmes | C9: WCOC | D9: M50 | F9: 96 | G9: 97 | H9: 95 | J9: 97 | M9: =IFERROR(LARGE($E9:$L9,1),0)+IFERROR(LARGE($E9:$L9,2),0)+IFERROR(LARGE($E9:$L9,3),0)+IFERROR(LARGE($E9:$L9,4),0)+IFERROR(LARGE($E9:$L9,5),0) -> 385 | N9: =IF(COUNT(E9:L9)>5,5,COUNT(E9:L9)) -> 4 | O9: =M9/N9 -> 96.25
B10: Isaac Hunter | C10: WCOC | D10: M16 | E10: 98 | F10: 97 | J10: 90 | K10: 92 | M10: =IFERROR(LARGE($E10:$L10,1),0)+IFERROR(LARGE($E10:$L10,2),0)+IFERROR(LARGE($E10:$L10,3),0)+IFERROR(LARGE($E10:$L10,4),0)+IFERROR(LARGE($E10:$L10,5),0) -> 377 | N10: =IF(COUNT(E10:L10)>5,5,COUNT(E10:L10)) -> 4 | O10: =M10/N10 -> 94.25
B11: Isabel Berry | C11: BL | D11: W40 | E11: 86 | F11: 82 | G11: 88 | J11: 89 | M11: =IFERROR(LARGE($E11:$L11,1),0)+IFERROR(LARGE($E11:$L11,2),0)+IFERROR(LARGE($E11:$L11,3),0)+IFERROR(LARGE($E11:$L11,4),0)+IFERROR(LARGE($E11:$L11,5),0) -> 345 | N11: =IF(COUNT(E11:L11)>5,5,COUNT(E11:L11)) -> 4 | O11: =M11/N11 -> 86.25
B12: Ange Jackson | C12: WCOC | D12: W45 | E12: 85 | F12: 72 | H12: 87 | K12: 87 | M12: =IFERROR(LARGE($E12:$L12,1),0)+IFERROR(LARGE($E12:$L12,2),0)+IFERROR(LARGE($E12:$L12,3),0)+IFERROR(LARGE($E12:$L12,4),0)+IFERROR(LARGE($E12:$L12,5),0) -> 331 | N12: =IF(COUNT(E12:L12)>5,5,COUNT(E12:L12)) -> 4 | O12: =M12/N12 -> 82.75
B13: Howard Leslie | C13: WCOC | D13: M60 | G13: 90 | I13: 96 | K13: 94 | M13: =IFERROR(LARGE($E13:$L13,1),0)+IFERROR(LARGE($E13:$L13,2),0)+IFERROR(LARGE($E13:$L13,3),0)+IFERROR(LARGE($E13:$L13,4),0)+IFERROR(LARGE($E13:$L13,5),0) -> 280 | N13: =IF(COUNT(E13:L13)>5,5,COUNT(E13:L13)) -> 3 | O13: =M13/N13 -> 93.333333
B14: Daisy Rennie | C14: WCOC | D14: W16 | G14: 93 | H14: 89 | K14: 88 | M14: =IFERROR(LARGE($E14:$L14,1),0)+IFERROR(LARGE($E14:$L14,2),0)+IFERROR(LARGE($E14:$L14,3),0)+IFERROR(LARGE($E14:$L14,4),0)+IFERROR(LARGE($E14:$L14,5),0) -> 270 | N14: =IF(COUNT(E14:L14)>5,5,COUNT(E14:L14)) -> 3 | O14: =M14/N14 -> 90
B15: Christine Goulding | C15: BL | D15: W55 | E15: 93 | F15: 84 | K15: 90 | M15: =IFERROR(LARGE($E15:$L15,1),0)+IFERROR(LARGE($E15:$L15,2),0)+IFERROR(LARGE($E15:$L15,3),0)+IFERROR(LARGE($E15:$L15,4),0)+IFERROR(LARGE($E15:$L15,5),0) -> 267 | N15: =IF(COUNT(E15:L15)>5,5,COUNT(E15:L15)) -> 3 | O15: =M15/N15 -> 89
B16: Colin Valentine | C16: WCOC | D16: M60 | E16: 90 | G16: 86 | H16: 88 | M16: =IFERROR(LARGE($E16:$L16,1),0)+IFERROR(LARGE($E16:$L16,2),0)+IFERROR(LARGE($E16:$L16,3),0)+IFERROR(LARGE($E16:$L16,4),0)+IFERROR(LARGE($E16:$L16,5),0) -> 264 | N16: =IF(COUNT(E16:L16)>5,5,COUNT(E16:L16)) -> 3 | O16: =M16/N16 -> 88
B17: Howard Leslie | C17: WCOC | D17: M60 | E17: 94 | F17: 83 | J17: 86 | M17: =IFERROR(LARGE($E17:$L17,1),0)+IFERROR(LARGE($E17:$L17,2),0)+IFERROR(LARGE($E17:$L17,3),0)+IFERROR(LARGE($E17:$L17,4),0)+IFERROR(LARGE($E17:$L17,5),0) -> 263 | N17: =IF(COUNT(E17:L17)>5,5,COUNT(E17:L17)) -> 3 | O17: =M17/N17 -> 87.666667
B18: Andy Lewsley | C18: BL | D18: M65 | E18: 89 | F18: 81 | K18: 89 | M18: =IFERROR(LARGE($E18:$L18,1),0)+IFERROR(LARGE($E18:$L18,2),0)+IFERROR(LARGE($E18:$L18,3),0)+IFERROR(LARGE($E18:$L18,4),0)+IFERROR(LARGE($E18:$L18,5),0) -> 259 | N18: =IF(COUNT(E18:L18)>5,5,COUNT(E18:L18)) -> 3 | O18: =M18/N18 -> 86.333333
B19: John Ferris-Worth | C19: BL | D19: M55 | F19: 88 | H19: 80 | J19: 91 | M19: =IFERROR(LARGE($E19:$L19,1),0)+IFERROR(LARGE($E19:$L19,2),0)+IFERROR(LARGE($E19:$L19,3),0)+IFERROR(LARGE($E19:$L19,4),0)+IFERROR(LARGE($E19:$L19,5),0) -> 259 | N19: =IF(COUNT(E19:L19)>5,5,COUNT(E19:L19)) -> 3 | O19: =M19/N19 -> 86.333333
B20: Rachel Platt | C20: LOC | D20: W35 | H20: 85 | I20: 92 | J20: 81 | M20: =IFERROR(LARGE($E20:$L20,1),0)+IFERROR(LARGE($E20:$L20,2),0)+IFERROR(LARGE($E20:$L20,3),0)+IFERROR(LARGE($E20:$L20,4),0)+IFERROR(LARGE($E20:$L20,5),0) -> 258 | N20: =IF(COUNT(E20:L20)>5,5,COUNT(E20:L20)) -> 3 | O20: =M20/N20 -> 86
B21: Helen Rennie | C21: WCOC | D21: W45 | E21: 80 | H21: 83 | K21: 84 | M21: =IFERROR(LARGE($E21:$L21,1),0)+IFERROR(LARGE($E21:$L21,2),0)+IFERROR(LARGE($E21:$L21,3),0)+IFERROR(LARGE($E21:$L21,4),0)+IFERROR(LARGE($E21:$L21,5),0) -> 247 | N21: =IF(COUNT(E21:L21)>5,5,COUNT(E21:L21)) -> 3 | O21: =M21/N21 -> 82.333333
B22: David Downes | C22: WCOC | D22: M65 | F22: 76 | I22: 89 | J22: 79 | M22: =IFERROR(LARGE($E22:$L22,1),0)+IFERROR(LARGE($E22:$L22,2),0)+IFERROR(LARGE($E22:$L22,3),0)+IFERROR(LARGE($E22:$L22,4),0)+IFERROR(LARGE($E22:$L22,5),0) -> 244 | N22: =IF(COUNT(E22:L22)>5,5,COUNT(E22:L22)) -> 3 | O22: =M22/N22 -> 81.333333
B23: Keith Tonkin | C23: BL | D23: M60 | F23: 98 | G23: 98 | M23: =IFERROR(LARGE($E23:$L23,1),0)+IFERROR(LARGE($E23:$L23,2),0)+IFERROR(LARGE($E23:$L23,3),0)+IFERROR(LARGE($E23:$L23,4),0)+IFERROR(LARGE($E23:$L23,5),0) -> 196 | N23: =IF(COUNT(E23:L23)>5,5,COUNT(E23:L23)) -> 2 | O23: =M23/N23 -> 98
B24: John Slater | C24: WCOC | D24: M50 | H24: 94 | J24: 96 | M24: =IFERROR(LARGE($E24:$L24,1),0)+IFERROR(LARGE($E24:$L24,2),0)+IFERROR(LARGE($E24:$L24,3),0)+IFERROR(LARGE($E24:$L24,4),0)+IFERROR(LARGE($E24:$L24,5),0) -> 190 | N24: =IF(COUNT(E24:L24)>5,5,COUNT(E24:L24)) -> 2 | O24: =M24/N24 -> 95
B25: Karen Parker | C25: BL | D25: W55 | F25: 92 | G25: 96 | M25: =IFERROR(LARGE($E25:$L25,1),0)+IFERROR(LARGE($E25:$L25,2),0)+IFERROR(LARGE($E25:$L25,3),0)+IFERROR(LARGE($E25:$L25,4),0)+IFERROR(LARGE($E25:$L25,5),0) -> 188 | N25: =IF(COUNT(E25:L25)>5,5,COUNT(E25:L25)) -> 2 | O25: =M25/N25 -> 94
B26: Martin Skinner | C26: WCOC | D26: M55 | E26: 91 | F26: 89 | M26: =IFERROR(LARGE($E26:$L26,1),0)+IFERROR(LARGE($E26:$L26,2),0)+IFERROR(LARGE($E26:$L26,3),0)+IFERROR(LARGE($E26:$L26,4),0)+IFERROR(LARGE($E26:$L26,5),0) -> 180 | N26: =IF(COUNT(E26:L26)>5,5,COUNT(E26:L26)) -> 2 | O26: =M26/N26 -> 90
B27: Thomas Rawle | C27: BL | D27: M18 | E27: 88 | J27: 92 | M27: =IFERROR(LARGE($E27:$L27,1),0)+IFERROR(LARGE($E27:$L27,2),0)+IFERROR(LARGE($E27:$L27,3),0)+IFERROR(LARGE($E27:$L27,4),0)+IFERROR(LARGE($E27:$L27,5),0) -> 180 | N27: =IF(COUNT(E27:L27)>5,5,COUNT(E27:L27)) -> 2 | O27: =M27/N27 -> 90
B28: Chris Pollitt | C28: WCOC | D28: M60 | G28: 84 | K28: 95 | M28: =IFERROR(LARGE($E28:$L28,1),0)+IFERROR(LARGE($E28:$L28,2),0)+IFERROR(LARGE($E28:$L28,3),0)+IFERROR(LARGE($E28:$L28,4),0)+IFERROR(LARGE($E28:$L28,5),0) -> 179 | N28: =IF(COUNT(E28:L28)>5,5,COUNT(E28:L28)) -> 2 | O28: =M28/N28 -> 89.5
B29: Simon Thomas | C29: WCOC | D29: M40 | I29: 88 | J29: 88 | M29: =IFERROR(LARGE($E29:$L29,1),0)+IFERROR(LARGE($E29:$L29,2),0)+IFERROR(LARGE($E29:$L29,3),0)+IFERROR(LARGE($E29:$L29,4),0)+IFERROR(LARGE($E29:$L29,5),0) -> 176 | N29: =IF(COUNT(E29:L29)>5,5,COUNT(E29:L29)) -> 2 | O29: =M29/N29 -> 88
B30: Stephen Eastley | C30: BL | D30: M65 | E30: 87 | F30: 85 | M30: =IFERROR(LARGE($E30:$L30,1),0)+IFERROR(LARGE($E30:$L30,2),0)+IFERROR(LARGE($E30:$L30,3),0)+IFERROR(LARGE($E30:$L30,4),0)+IFERROR(LARGE($E30:$L30,5),0) -> 172 | N30: =IF(COUNT(E30:L30)>5,5,COUNT(E30:L30)) -> 2 | O30: =M30/N30 -> 86
B31: Richard Tiley | C31: LOC | D31: M60 | J31: 82 | K31: 86 | M31: =IFERROR(LARGE($E31:$L31,1),0)+IFERROR(LARGE($E31:$L31,2),0)+IFERROR(LARGE($E31:$L31,3),0)+IFERROR(LARGE($E31:$L31,4),0)+IFERROR(LARGE($E31:$L31,5),0) -> 168 | N31: =IF(COUNT(E31:L31)>5,5,COUNT(E31:L31)) -> 2 | O31: =M31/N31 -> 84
B32: Liz Heaton | C32: LOC | D32: W40 | H32: 84 | K32: 82 | M32: =IFERROR(LARGE($E32:$L32,1),0)+IFERROR(LARGE($E32:$L32,2),0)+IFERROR(LARGE($E32:$L32,3),0)+IFERROR(LARGE($E32:$L32,4),0)+IFERROR(LARGE($E32:$L32,5),0) -> 166 | N32: =IF(COUNT(E32:L32)>5,5,COUNT(E32:L32)) -> 2 | O32: =M32/N32 -> 83
B33: Stephen Eastley | C33: BL | D33: M65 | H33: 82 | J33: 84 | M33: =IFERROR(LARGE($E33:$L33,1),0)+IFERROR(LARGE($E33:$L33,2),0)+IFERROR(LARGE($E33:$L33,3),0)+IFERROR(LARGE($E33:$L33,4),0)+IFERROR(LARGE($E33:$L33,5),0) -> 166 | N33: =IF(COUNT(E33:L33)>5,5,COUNT(E33:L33)) -> 2 | O33: =M33/N33 -> 83
B34: Simon Filmore | C34: LOC | D34: M65 | F34: 74 | G34: 89 | M34: =IFERROR(LARGE($E34:$L34,1),0)+IFERROR(LARGE($E34:$L34,2),0)+IFERROR(LARGE($E34:$L34,3),0)+IFERROR(LARGE($E34:$L34,4),0)+IFERROR(LARGE($E34:$L34,5),0) -> 163 | N34: =IF(COUNT(E34:L34)>5,5,COUNT(E34:L34)) -> 2 | O34: =M34/N34 -> 81.5
B35: Nick Taylor | C35: LOC | D35: M40 | I35: 99 | M35: =IFERROR(LARGE($E35:$L35,1),0)+IFERROR(LARGE($E35:$L35,2),0)+IFERROR(LARGE($E35:$L35,3),0)+IFERROR(LARGE($E35:$L35,4),0)+IFERROR(LARGE($E35:$L35,5),0) -> 99 | N35: =IF(COUNT(E35:L35)>5,5,COUNT(E35:L35)) -> 1 | O35: =M35/N35 -> 99
B36: Sam Mcloughlin | C36: WCOC | D36: M18 | K36: 98 | M36: =IFERROR(LARGE($E36:$L36,1),0)+IFERROR(LARGE($E36:$L36,2),0)+IFERROR(LARGE($E36:$L36,3),0)+IFERROR(LARGE($E36:$L36,4),0)+IFERROR(LARGE($E36:$L36,5),0) -> 98 | N36: =IF(COUNT(E36:L36)>5,5,COUNT(E36:L36)) -> 1 | O36: =M36/N36 -> 98
B37: Graham Patten | C37: WAROC | D37: M60 | J37: 98 | M37: =IFERROR(LARGE($E37:$L37,1),0)+IFERROR(LARGE($E37:$L37,2),0)+IFERROR(LARGE($E37:$L37,3),0)+IFERROR(LARGE($E37:$L37,4),0)+IFERROR(LARGE($E37:$L37,5),0) -> 98 | N37: =IF(COUNT(E37:L37)>5,5,COUNT(E37:L37)) -> 1 | O37: =M37/N37 -> 98
B38: Robert Browne | C38: LOC | D38: M21 | I38: 98 | M38: =IFERROR(LARGE($E38:$L38,1),0)+IFERROR(LARGE($E38:$L38,2),0)+IFERROR(LARGE($E38:$L38,3),0)+IFERROR(LARGE($E38:$L38,4),0)+IFERROR(LARGE($E38:$L38,5),0) -> 98 | N38: =IF(COUNT(E38:L38)>5,5,COUNT(E38:L38)) -> 1 | O38: =M38/N38 -> 98
B39: Ruben Razzetti | C39: BL | D39: M16 | H39: 98 | M39: =IFERROR(LARGE($E39:$L39,1),0)+IFERROR(LARGE($E39:$L39,2),0)+IFERROR(LARGE($E39:$L39,3),0)+IFERROR(LARGE($E39:$L39,4),0)+IFERROR(LARGE($E39:$L39,5),0) -> 98 | N39: =IF(COUNT(E39:L39)>5,5,COUNT(E39:L39)) -> 1 | O39: =M39/N39 -> 98
B40: Sam Osborne | C40: LOC | D40: M14 | H40: 97 | M40: =IFERROR(LARGE($E40:$L40,1),0)+IFERROR(LARGE($E40:$L40,2),0)+IFERROR(LARGE($E40:$L40,3),0)+IFERROR(LARGE($E40:$L40,4),0)+IFERROR(LARGE($E40:$L40,5),0) -> 97 | N40: =IF(COUNT(E40:L40)>5,5,COUNT(E40:L40)) -> 1 | O40: =M40/N40 -> 97
B41: Michael Billinghurst | C41: WCOC | D41: M60 | J41: 95 | M41: =IFERROR(LARGE($E41:$L41,1),0)+IFERROR(LARGE($E41:$L41,2),0)+IFERROR(LARGE($E41:$L41,3),0)+IFERROR(LARGE($E41:$L41,4),0)+IFERROR(LARGE($E41:$L41,5),0) -> 95 | N41: =IF(COUNT(E41:L41)>5,5,COUNT(E41:L41)) -> 1 | O41: =M41/N41 -> 95
B42: Iain Smith-Ward | C42: LOC | D42: M50 | I42: 95 | M42: =IFERROR(LARGE($E42:$L42,1),0)+IFERROR(LARGE($E42:$L42,2),0)+IFERROR(LARGE($E42:$L42,3),0)+IFERROR(LARGE($E42:$L42,4),0)+IFERROR(LARGE($E42:$L42,5),0) -> 95 | N42: =IF(COUNT(E42:L42)>5,5,COUNT(E42:L42)) -> 1 | O42: =M42/N42 -> 95
B43: Helen Hargreaves | C43: WCOC | D43: W45 | G43: 94 | M43: =IFERROR(LARGE($E43:$L43,1),0)+IFERROR(LARGE($E43:$L43,2),0)+IFERROR(LARGE($E43:$L43,3),0)+IFERROR(LARGE($E43:$L43,4),0)+IFERROR(LARGE($E43:$L43,5),0) -> 94 | N43: =IF(COUNT(E43:L43)>5,5,COUNT(E43:L43)) -> 1 | O43: =M43/N43 -> 94
B44: Anne Edwards | C44: LOC | D44: W21 | I44: 94 | M44: =IFERROR(LARGE($E44:$L44,1),0)+IFERROR(LARGE($E44:$L44,2),0)+IFERROR(LARGE($E44:$L44,3),0)+IFERROR(LARGE($E44:$L44,4),0)+IFERROR(LARGE($E44:$L44,5),0) -> 94 | N44: =IF(COUNT(E44:L44)>5,5,COUNT(E44:L44)) -> 1 | O44: =M44/N44 -> 94
B45: Nick Evans | C45: WCOC | D45: M60 | J45: 93 | M45: =IFERROR(LARGE($E45:$L45,1),0)+IFERROR(LARGE($E45:$L45,2),0)+IFERROR(LARGE($E45:$L45,3),0)+IFERROR(LARGE($E45:$L45,4),0)+IFERROR(LARGE($E45:$L45,5),0) -> 93 | N45: =IF(COUNT(E45:L45)>5,5,COUNT(E45:L45)) -> 1 | O45: =M45/N45 -> 93
B46: Roger Thomas | C46: WCOC | D46: M60 | I46: 93 | M46: =IFERROR(LARGE($E46:$L46,1),0)+IFERROR(LARGE($E46:$L46,2),0)+IFERROR(LARGE($E46:$L46,3),0)+IFERROR(LARGE($E46:$L46,4),0)+IFERROR(LARGE($E46:$L46,5),0) -> 93 | N46: =IF(COUNT(E46:L46)>5,5,COUNT(E46:L46)) -> 1 | O46: =M46/N46 -> 93
B47: Laura Brown | C47: LOC | D47: W18 | F47: 93 | M47: =IFERROR(LARGE($E47:$L47,1),0)+IFERROR(LARGE($E47:$L47,2),0)+IFERROR(LARGE($E47:$L47,3),0)+IFERROR(LARGE($E47:$L47,4),0)+IFERROR(LARGE($E47:$L47,5),0) -> 93 | N47: =IF(COUNT(E47:L47)>5,5,COUNT(E47:L47)) -> 1 | O47: =M47/N47 -> 93
B48: Danny Winterbottom | C48: WCOC | D48: M16 | E48: 92 | M48: =IFERROR(LARGE($E48:$L48,1),0)+IFERROR(LARGE($E48:$L48,2),0)+IFERROR(LARGE($E48:$L48,3),0)+IFERROR(LARGE($E48:$L48,4),0)+IFERROR(LARGE($E48:$L48,5),0) -> 92 | N48: =IF(COUNT(E48:L48)>5,5,COUNT(E48:L48)) -> 1 | O48: =M48/N48 -> 92
B49: Jeff Goodwin | C49: WCOC | D49: M55 | G49: 92 | M49: =IFERROR(LARGE($E49:$L49,1),0)+IFERROR(LARGE($E49:$L49,2),0)+IFERROR(LARGE($E49:$L49,3),0)+IFERROR(LARGE($E49:$L49,4),0)+IFERROR(LARGE($E49:$L49,5),0) -> 92 | N49: =IF(COUNT(E49:L49)>5,5,COUNT(E49:L49)) -> 1 | O49: =M49/N49 -> 92
B50: Natalie Hawkrigg | C50: BL | D50: W50 | H50: 92 | M50: =IFERROR(LARGE($E50:$L50,1),0)+IFERROR(LARGE($E50:$L50,2),0)+IFERROR(LARGE($E50:$L50,3),0)+IFERROR(LARGE($E50:$L50,4),0)+IFERROR(LARGE($E50:$L50,5),0) -> 92 | N50: =IF(COUNT(E50:L50)>5,5,COUNT(E50:L50)) -> 1 | O50: =M50/N50 -> 92
B51: Wilfrid Teasdale | C51: WCOC | D51: M18 | F51: 91 | M51: =IFERROR(LARGE($E51:$L51,1),0)+IFERROR(LARGE($E51:$L51,2),0)+IFERROR(LARGE($E51:$L51,3),0)+IFERROR(LARGE($E51:$L51,4),0)+IFERROR(LARGE($E51:$L51,5),0) -> 91 | N51: =IF(COUNT(E51:L51)>5,5,COUNT(E51:L51)) -> 1 | O51: =M51/N51 -> 91
B52: Jo Cleary | C52: LOC | D52: W55 | I52: 91 | M52: =IFERROR(LARGE($E52:$L52,1),0)+IFERROR(LARGE($E52:$L52,2),0)+IFERROR(LARGE($E52:$L52,3),0)+IFERROR(LARGE($E52:$L52,4),0)+IFERROR(LARGE($E52:$L52,5),0) -> 91 | N52: =IF(COUNT(E52:L52)>5,5,COUNT(E52:L52)) -> 1 | O52: =M52/N52 -> 91
B53: Nicholas Evans | C53: WCOC | D53: M60 | F53: 88 | M53: =IFERROR(LARGE($E53:$L53,1),0)+IFERROR(LARGE($E53:$L53,2),0)+IFERROR(LARGE($E53:$L53,3),0)+IFERROR(LARGE($E53:$L53,4),0)+IFERROR(LARGE($E53:$L53,5),0) -> 88 | N53: =IF(COUNT(E53:L53)>5,5,COUNT(E53:L53)) -> 1 | O53: =M53/N53 -> 88
B54: Scott Ashworth | C54: WCOC | D54: M45 | G54: 87 | M54: =IFERROR(LARGE($E54:$L54,1),0)+IFERROR(LARGE($E54:$L54,2),0)+IFERROR(LARGE($E54:$L54,3),0)+IFERROR(LARGE($E54:$L54,4),0)+IFERROR(LARGE($E54:$L54,5),0) -> 87 | N54: =IF(COUNT(E54:L54)>5,5,COUNT(E54:L54)) -> 1 | O54: =M54/N54 -> 87
B55: Andy Robinson | C55: LOC | D55: M65 | I55: 87 | M55: =IFERROR(LARGE($E55:$L55,1),0)+IFERROR(LARGE($E55:$L55,2),0)+IFERROR(LARGE($E55:$L55,3),0)+IFERROR(LARGE($E55:$L55,4),0)+IFERROR(LARGE($E55:$L55,5),0) -> 87 | N55: =IF(COUNT(E55:L55)>5,5,COUNT(E55:L55)) -> 1 | O55: =M55/N55 -> 87
B56: Lynne Thomas | C56: WCOC | D56: W50 | H56: 86 | M56: =IFERROR(LARGE($E56:$L56,1),0)+IFERROR(LARGE($E56:$L56,2),0)+IFERROR(LARGE($E56:$L56,3),0)+IFERROR(LARGE($E56:$L56,4),0)+IFERROR(LARGE($E56:$L56,5),0) -> 86 | N56: =IF(COUNT(E56:L56)>5,5,COUNT(E56:L56)) -> 1 | O56: =M56/N56 -> 86
B57: Jane Ligema | C57: LOC | D57: W55 | I57: 86 | M57: =IFERROR(LARGE($E57:$L57,1),0)+IFERROR(LARGE($E57:$L57,2),0)+IFERROR(LARGE($E57:$L57,3),0)+IFERROR(LARGE($E57:$L57,4),0)+IFERROR(LARGE($E57:$L57,5),0) -> 86 | N57: =IF(COUNT(E57:L57)>5,5,COUNT(E57:L57)) -> 1 | O57: =M57/N57 -> 86
B58: Amelia Thompson | C58: LOC | D58: W16 | K58: 85 | M58: =IFERROR(LARGE($E58:$L58,1),0)+IFERROR(LARGE($E58:$L58,2),0)+IFERROR(LARGE($E58:$L58,3),0)+IFERROR(LARGE($E58:$L58,4),0)+IFERROR(LARGE($E58:$L58,5),0) -> 85 | N58: =IF(COUNT(E58:L58)>5,5,COUNT(E58:L58)) -> 1 | O58: =M58/N58 -> 85
B59: Ann Cummings | C59: WCOC | D59: W60 | G59: 83 | M59: =IFERROR(LARGE($E59:$L59,1),0)+IFERROR(LARGE($E59:$L59,2),0)+IFERROR(LARGE($E59:$L59,3),0)+IFERROR(LARGE($E59:$L59,4),0)+IFERROR(LARGE($E59:$L59,5),0) -> 83 | N59: =IF(COUNT(E59:L59)>5,5,COUNT(E59:L59)) -> 1 | O59: =M59/N59 -> 83
B60: Nick Moore | C60: WCOC | D60: M60 | K60: 83 | M60: =IFERROR(LARGE($E60:$L60,1),0)+IFERROR(LARGE($E60:$L60,2),0)+IFERROR(LARGE($E60:$L60,3),0)+IFERROR(LARGE($E60:$L60,4),0)+IFERROR(LARGE($E60:$L60,5),0) -> 83 | N60: =IF(COUNT(E60:L60)>5,5,COUNT(E60:L60)) -> 1 | O60: =M60/N60 -> 83
B61: Paul Williams | C61: LOC | D61: M65 | J61: 83 | M61: =IFERROR(LARGE($E61:$L61,1),0)+IFERROR(LARGE($E61:$L61,2),0)+IFERROR(LARGE($E61:$L61,3),0)+IFERROR(LARGE($E61:$L61,4),0)+IFERROR(LARGE($E61:$L61,5),0) -> 83 | N61: =IF(COUNT(E61:L61)>5,5,COUNT(E61:L61)) -> 1 | O61: =M61/N61 -> 83
B62: Steve Kruger | C62: LOC | D62: M60 | E62: 83 | M62: =IFERROR(LARGE($E62:$L62,1),0)+IFERROR(LARGE($E62:$L62,2),0)+IFERROR(LARGE($E62:$L62,3),0)+IFERROR(LARGE($E62:$L62,4),0)+IFERROR(LARGE($E62:$L62,5),0) -> 83 | N62: =IF(COUNT(E62:L62)>5,5,COUNT(E62:L62)) -> 1 | O62: =M62/N62 -> 83
B63: Lindsey Bayles | C63: LOC | D63: W60 | E63: 82 | M63: =IFERROR(LARGE($E63:$L63,1),0)+IFERROR(LARGE($E63:$L63,2),0)+IFERROR(LARGE($E63:$L63,3),0)+IFERROR(LARGE($E63:$L63,4),0)+IFERROR(LARGE($E63:$L63,5),0) -> 82 | N63: =IF(COUNT(E63:L63)>5,5,COUNT(E63:L63)) -> 1 | O63: =M63/N63 -> 82
B64: Debbie Thompson | C64: BL | D64: W65 | G64: 82 | M64: =IFERROR(LARGE($E64:$L64,1),0)+IFERROR(LARGE($E64:$L64,2),0)+IFERROR(LARGE($E64:$L64,3),0)+IFERROR(LARGE($E64:$L64,4),0)+IFERROR(LARGE($E64:$L64,5),0) -> 82 | N64: =IF(COUNT(E64:L64)>5,5,COUNT(E64:L64)) -> 1 | O64: =M64/N64 -> 82
B65: Dave Phillips | C65: WCOC | D65: M40 | E65: 81 | M65: =IFERROR(LARGE($E65:$L65,1),0)+IFERROR(LARGE($E65:$L65,2),0)+IFERROR(LARGE($E65:$L65,3),0)+IFERROR(LARGE($E65:$L65,4),0)+IFERROR(LARGE($E65:$L65,5),0) -> 81 | N65: =IF(COUNT(E65:L65)>5,5,COUNT(E65:L65)) -> 1 | O65: =M65/N65 -> 81
B66: Ray Johnstone | C66: WCOC | D66: M70 | G66: 81 | M66: =IFERROR(LARGE($E66:$L66,1),0)+IFERROR(LARGE($E66:$L66,2),0)+IFERROR(LARGE($E66:$L66,3),0)+IFERROR(LARGE($E66:$L66,4),0)+IFERROR(LARGE($E66:$L66,5),0) -> 81 | N66: =IF(COUNT(E66:L66)>5,5,COUNT(E66:L66)) -> 1 | O66: =M66/N66 -> 81
B67: Ryan Crellin | C67: WCOC | D67: M35 | H67: 81 | M67: =IFERROR(LARGE($E67:$L67,1),0)+IFERROR(LARGE($E67:$L67,2),0)+IFERROR(LARGE($E67:$L67,3),0)+IFERROR(LARGE($E67:$L67,4),0)+IFERROR(LARGE($E67:$L67,5),0) -> 81 | N67: =IF(COUNT(E67:L67)>5,5,COUNT(E67:L67)) -> 1 | O67: =M67/N67 -> 81
B68: Tim Field | C68: LOC | D68: M55 | F68: 80 | M68: =IFERROR(LARGE($E68:$L68,1),0)+IFERROR(LARGE($E68:$L68,2),0)+IFERROR(LARGE($E68:$L68,3),0)+IFERROR(LARGE($E68:$L68,4),0)+IFERROR(LARGE($E68:$L68,5),0) -> 80 | N68: =IF(COUNT(E68:L68)>5,5,COUNT(E68:L68)) -> 1 | O68: =M68/N68 -> 80
B69: Raymond Wren | C69: BL | D69: M75 | J69: 80 | M69: =IFERROR(LARGE($E69:$L69,1),0)+IFERROR(LARGE($E69:$L69,2),0)+IFERROR(LARGE($E69:$L69,3),0)+IFERROR(LARGE($E69:$L69,4),0)+IFERROR(LARGE($E69:$L69,5),0) -> 80 | N69: =IF(COUNT(E69:L69)>5,5,COUNT(E69:L69)) -> 1 | O69: =M69/N69 -> 80
B70: Ray Johnstone | C70: WCOC | D70: M70 | J70: 78 | M70: =IFERROR(LARGE($E70:$L70,1),0)+IFERROR(LARGE($E70:$L70,2),0)+IFERROR(LARGE($E70:$L70,3),0)+IFERROR(LARGE($E70:$L70,4),0)+IFERROR(LARGE($E70:$L70,5),0) -> 78 | N70: =IF(COUNT(E70:L70)>5,5,COUNT(E70:L70)) -> 1 | O70: =M70/N70 -> 78
B71: Duncan Conway | C71: LOC | D71: M55 | F71: 78 | M71: =IFERROR(LARGE($E71:$L71,1),0)+IFERROR(LARGE($E71:$L71,2),0)+IFERROR(LARGE($E71:$L71,3),0)+IFERROR(LARGE($E71:$L71,4),0)+IFERROR(LARGE($E71:$L71,5),0) -> 78 | N71: =IF(COUNT(E71:L71)>5,5,COUNT(E71:L71)) -> 1 | O71: =M71/N71 -> 78
B72: Caitlin Pearson | C72: WCOC | D72: W21 | F72: 77 | M72: =IFERROR(LARGE($E72:$L72,1),0)+IFERROR(LARGE($E72:$L72,2),0)+IFERROR(LARGE($E72:$L72,3),0)+IFERROR(LARGE($E72:$L72,4),0)+IFERROR(LARGE($E72:$L72,5),0) -> 77 | N72: =IF(COUNT(E72:L72)>5,5,COUNT(E72:L72)) -> 1 | O72: =M72/N72 -> 77
B73: Ron Kenyon | C73: BL | D73: M70 | J73: 77 | M73: =IFERROR(LARGE($E73:$L73,1),0)+IFERROR(LARGE($E73:$L73,2),0)+IFERROR(LARGE($E73:$L73,3),0)+IFERROR(LARGE($E73:$L73,4),0)+IFERROR(LARGE($E73:$L73,5),0) -> 77 | N73: =IF(COUNT(E73:L73)>5,5,COUNT(E73:L73)) -> 1 | O73: =M73/N73 -> 77
B74: Emily Turner | C74: LOC | D74: W18 | F74: 75 | M74: =IFERROR(LARGE($E74:$L74,1),0)+IFERROR(LARGE($E74:$L74,2),0)+IFERROR(LARGE($E74:$L74,3),0)+IFERROR(LARGE($E74:$L74,4),0)+IFERROR(LARGE($E74:$L74,5),0) -> 75 | N74: =IF(COUNT(E74:L74)>5,5,COUNT(E74:L74)) -> 1 | O74: =M74/N74 -> 75
B75: Tim Boden | C75: LOC | D75: M55 | F75: 73 | M75: =IFERROR(LARGE($E75:$L75,1),0)+IFERROR(LARGE($E75:$L75,2),0)+IFERROR(LARGE($E75:$L75,3),0)+IFERROR(LARGE($E75:$L75,4),0)+IFERROR(LARGE($E75:$L75,5),0) -> 73 | N75: =IF(COUNT(E75:L75)>5,5,COUNT(E75:L75)) -> 1 | O75: =M75/N75 -> 73

Sheet Brown
B1: Brown | E1: =Yellow!E2 -> Penrith Beacon (BL) | F1: =Yellow!F2 -> Loughrigg (LOC) | G1: =Yellow!G2 -> Lank Rigg (WCOC) | H1: =Yellow!H2 -> Ling Fell (WCOC) | I1: =Yellow!I2 -> Harter Fell (LOC) | J1: =Yellow!J2 -> Faulds Brow (BL) | K1: =Yellow!K2 -> Latrigg & Greta Gorge (WCOC) | L1: =Yellow!L2 -> 0 | M1: Galoppen Score | N1: Number of Counting Scores | O1: Average of Counting Scores
B2: Name | C2: Club | D2: Age Class | M2: Galoppen Score
B3: Steve Birkinshaw | C3: WCOC | D3: M50 | E3: 94 | F3: 99 | G3: 89 | H3: 99 | I3: 98 | J3: 98 | K3: 99 | M3: =IFERROR(LARGE($E3:$L3,1),0)+IFERROR(LARGE($E3:$L3,2),0)+IFERROR(LARGE($E3:$L3,3),0)+IFERROR(LARGE($E3:$L3,4),0)+IFERROR(LARGE($E3:$L3,5),0) -> 493 | N3: =IF(COUNT(E3:L3)>5,5,COUNT(E3:L3)) -> 5 | O3: =M3/N3 -> 98.6
B4: Jamie Rennie | C4: WCOC | D4: M50 | E4: 97 | F4: 98 | G4: 97 | H4: 98 | I4: 94 | K4: 96 | M4: =IFERROR(LARGE($E4:$L4,1),0)+IFERROR(LARGE($E4:$L4,2),0)+IFERROR(LARGE($E4:$L4,3),0)+IFERROR(LARGE($E4:$L4,4),0)+IFERROR(LARGE($E4:$L4,5),0) -> 486 | N4: =IF(COUNT(E4:L4)>5,5,COUNT(E4:L4)) -> 5 | O4: =M4/N4 -> 97.2
B5: Karen Parker | C5: BL | D5: W55 | E5: 85 | H5: 94 | I5: 96 | J5: 91 | K5: 93 | M5: =IFERROR(LARGE($E5:$L5,1),0)+IFERROR(LARGE($E5:$L5,2),0)+IFERROR(LARGE($E5:$L5,3),0)+IFERROR(LARGE($E5:$L5,4),0)+IFERROR(LARGE($E5:$L5,5),0) -> 459 | N5: =IF(COUNT(E5:L5)>5,5,COUNT(E5:L5)) -> 5 | O5: =M5/N5 -> 91.8
B6: Dan Parker | C6: BL | D6: M60 | E6: 89 | G6: 92 | H6: 93 | J6: 94 | K6: 89 | M6: =IFERROR(LARGE($E6:$L6,1),0)+IFERROR(LARGE($E6:$L6,2),0)+IFERROR(LARGE($E6:$L6,3),0)+IFERROR(LARGE($E6:$L6,4),0)+IFERROR(LARGE($E6:$L6,5),0) -> 457 | N6: =IF(COUNT(E6:L6)>5,5,COUNT(E6:L6)) -> 5 | O6: =M6/N6 -> 91.4
B7: Mike Harrison | C7: WCOC | D7: M50 | E7: 87 | F7: 91 | H7: 95 | K7: 92 | M7: =IFERROR(LARGE($E7:$L7,1),0)+IFERROR(LARGE($E7:$L7,2),0)+IFERROR(LARGE($E7:$L7,3),0)+IFERROR(LARGE($E7:$L7,4),0)+IFERROR(LARGE($E7:$L7,5),0) -> 365 | N7: =IF(COUNT(E7:L7)>5,5,COUNT(E7:L7)) -> 4 | O7: =M7/N7 -> 91.25
B8: Ian Cumpstey | C8: BL | D8: M45 | E8: 91 | F8: 94 | J8: 88 | K8: 90 | M8: =IFERROR(LARGE($E8:$L8,1),0)+IFERROR(LARGE($E8:$L8,2),0)+IFERROR(LARGE($E8:$L8,3),0)+IFERROR(LARGE($E8:$L8,4),0)+IFERROR(LARGE($E8:$L8,5),0) -> 363 | N8: =IF(COUNT(E8:L8)>5,5,COUNT(E8:L8)) -> 4 | O8: =M8/N8 -> 90.75
B9: Steven Breeze | C9: WCOC | D9: M50 | E9: 82 | F9: 89 | H9: 87 | I9: 93 | M9: =IFERROR(LARGE($E9:$L9,1),0)+IFERROR(LARGE($E9:$L9,2),0)+IFERROR(LARGE($E9:$L9,3),0)+IFERROR(LARGE($E9:$L9,4),0)+IFERROR(LARGE($E9:$L9,5),0) -> 351 | N9: =IF(COUNT(E9:L9)>5,5,COUNT(E9:L9)) -> 4 | O9: =M9/N9 -> 87.75
B10: Derek Fryer | C10: LOC | D10: M65 | E10: 81 | H10: 89 | J10: 82 | K10: 86 | M10: =IFERROR(LARGE($E10:$L10,1),0)+IFERROR(LARGE($E10:$L10,2),0)+IFERROR(LARGE($E10:$L10,3),0)+IFERROR(LARGE($E10:$L10,4),0)+IFERROR(LARGE($E10:$L10,5),0) -> 338 | N10: =IF(COUNT(E10:L10)>5,5,COUNT(E10:L10)) -> 4 | O10: =M10/N10 -> 84.5
B11: Charlie Rennie | C11: WCOC | D11: M20 | E11: 98 | G11: 99 | K11: 98 | M11: =IFERROR(LARGE($E11:$L11,1),0)+IFERROR(LARGE($E11:$L11,2),0)+IFERROR(LARGE($E11:$L11,3),0)+IFERROR(LARGE($E11:$L11,4),0)+IFERROR(LARGE($E11:$L11,5),0) -> 295 | N11: =IF(COUNT(E11:L11)>5,5,COUNT(E11:L11)) -> 3 | O11: =M11/N11 -> 98.333333
B12: Ruben Razzetti | C12: BL | D12: M16 | G12: 98 | J12: 99 | K12: 97 | M12: =IFERROR(LARGE($E12:$L12,1),0)+IFERROR(LARGE($E12:$L12,2),0)+IFERROR(LARGE($E12:$L12,3),0)+IFERROR(LARGE($E12:$L12,4),0)+IFERROR(LARGE($E12:$L12,5),0) -> 294 | N12: =IF(COUNT(E12:L12)>5,5,COUNT(E12:L12)) -> 3 | O12: =M12/N12 -> 98
B13: Wilfrid Teasdale | C13: WCOC | D13: M18 | H13: 97 | I13: 97 | J13: 92 | M13: =IFERROR(LARGE($E13:$L13,1),0)+IFERROR(LARGE($E13:$L13,2),0)+IFERROR(LARGE($E13:$L13,3),0)+IFERROR(LARGE($E13:$L13,4),0)+IFERROR(LARGE($E13:$L13,5),0) -> 286 | N13: =IF(COUNT(E13:L13)>5,5,COUNT(E13:L13)) -> 3 | O13: =M13/N13 -> 95.333333
B14: Jeff Powell Davies | C14: BL | D14: M40 | F14: 96 | J14: 95 | K14: 94 | M14: =IFERROR(LARGE($E14:$L14,1),0)+IFERROR(LARGE($E14:$L14,2),0)+IFERROR(LARGE($E14:$L14,3),0)+IFERROR(LARGE($E14:$L14,4),0)+IFERROR(LARGE($E14:$L14,5),0) -> 285 | N14: =IF(COUNT(E14:L14)>5,5,COUNT(E14:L14)) -> 3 | O14: =M14/N14 -> 95
B15: Simon Hunter | C15: WCOC | D15: M50 | E15: 95 | F15: 95 | G15: 95 | M15: =IFERROR(LARGE($E15:$L15,1),0)+IFERROR(LARGE($E15:$L15,2),0)+IFERROR(LARGE($E15:$L15,3),0)+IFERROR(LARGE($E15:$L15,4),0)+IFERROR(LARGE($E15:$L15,5),0) -> 285 | N15: =IF(COUNT(E15:L15)>5,5,COUNT(E15:L15)) -> 3 | O15: =M15/N15 -> 95
B16: Peter Scott | C16: LOC | D16: M18 | F16: 93 | H16: 91 | J16: 97 | M16: =IFERROR(LARGE($E16:$L16,1),0)+IFERROR(LARGE($E16:$L16,2),0)+IFERROR(LARGE($E16:$L16,3),0)+IFERROR(LARGE($E16:$L16,4),0)+IFERROR(LARGE($E16:$L16,5),0) -> 281 | N16: =IF(COUNT(E16:L16)>5,5,COUNT(E16:L16)) -> 3 | O16: =M16/N16 -> 93.666667
B17: Robert Smith | C17: LOC | D17: M55 | F17: 90 | J17: 89 | K17: 91 | M17: =IFERROR(LARGE($E17:$L17,1),0)+IFERROR(LARGE($E17:$L17,2),0)+IFERROR(LARGE($E17:$L17,3),0)+IFERROR(LARGE($E17:$L17,4),0)+IFERROR(LARGE($E17:$L17,5),0) -> 270 | N17: =IF(COUNT(E17:L17)>5,5,COUNT(E17:L17)) -> 3 | O17: =M17/N17 -> 90
B18: Toby Johnson | C18: LOC | D18: M45 | E18: 77 | F18: 87 | G18: 90 | M18: =IFERROR(LARGE($E18:$L18,1),0)+IFERROR(LARGE($E18:$L18,2),0)+IFERROR(LARGE($E18:$L18,3),0)+IFERROR(LARGE($E18:$L18,4),0)+IFERROR(LARGE($E18:$L18,5),0) -> 254 | N18: =IF(COUNT(E18:L18)>5,5,COUNT(E18:L18)) -> 3 | O18: =M18/N18 -> 84.666667
B19: Joe Hudd | C19: WCOC | D19: M20 | F19: 97 | G19: 96 | M19: =IFERROR(LARGE($E19:$L19,1),0)+IFERROR(LARGE($E19:$L19,2),0)+IFERROR(LARGE($E19:$L19,3),0)+IFERROR(LARGE($E19:$L19,4),0)+IFERROR(LARGE($E19:$L19,5),0) -> 193 | N19: =IF(COUNT(E19:L19)>5,5,COUNT(E19:L19)) -> 2 | O19: =M19/N19 -> 96.5
B20: James Rogers | C20: LOC | D20: M21 | H20: 96 | I20: 95 | M20: =IFERROR(LARGE($E20:$L20,1),0)+IFERROR(LARGE($E20:$L20,2),0)+IFERROR(LARGE($E20:$L20,3),0)+IFERROR(LARGE($E20:$L20,4),0)+IFERROR(LARGE($E20:$L20,5),0) -> 191 | N20: =IF(COUNT(E20:L20)>5,5,COUNT(E20:L20)) -> 2 | O20: =M20/N20 -> 95.5
B21: Graham Patten | C21: WAROC | D21: M60 | E21: 96 | G21: 94 | M21: =IFERROR(LARGE($E21:$L21,1),0)+IFERROR(LARGE($E21:$L21,2),0)+IFERROR(LARGE($E21:$L21,3),0)+IFERROR(LARGE($E21:$L21,4),0)+IFERROR(LARGE($E21:$L21,5),0) -> 190 | N21: =IF(COUNT(E21:L21)>5,5,COUNT(E21:L21)) -> 2 | O21: =M21/N21 -> 95
B22: Phillip Winskill | C22: WCOC | D22: M45 | G22: 91 | K22: 95 | M22: =IFERROR(LARGE($E22:$L22,1),0)+IFERROR(LARGE($E22:$L22,2),0)+IFERROR(LARGE($E22:$L22,3),0)+IFERROR(LARGE($E22:$L22,4),0)+IFERROR(LARGE($E22:$L22,5),0) -> 186 | N22: =IF(COUNT(E22:L22)>5,5,COUNT(E22:L22)) -> 2 | O22: =M22/N22 -> 93
B23: Michael Osborne | C23: LOC | D23: M45 | H23: 92 | J23: 90 | M23: =IFERROR(LARGE($E23:$L23,1),0)+IFERROR(LARGE($E23:$L23,2),0)+IFERROR(LARGE($E23:$L23,3),0)+IFERROR(LARGE($E23:$L23,4),0)+IFERROR(LARGE($E23:$L23,5),0) -> 182 | N23: =IF(COUNT(E23:L23)>5,5,COUNT(E23:L23)) -> 2 | O23: =M23/N23 -> 91
B24: Iain Smith-Ward | C24: LOC | D24: M50 | F24: 88 | G24: 88 | M24: =IFERROR(LARGE($E24:$L24,1),0)+IFERROR(LARGE($E24:$L24,2),0)+IFERROR(LARGE($E24:$L24,3),0)+IFERROR(LARGE($E24:$L24,4),0)+IFERROR(LARGE($E24:$L24,5),0) -> 176 | N24: =IF(COUNT(E24:L24)>5,5,COUNT(E24:L24)) -> 2 | O24: =M24/N24 -> 88
B25: Fred Boardman | C25: WCOC | D25: M45 | H25: 90 | J25: 84 | M25: =IFERROR(LARGE($E25:$L25,1),0)+IFERROR(LARGE($E25:$L25,2),0)+IFERROR(LARGE($E25:$L25,3),0)+IFERROR(LARGE($E25:$L25,4),0)+IFERROR(LARGE($E25:$L25,5),0) -> 174 | N25: =IF(COUNT(E25:L25)>5,5,COUNT(E25:L25)) -> 2 | O25: =M25/N25 -> 87
B26: Julie Ferris-Worth | C26: BL | D26: W55 | H26: 88 | J26: 81 | M26: =IFERROR(LARGE($E26:$L26,1),0)+IFERROR(LARGE($E26:$L26,2),0)+IFERROR(LARGE($E26:$L26,3),0)+IFERROR(LARGE($E26:$L26,4),0)+IFERROR(LARGE($E26:$L26,5),0) -> 169 | N26: =IF(COUNT(E26:L26)>5,5,COUNT(E26:L26)) -> 2 | O26: =M26/N26 -> 84.5
B27: Emma Stuart | C27: BL | D27: W21 | E27: 83 | G27: 86 | M27: =IFERROR(LARGE($E27:$L27,1),0)+IFERROR(LARGE($E27:$L27,2),0)+IFERROR(LARGE($E27:$L27,3),0)+IFERROR(LARGE($E27:$L27,4),0)+IFERROR(LARGE($E27:$L27,5),0) -> 169 | N27: =IF(COUNT(E27:L27)>5,5,COUNT(E27:L27)) -> 2 | O27: =M27/N27 -> 84.5
B28: Jasmine Girdlestone | C28: WCOC | D28: W21 | E28: 78 | G28: 87 | M28: =IFERROR(LARGE($E28:$L28,1),0)+IFERROR(LARGE($E28:$L28,2),0)+IFERROR(LARGE($E28:$L28,3),0)+IFERROR(LARGE($E28:$L28,4),0)+IFERROR(LARGE($E28:$L28,5),0) -> 165 | N28: =IF(COUNT(E28:L28)>5,5,COUNT(E28:L28)) -> 2 | O28: =M28/N28 -> 82.5
B29: Caitlin Pearson | C29: WCOC | D29: W21 | E29: 80 | J29: 85 | M29: =IFERROR(LARGE($E29:$L29,1),0)+IFERROR(LARGE($E29:$L29,2),0)+IFERROR(LARGE($E29:$L29,3),0)+IFERROR(LARGE($E29:$L29,4),0)+IFERROR(LARGE($E29:$L29,5),0) -> 165 | N29: =IF(COUNT(E29:L29)>5,5,COUNT(E29:L29)) -> 2 | O29: =M29/N29 -> 82.5
B30: Jack Wright | C30: LOC | D30: M21 | I30: 99 | M30: =IFERROR(LARGE($E30:$L30,1),0)+IFERROR(LARGE($E30:$L30,2),0)+IFERROR(LARGE($E30:$L30,3),0)+IFERROR(LARGE($E30:$L30,4),0)+IFERROR(LARGE($E30:$L30,5),0) -> 99 | N30: =IF(COUNT(E30:L30)>5,5,COUNT(E30:L30)) -> 1 | O30: =M30/N30 -> 99
B31: Shane Ohly | C31: WAROC | D31: M45 | E31: 99 | M31: =IFERROR(LARGE($E31:$L31,1),0)+IFERROR(LARGE($E31:$L31,2),0)+IFERROR(LARGE($E31:$L31,3),0)+IFERROR(LARGE($E31:$L31,4),0)+IFERROR(LARGE($E31:$L31,5),0) -> 99 | N31: =IF(COUNT(E31:L31)>5,5,COUNT(E31:L31)) -> 1 | O31: =M31/N31 -> 99
B32: Joseph Goodwin | C32: WCOC | D32: M21 | J32: 96 | M32: =IFERROR(LARGE($E32:$L32,1),0)+IFERROR(LARGE($E32:$L32,2),0)+IFERROR(LARGE($E32:$L32,3),0)+IFERROR(LARGE($E32:$L32,4),0)+IFERROR(LARGE($E32:$L32,5),0) -> 96 | N32: =IF(COUNT(E32:L32)>5,5,COUNT(E32:L32)) -> 1 | O32: =M32/N32 -> 96
B33: Paul Neild | C33: WCOC | D33: M45 | J33: 93 | M33: =IFERROR(LARGE($E33:$L33,1),0)+IFERROR(LARGE($E33:$L33,2),0)+IFERROR(LARGE($E33:$L33,3),0)+IFERROR(LARGE($E33:$L33,4),0)+IFERROR(LARGE($E33:$L33,5),0) -> 93 | N33: =IF(COUNT(E33:L33)>5,5,COUNT(E33:L33)) -> 1 | O33: =M33/N33 -> 93
B34: Chris Naylor | C34: WCOC | D34: M35 | E34: 93 | M34: =IFERROR(LARGE($E34:$L34,1),0)+IFERROR(LARGE($E34:$L34,2),0)+IFERROR(LARGE($E34:$L34,3),0)+IFERROR(LARGE($E34:$L34,4),0)+IFERROR(LARGE($E34:$L34,5),0) -> 93 | N34: =IF(COUNT(E34:L34)>5,5,COUNT(E34:L34)) -> 1 | O34: =M34/N34 -> 93
B35: Ben Goodwin | C35: WCOC | D35: M21 | G35: 93 | M35: =IFERROR(LARGE($E35:$L35,1),0)+IFERROR(LARGE($E35:$L35,2),0)+IFERROR(LARGE($E35:$L35,3),0)+IFERROR(LARGE($E35:$L35,4),0)+IFERROR(LARGE($E35:$L35,5),0) -> 93 | N35: =IF(COUNT(E35:L35)>5,5,COUNT(E35:L35)) -> 1 | O35: =M35/N35 -> 93
B36: Jack Eyre | C36: BL | D36: M21 | E36: 92 | M36: =IFERROR(LARGE($E36:$L36,1),0)+IFERROR(LARGE($E36:$L36,2),0)+IFERROR(LARGE($E36:$L36,3),0)+IFERROR(LARGE($E36:$L36,4),0)+IFERROR(LARGE($E36:$L36,5),0) -> 92 | N36: =IF(COUNT(E36:L36)>5,5,COUNT(E36:L36)) -> 1 | O36: =M36/N36 -> 92
B37: Matthew Horne | C37: LOC | D37: M20 | F37: 92 | M37: =IFERROR(LARGE($E37:$L37,1),0)+IFERROR(LARGE($E37:$L37,2),0)+IFERROR(LARGE($E37:$L37,3),0)+IFERROR(LARGE($E37:$L37,4),0)+IFERROR(LARGE($E37:$L37,5),0) -> 92 | N37: =IF(COUNT(E37:L37)>5,5,COUNT(E37:L37)) -> 1 | O37: =M37/N37 -> 92
B38: James Chapman | C38: BL | D38: M35 | E38: 90 | M38: =IFERROR(LARGE($E38:$L38,1),0)+IFERROR(LARGE($E38:$L38,2),0)+IFERROR(LARGE($E38:$L38,3),0)+IFERROR(LARGE($E38:$L38,4),0)+IFERROR(LARGE($E38:$L38,5),0) -> 90 | N38: =IF(COUNT(E38:L38)>5,5,COUNT(E38:L38)) -> 1 | O38: =M38/N38 -> 90
B39: Herbie Ashworth | C39: WCOC | D39: M18 | K39: 88 | M39: =IFERROR(LARGE($E39:$L39,1),0)+IFERROR(LARGE($E39:$L39,2),0)+IFERROR(LARGE($E39:$L39,3),0)+IFERROR(LARGE($E39:$L39,4),0)+IFERROR(LARGE($E39:$L39,5),0) -> 88 | N39: =IF(COUNT(E39:L39)>5,5,COUNT(E39:L39)) -> 1 | O39: =M39/N39 -> 88
B40: Paul Gaines | C40: BL | D40: M50 | J40: 87 | M40: =IFERROR(LARGE($E40:$L40,1),0)+IFERROR(LARGE($E40:$L40,2),0)+IFERROR(LARGE($E40:$L40,3),0)+IFERROR(LARGE($E40:$L40,4),0)+IFERROR(LARGE($E40:$L40,5),0) -> 87 | N40: =IF(COUNT(E40:L40)>5,5,COUNT(E40:L40)) -> 1 | O40: =M40/N40 -> 87
B41: Simon Thomas | C41: WCOC | D41: M40 | K41: 87 | M41: =IFERROR(LARGE($E41:$L41,1),0)+IFERROR(LARGE($E41:$L41,2),0)+IFERROR(LARGE($E41:$L41,3),0)+IFERROR(LARGE($E41:$L41,4),0)+IFERROR(LARGE($E41:$L41,5),0) -> 87 | N41: =IF(COUNT(E41:L41)>5,5,COUNT(E41:L41)) -> 1 | O41: =M41/N41 -> 87
B42: Keith Tonkin | C42: BL | D42: M60 | J42: 86 | M42: =IFERROR(LARGE($E42:$L42,1),0)+IFERROR(LARGE($E42:$L42,2),0)+IFERROR(LARGE($E42:$L42,3),0)+IFERROR(LARGE($E42:$L42,4),0)+IFERROR(LARGE($E42:$L42,5),0) -> 86 | N42: =IF(COUNT(E42:L42)>5,5,COUNT(E42:L42)) -> 1 | O42: =M42/N42 -> 86
B43: Sam Gibbs | C43: WAROC | D43: M45 | E43: 86 | M43: =IFERROR(LARGE($E43:$L43,1),0)+IFERROR(LARGE($E43:$L43,2),0)+IFERROR(LARGE($E43:$L43,3),0)+IFERROR(LARGE($E43:$L43,4),0)+IFERROR(LARGE($E43:$L43,5),0) -> 86 | N43: =IF(COUNT(E43:L43)>5,5,COUNT(E43:L43)) -> 1 | O43: =M43/N43 -> 86
B44: Andrew Bradley | C44: WCOC | D44: M55 | E44: 84 | M44: =IFERROR(LARGE($E44:$L44,1),0)+IFERROR(LARGE($E44:$L44,2),0)+IFERROR(LARGE($E44:$L44,3),0)+IFERROR(LARGE($E44:$L44,4),0)+IFERROR(LARGE($E44:$L44,5),0) -> 84 | N44: =IF(COUNT(E44:L44)>5,5,COUNT(E44:L44)) -> 1 | O44: =M44/N44 -> 84
B45: Andy Robinson | C45: LOC | D45: M65 | J45: 83 | M45: =IFERROR(LARGE($E45:$L45,1),0)+IFERROR(LARGE($E45:$L45,2),0)+IFERROR(LARGE($E45:$L45,3),0)+IFERROR(LARGE($E45:$L45,4),0)+IFERROR(LARGE($E45:$L45,5),0) -> 83 | N45: =IF(COUNT(E45:L45)>5,5,COUNT(E45:L45)) -> 1 | O45: =M45/N45 -> 83
B46: David Wilson | C46: WCOC | D46: M35 | E46: 79 | M46: =IFERROR(LARGE($E46:$L46,1),0)+IFERROR(LARGE($E46:$L46,2),0)+IFERROR(LARGE($E46:$L46,3),0)+IFERROR(LARGE($E46:$L46,4),0)+IFERROR(LARGE($E46:$L46,5),0) -> 79 | N46: =IF(COUNT(E46:L46)>5,5,COUNT(E46:L46)) -> 1 | O46: =M46/N46 -> 79

Sheet Galoppen Course Winners
B2: Cumbrian Galoppen 2022 Course Winners | H2: Cumbrian Galoppen 2022 Winning M/W18-
C3: Winning Man | E3: Winning Woman | I3: Winning Boy | K3: Winning Girl
B4: Brown | C4: Steve Birkinshaw | D4: WCOC | E4: Karen Parker | F4: BL | H4: Brown | I4: Ruben Razzetti | J4: BL | K4: No award
B5: Blue | C5: Daniel Heppell | D5: WCOC | E5: Emma Crawford | F5: WCOC | H5: Blue | I5: Daniel Heppell | J5: WCOC | K5: Emma Crawford | L5: WCOC
B6: Green | C6: Roger Thomas | D6: WCOC | E6: Sophie Crawford | F6: WCOC | H6: Green | I6: Toby Heppell | J6: WCOC | K6: Sophie Crawford | L6: WCOC
B7: S Green | C7: David Lloyd | D7: LOC | E7: Catherine Wetherfield | F7: WCOC | H7: S Green | I7: No award | K7: No award
B8: L Green | C8: George Rennie | D8: WCOC | E8: No award | H8: L Green | I8: George Rennie | J8: WCOC | K8: No award
B9: Orange | C9: Quinn Thompson | D9: LOC | E9: No award | H9: Orange | I9: No award | K9: No award
B10: Yellow | C10: No award | E10: No award | H10: Yellow | I10: No award | K10: No award
B12: Cumbrian Galoppen 2021 Course Winners | H12: Cumbrian Galoppen 2021 Winning M/W18-
C13: Winning Man | E13: Winning Woman | I13: Winning Boy | K13: Winning Girl | N13: Note - For 2021:
B14: Brown | C14: Steve Birkinshaw | D14: WCOC | E14: Karen Parker | F14: BL | H14: Brown | I14: Joe Sunley | J14: WCOC | K14: No award | N14: 6 events held, best 4 scores to count, 3 scoring events to qualify.
B15: Blue | C15: Daniel Heppell | D15: WCOC | E15: Ange Jackson | F15: WCOC | H15: Blue | I15: Daniel Heppell | J15: WCOC | K15: No award
B16: Green | C16: Ruben Razzetti | D16: BL | E16: Daisy Rennie | F16: WCOC | H16: Green | I16: Ruben Razzetti | J16: BL | K16: Daisy Rennie | L16: WCOC
B17: S Green | C17: Malcolm Ruckledge | D17: WCOC | E17: Janet Nash | F17: LOC | H17: S Green | I17: No award | K17: No award
B18: L Green | C18: Toby Heppell | D18: WCOC | E18: Sophie Crawford | F18: WCOC | H18: L Green | I18: Toby Heppell | J18: WCOC | K18: Sophie Crawford | L18: WCOC
B19: Orange | C19: Hiroki Holmes | D19: WCOC | E19: Hannah Birkinshaw | F19: WCOC | H19: Orange | I19: Hiroki Holmes | J19: WCOC | K19: Hannah Birkinshaw | L19: WCOC
B20: Yellow | C20: No award | E20: Sola Holmes | F20: WCOC | H20: Yellow | I20: No award | K20: Sola Holmes | L20: WCOC
B22: Cumbrian Galoppen 2020 Course Winners | H22: Cumbrian Galoppen 2020 Winning M/W18-
B23: Series cancelled due to the Covid-19 Pandemic. | H23: Series cancelled due to the Covid-19 Pandemic.
B25: Cumbrian Galoppen 2019 Course Winners | H25: Cumbrian Galoppen 2019 Winning M/W18-
C26: Winning Man | E26: Winning Woman | I26: Winning Boy | K26: Winning Girl
B27: Brown | C27: Steve Birkinshaw | D27: WCOC | E27: Karen Parker | F27: BL | H27: Brown | I27: Ben Goodwin | J27: WCOC | K27: No award
B28: Blue | C28: David Spencer | D28: WCOC | E28: Joanne Larty | F28: LOC | H28: Blue | I28: Ollie Heron-Southward | J28: WCOC | K28: Lily Regan | L28: WCOC
B29: Green | C29: Wilfrid Teasdale | D29: WCOC | E29: Lynne Thomas | F29: LOC | H29: Green | I29: Wilfrid Teasdale | J29: WCOC | K29: Clare Rodger | L29: WCOC
K30: Rebecca O'Donovan | L30: LOC
B31: S Green | C31: Stuart Crawford | D31: LOC | E31: Catherine Wetherfield | F31: WCOC | H31: S Green | I31: Henry Teasdale | J31: WCOC | K31: No award
B32: L Green | C32: Ruben Razzetti | D32: BL | E32: Emma Crawford | F32: WCOC | H32: L Green | I32: Ruben Razzetti | J32: BL | K32: Emma Crawford | L32: WCOC
B33: Orange | C33: Toby Heppell | D33: WCOC | E33: Sophie Crawford | F33: WCOC | H33: Orange | I33: Toby Heppell | J33: WCOC | K33: Sophie Crawford | L33: WCOC
B34: Yellow | C34: No award | E34: No award | H34: Yellow | I34: No award | K34: No award
B36: Cumbrian Galoppen 2018 Course Winners
C37: Winning Man | E37: Winning Woman
B38: Brown | C38: Steve Birkinshaw | D38: WCOC | E38: Karen Parker | F38: BL
B39: Blue | C39: David Spencer | D39: WCOC | E39: Heather Heppenstall | F39: LOC
B40: Green | C40: Ian Teasdale | D40: WCOC | E40: Lucy Gibson | F40: LOC
B41: S Green | C41: Ian Wilson | D41: LOC | E41: Catherine Wetherfield | F41: WCOC
B42: L Green | C42: Wilfrid Teasdale | D42: WCOC | E42: Emily Turner | F42: LOC
B43: Orange | C43: Isaac Hunter | D43: WCOC | E43: Amelia Thompson | F43: LOC
B44: Yellow | C44: Hiroki Holmes | D44: WCOC | E44: Sophie Crawford | F44: WCOC
B46: Cumbrian Galoppen 2017 Course Winners
C47: Winning Man | E47: Winning Woman
B48: Brown | C48: Daniel Spencer (WCOC) | E48: Niamh Hunter (WCOC)
B49: Blue | C49: David Spencer (WCOC) | E49: Heather Heppenstall (LOC)
B50: Green | C50: Michael Pearson (WCOC) | E50: Rosie Spencer (WCOC)
B51: S Green | C51: David Rodger (WCOC) | E51: Jane Yates (BL)
B52: L Green | C52: Wilfrid Teasdale (WCOC) | E52: Lucy Gibson (LOC)
B53: Orange | C53: Henry Bangham (LOC) | E53: Gillian Wells (LOC)
B54: Yellow | C54: Isaac Hunter (WCOC) | E54: Myrtle Ashworth (WCOC)
B56: Cumbrian Galoppen 2016 Course Winners
C57: Leading M | E57: Leading W
B58: Brown | C58: Simon Hunter (WCOC) | E58: Karen Parker (BL)
B59: Blue | C59: Harry Scott (LOC) | E59: Christine Goulding (BL)
B60: Green | C60: Cliff Etherden (LOC) | E60: Anna Lister (LOC)
B61: S Green | C61: Syd Thomas (WCOC) | E61: Elizabeth Elliott (WCOC)
B62: L Green | C62: Henry Teasdale (WCOC) | E62: Jessica Breeze (WCOC)
B63: Orange | C63: Wilfrid Teasdale (WCOC) | E63: Hannah Birkinshaw (WCOC)
B64: Yellow | C64: Isaac Hunter (WCOC) | E64: Maisy Yates (BL)
B66: Cumbrian Galoppen 2015 Course Winners
C67: Leading M | D67: Leading JM | E67: Leading W | F67: Leading JW
B68: Brown | C68: Steve Birkinshaw (WCOC) | E68: Karen Parker (BL)
B69: Blue | C69: Daniel Spencer (WCOC) | E69: Johanna Cleary (LOC)
B70: Green | C70: Ben Breeze (WCOC) | E70: Niamh Hunter (WCOC)
B71: S Green | C71: Mike Atherton (LOC) | E71: Catherine Wetherfield (WCOC)
B72: L Green | C72: Henry Teasdale (WCOC) | E72: Rosie Spencer (WCOC)
B73: Orange | C73: Robin Regan (BL) | E73: Merryn Stangroom (LOC)
B74: Yellow | C74: Wilfrid Teasdale (WCOC) | E74: Myrtle Ashworth (WCOC)
B76: Cumbrian Galoppen 2014 Course Winners
B77: Course | C77: Leading Man | E77: Leading Woman
B78: Brown | C78: Steve Birkinshaw | D78: WCOC | E78: Karen Parker | F78: BL
B79: Blue | C79: David Spencer | D79: WCOC | E79: Emily Brown | F79: BL
B80: Green | C80: Daniel Spencer | D80: WCOC | E80: Julia Laverack | F80: WAROC
B81: S Green | C81: Steve Telford | D81: WCOC | E81: Catherine Wetherfield | F81: WCOC
B82: L Green | C82: Alex Foster | D82: LOC | E82: Niamh Hunter | F82: WCOC
B83: Orange | C83: Henry Teasdale | D83: WCOC | E83: Caitlin Irving | F83: WCOC
B84: Yellow | C84: Wilfrid Teasdale | D84: WCOC | E84: Ellie Simmonds | F84: LOC
B86: Cumbrian Galoppen 2013 Course Winners
C87: Male | E87: Female
B88: Brown | C88: John Slater | D88: WCOC | E88: Karen Parker | F88: BL
B89: Blue | C89: Michael Billinghurst | D89: WCOC | E89: Kate Charles | F89: WCOC
B90: Green | C90: Roger Thomas | D90: WCOC | E90: Emily Brown | F90: BL
B91: S Green | C91: Andrew Suddaby | D91: BL | E91: Catherine Wetherfield | F91: WCOC
B92: L Green | C92: Harry Scott | D92: LOC | E92: Grace Pugh | F92: LOC
B93: Orange | C93: Alex Foster | D93: LOC | E93: Rosie Spencer | F93: WCOC
B94: Yellow | C94: Henry Teasdale | D94: WCOC | E94: Jessica Breeze | F94: WCOC
B96: Cumbrian Galoppen 2012 Course Winners
C97: Male | E97: Female
B98: Brown | C98: Todd Oates | D98: LOC | E98: Karen Parker | F98: BL
B99: Blue | C99: John Slater | D99: WCOC | E99: Sarah Jones | F99: BARRO
B100: Green | C100: Michael Pearson | D100: WCOC | E100: Jo Cleary | F100: LOC
B101: S Green | C101: Stan Johnston | D101: LOC | E101: Diana McClure | F101: LOC
B102: L Green | C102: Daniel Spencer | D102: WCOC | E102: Emily Brown | F102: BL
B103: Orange | C103: Harry Scott | D103: LOC | E103: Niamh Hunter | F103: WCOC
B104: Yellow | C104: Henry Teasdale | D104: WCOC | E104: Rosie Spencer | F104: WCOC
B106: Cumbrian Galoppen 2011 Course Winners
C107: Male | E107: Female
B108: Brown | C108: Steve Birkinshaw | D108: WCOC | E108: Karen Parker | F108: BL
B109: Blue | C109: John Noblett | D109: WCOC | E109: Rosie Watson | F109: WCOC
B110: Green | C110: Roger Thomas | D110: WCOC | E110: Susan Skinner | F110: WCOC
B111: S Green | C111: Steve Telford | D111: WCOC | E111: Anne Burbidge | F111: WCOC
B112: L Green | C112: Alastair Thomas | D112: WCOC | E112: Hannah Cleary-Hughes | F112: LOC
...

Sheet  Scores 2022 - 1 event
B1: Course | C1: Rank | D1: Name | E1: Club | F1: Age Class | G1: Penrith Beacon | M1: Galoppen Score | N1: Number of Counting Scores | O1: Average of Counting Scores
B2: Brown | C2: =RANK(M2,M$2:M$48) -> 1 | D2: Shane Ohly | E2: WAROC | F2: M45 | G2: 99 | M2: 99 | N2: 1 | O2: 99
C3: =RANK(M3,M$2:M$48) -> 2 | D3: Charlie Rennie | E3: WCOC | F3: M20 | G3: 98 | M3: 98 | N3: 1 | O3: 98
C4: =RANK(M4,M$2:M$48) -> 3 | D4: Jamie Rennie | E4: WCOC | F4: M50 | G4: 97 | M4: 97 | N4: 1 | O4: 97
C5: =RANK(M5,M$2:M$48) -> 4 | D5: Graham Patten | E5: WAROC | F5: M60 | G5: 96 | M5: 96 | N5: 1 | O5: 96
C6: =RANK(M6,M$2:M$48) -> 5 | D6: Simon Hunter | E6: WCOC | F6: M50 | G6: 95 | M6: 95 | N6: 1 | O6: 95
C7: =RANK(M7,M$2:M$48) -> 6 | D7: Steve Birkinshaw | E7: WCOC | F7: M50 | G7: 94 | M7: 94 | N7: 1 | O7: 94
C8: =RANK(M8,M$2:M$48) -> 7 | D8: Chris Naylor | E8: WCOC | F8: M35 | G8: 93 | M8: 93 | N8: 1 | O8: 93
C9: =RANK(M9,M$2:M$48) -> 8 | D9: Jack Eyre | E9: BL | F9: M21 | G9: 92 | M9: 92 | N9: 1 | O9: 92
C10: =RANK(M10,M$2:M$48) -> 9 | D10: Ian Cumpstey | E10: BL | F10: M45 | G10: 91 | M10: 91 | N10: 1 | O10: 91
C11: =RANK(M11,M$2:M$48) -> 10 | D11: James Chapman | E11: BL | F11: M35 | G11: 90 | M11: 90 | N11: 1 | O11: 90
C12: =RANK(M12,M$2:M$48) -> 11 | D12: Dan Parker | E12: BL | F12: M60 | G12: 89 | M12: 89 | N12: 1 | O12: 89
C13: =RANK(M13,M$2:M$48) -> 12 | D13: Tom Matthew | E13: SROC | F13: M50 | G13: 88 | M13: 88 | N13: 1 | O13: 88
C14: =RANK(M14,M$2:M$48) -> 13 | D14: Mike Harrison | E14: WCOC | F14: M50 | G14: 87 | M14: 87 | N14: 1 | O14: 87
... C24: =RANK(M24,M$2:M$48) -> 23 | D24: Toby Johnson | E24: LOC | F24: M45 | G24: 77 | M24: 77 | N24: 1 | O24: 77
C25: =RANK(M25,M$2:M$48) -> #N/A
C26: =RANK(M26,M$2:M$48) -> #N/A
C27: =RANK(M27,M$2:M$48) -> #N/A
C28: =RANK(M28,M$2:M$48) -> #N/A
C29: =RANK(M29,M$2:M$48) -> #N/A
C30: =RANK(M30,M$2:M$48) -> #N/A
C31: =RANK(M31,M$2:M$48) -> #N/A
C32: =RANK(M32,M$2:M$48) -> #N/A
C33: =RANK(M33,M$2:M$48) -> #N/A
C34: =RANK(M34,M$2:M$48) -> #N/A
C35: =RANK(M35,M$2:M$48) -> #N/A
C36: =RANK(M36,M$2:M$48) -> #N/A
... C46: =RANK(M46,M$2:M$48) -> #N/A
G48: =G1 -> Penrith Beacon | H48: =H1 -> 0 | I48: =I1 -> 0 | J48: =J1 -> 0 | K48: =K1 -> 0 | L48: =L1 -> 0
B49: Blue | C49: =RANK(M49,M$49:M$111) -> 1 | D49: Daniel Heppell | E49: WCOC | F49: M16 | G49: 99 | M49: 99 | N49: 1 | O49: 99
C50: =RANK(M50,M$49:M$111) -> 2 | D50: Isaac Hunter | E50: WCOC | F50: M16 | G50: 98 | M50: 98 | N50: 1 | O50: 98
C51: =RANK(M51,M$49:M$111) -> 3 | D51: Alan Irving | E51: WCOC | F51: M55 | G51: 97 | M51: 97 | N51: 1 | O51: 97
C52: =RANK(M52,M$49:M$111) -> 4 | D52: Owain Rice | E52: BL | F52: M21 | G52: 96 | M52: 96 | N52: 1 | O52: 96
C53: =RANK(M53,M$49:M$111) -> 5 | D53: James Birkinshaw | E53: WCOC | F53: M20 | G53: 95 | M53: 95 | N53: 1 | O53: 95
C54: =RANK(M54,M$49:M$111) -> 6 | D54: Howard Leslie | E54: WCOC | F54: M60 | G54: 94 | M54: 94 | N54: 1 | O54: 94
C55: =RANK(M55,M$49:M$111) -> 7 | D55: Christine Goulding | E55: BL | F55: W55 | G55: 93 | M55: 93 | N55: 1 | O55: 93
C56: =RANK(M56,M$49:M$111) -> 8 | D56: Danny Winterbottom | E56: WCOC | F56: M16 | G56: 92 | M56: 92 | N56: 1 | O56: 92
C57: =RANK(M57,M$49:M$111) -> 9 | D57: Martin Skinner | E57: WCOC | F57: M55 | G57: 91 | M57: 91 | N57: 1 | O57: 91
C58: =RANK(M58,M$49:M$111) -> 10 | D58: Colin Valentine | E58: WCOC | F58: M60 | G58: 90 | M58: 90 | N58: 1 | O58: 90
C59: =RANK(M59,M$49:M$111) -> 11 | D59: Andy Lewsley | E59: BL | F59: M65 | G59: 89 | M59: 89 | N59: 1 | O59: 89
C60: =RANK(M60,M$49:M$111) -> 12 | D60: Thomas Rawle | E60: BL | F60: M18 | G60: 88 | M60: 88 | N60: 1 | O60: 88
C61: =RANK(M61,M$49:M$111) -> 13 | D61: Stephen Eastley | E61: BL | F61: M65 | G61: 87 | M61: 87 | N61: 1 | O61: 87
... C68: =RANK(M68,M$49:M$111) -> 20 | D68: Helen Rennie | E68: WCOC | F68: W45 | G68: 80 | M68: 80 | N68: 1 | O68: 80
C69: =RANK(M69,M$49:M$111) -> #N/A
C70: =RANK(M70,M$49:M$111) -> #N/A
C71: =RANK(M71,M$49:M$111) -> #N/A
C72: =RANK(M72,M$49:M$111) -> #N/A
C73: =RANK(M73,M$49:M$111) -> #N/A
C74: =RANK(M74,M$49:M$111) -> #N/A
C75: =RANK(M75,M$49:M$111) -> #N/A
C76: =RANK(M76,M$49:M$111) -> #N/A
C77: =RANK(M77,M$49:M$111) -> #N/A
C78: =RANK(M78,M$49:M$111) -> #N/A
C79: =RANK(M79,M$49:M$111) -> #N/A
C80: =RANK(M80,M$49:M$111) -> #N/A
... C109: =RANK(M109,M$49:M$111) -> #N/A
G111: =G1 -> Penrith Beacon
B112: Green | C112: =RANK(M112,M$112:M$177) -> 1 | D112: Stella Lewsley | E112: BL | F112: W65 | G112: 99 | M112: 99 | N112: 1 | O112: 99
C113: =RANK(M113,M$112:M$177) -> 2 | D113: Cliff Etherden | E113: LOC | F113: M70 | G113: 98 | M113: 98 | N113: 1 | O113: 98
C114: =RANK(M114,M$112:M$177) -> 3 | D114: Toby Heppell | E114: WCOC | F114: M14 | G114: 97 | M114: 97 | N114: 1 | O114: 97
C115: =RANK(M115,M$112:M$177) -> 4 | D115: Jill Libby | E115: BL | F115: W65 | G115: 96 | M115: 96 | N115: 1 | O115: 96
C116: =RANK(M116,M$112:M$177) -> 5 | D116: Susan Skinner | E116: WCOC | F116: W55 | G116: 95 | M116: 95 | N116: 1 | O116: 95
C117: =RANK(M117,M$112:M$177) -> 6 | D117: Louise Dunn | E117: LOC | F117: W60 | G117: 94 | M117: 94 | N117: 1 | O117: 94
C118: =RANK(M118,M$112:M$177) -> 7 | D118: Sophie Crawford | E118: WCOC | F118: W14 | G118: 93 | M118: 93 | N118: 1 | O118: 93
C119: =RANK(M119,M$112:M$177) -> 8 | D119: Roger Thomas | E119: WCOC | F119: M60 | G119: 92 | M119: 92 | N119: 1 | O119: 92
C120: =RANK(M120,M$112:M$177) -> 9 | D120: Robin Thomas | E120: BL | F120: M70 | G120: 91 | M120: 91 | N120: 1 | O120: 91
C121: =RANK(M121,M$112:M$177) -> 10 | D121: Richard Cummings | E121: WCOC | F121: M60 | G121: 90 | M121: 90 | N121: 1 | O121: 90
C122: =RANK(M122,M$112:M$177) -> 11 | D122: Ian Teasdale | E122: WCOC | F122: M60 | G122: 89 | M122: 89 | N122: 1 | O122: 89
C123: =RANK(M123,M$112:M$177) -> 12 | D123: Lynne Thomas | E123: WCOC | F123: W50 | G123: 88 | M123: 88 | N123: 1 | O123: 88
C124: =RANK(M124,M$112:M$177) -> 13 | D124: Norman French | E124: LOC | F124: M75 | G124: 87 | M124: 87 | N124: 1 | O124: 87
... C154: =RANK(M154,M$112:M$177) -> 43 | D154: Bethan Naylor | E154: WCOC | F154: W35 | G154: 57 | M154: 57 | N154: 1 | O154: 57
C155: =RANK(M155,M$112:M$177) -> #N/A
C156: =RANK(M156,M$112:M$177) -> #N/A
C157: =RANK(M157,M$112:M$177) -> #N/A
C158: =RANK(M158,M$112:M$177) -> #N/A
C159: =RANK(M159,M$112:M$177) -> #N/A
C160: =RANK(M160,M$112:M$177) -> #N/A
C161: =RANK(M161,M$112:M$177) -> #N/A
C162: =RANK(M162,M$112:M$177) -> #N/A
C163: =RANK(M163,M$112:M$177) -> #N/A
C164: =RANK(M164,M$112:M$177) -> #N/A
C165: =RANK(M165,M$112:M$177) -> #N/A
C166: =RANK(M166,M$112:M$177) -> #N/A
... C177: =RANK(M177,M$112:M$177) -> #N/A
G178: =G1 -> Penrith Beacon
B179: Short Green | C179: =RANK(M179,M$179:M$212) -> 1 | D179: Janet Nash | E179: LOC | F179: W70 | G179: 99 | M179: 99 | N179: 1 | O179: 99
C180: =RANK(M180,M$179:M$212) -> 2 | D180: Kim Leslie | E180: WCOC | F180: W55 | G180: 98 | M180: 98 | N180: 1 | O180: 98
C181: =RANK(M181,M$179:M$212) -> 3 | D181: Chris Lates | E181: BL | F181: M80 | G181: 97 | M181: 97 | N181: 1 | O181: 97
C182: =RANK(M182,M$179:M$212) -> 4 | D182: Gill Browne | E182: LOC | F182: W65 | G182: 96 | M182: 96 | N182: 1 | O182: 96
C183: =RANK(M183,M$179:M$212) -> 5 | D183: Becky Shelford | E183: LOC | F183: W21 | G183: 95 | M183: 95 | N183: 1 | O183: 95
C184: =RANK(M184,M$179:M$212) -> 6 | D184: Hilary Eastley | E184: BL | F184: W65 | G184: 94 | M184: 94 | N184: 1 | O184: 94
C185: =RANK(M185,M$179:M$212) -> 7 | D185: Heather Prince | E185: BL | F185: W60 | G185: 93 | M185: 93 | N185: 1 | O185: 93
C186: =RANK(M186,M$179:M$212) -> 8 | D186: Karen Blackburn | E186: BL | F186: W75 | G186: 92 | M186: 92 | N186: 1 | O186: 92
C187: =RANK(M187,M$179:M$212) -> 9 | D187: Malcolm Ruckledge | E187: WCOC | F187: M75 | G187: 91 | M187: 91 | N187: 1 | O187: 91
C188: =RANK(M188,M$179:M$212) -> 10 | D188: Joan Cumpstey | E188: BL | F188: W70 | G188: 90 | M188: 90 | N188: 1 | O188: 90
C189: =RANK(M189,M$179:M$212) -> 11 | D189: Stanley Johnston | E189: LOC | F189: M85 | G189: 89 | M189: 89 | N189: 1 | O189: 89
C190: =RANK(M190,M$179:M$212) -> 12 | D190: Janice Nichols | E190: BL | F190: W60 | G190: 88 | M190: 88 | N190: 1 | O190: 88
C191: =RANK(M191,M$179:M$212) -> 13 | D191: Lesley Wornham | E191: WCOC | F191: W65 | G191: 87 | M191: 87 | N191: 1 | O191: 87
... C204: =RANK(M204,M$179:M$212) -> 26 | D204: Richard Moss | E204: BL | F204: M80 | G204: 74 | M204: 74 | N204: 1 | O204: 74
C205: =RANK(M205,M$179:M$212) -> #N/A
...

Sheet 2 events
B1: Course | C1: Rank | D1: Name | E1: Club | F1: Age Class | G1: Penrith Beacon | H1: =Brown!F1 -> Loughrigg (LOC) | I1: =Brown!G1 -> Lank Rigg (WCOC) | J1: =Brown!H1 -> Ling Fell (WCOC) | K1: =Brown!I1 -> Harter Fell (LOC) | L1: =Brown!L1 -> 0 | M1: Galoppen Score | N1: Number of Counting Scores | O1: Average of Counting Scores
B2: Brown | C2: =RANK(M2,M$2:M$48) -> 1 | D2: Jamie Rennie | E2: WCOC | F2: M50 | G2: 97 | H2: 98 | M2: 195 | N2: 2 | O2: 97.5
C3: =RANK(M3,M$2:M$48) -> 2 | D3: Steve Birkinshaw | E3: WCOC | F3: M50 | G3: 94 | H3: 99 | M3: 193 | N3: 2 | O3: 96.5
C4: =RANK(M4,M$2:M$48) -> 3 | D4: Simon Hunter | E4: WCOC | F4: M50 | G4: 95 | H4: 95 | M4: 190 | N4: 2 | O4: 95
C5: =RANK(M5,M$2:M$48) -> 4 | D5: Ian Cumpstey | E5: BL | F5: M45 | G5: 91 | H5: 94 | M5: 185 | N5: 2 | O5: 92.5
C6: =RANK(M6,M$2:M$48) -> 5 | D6: Mike Harrison | E6: WCOC | F6: M50 | G6: 87 | H6: 91 | M6: 178 | N6: 2 | O6: 89
C7: =RANK(M7,M$2:M$48) -> 6 | D7: Steven Breeze | E7: WCOC | F7: M50 | G7: 82 | H7: 89 | M7: 171 | N7: 2 | O7: 85.5
C8: =RANK(M8,M$2:M$48) -> 7 | D8: Toby Johnson | E8: LOC | F8: M45 | G8: 77 | H8: 87 | M8: 164 | N8: 2 | O8: 82
C9: =RANK(M9,M$2:M$48) -> 8 | D9: Shane Ohly | E9: WAROC | F9: M45 | G9: 99 | M9: 99 | N9: 1 | O9: 99
C10: =RANK(M10,M$2:M$48) -> 9 | D10: Charlie Rennie | E10: WCOC | F10: M20 | G10: 98 | M10: 98 | N10: 1 | O10: 98
C11: =RANK(M11,M$2:M$48) -> 10 | D11: Joe Hudd | E11: WCOC | F11: M20 | H11: 97 | M11: 97 | N11: 1 | O11: 97
C12: =RANK(M12,M$2:M$48) -> 11 | D12: Graham Patten | E12: WAROC | F12: M60 | G12: 96 | M12: 96 | N12: 1 | O12: 96
C13: =RANK(M13,M$2:M$48) -> 11 | D13: Jeff Powell Davies | E13: BL | F13: M40 | H13: 96 | M13: 96 | N13: 1 | O13: 96
C14: =RANK(M14,M$2:M$48) -> 13 | D14: Chris Naylor | E14: WCOC | F14: M35 | G14: 93 | M14: 93 | N14: 1 | O14: 93
C15: =RANK(M15,M$2:M$48) -> 13 | D15: Peter Scott | E15: LOC | F15: M18 | H15: 93 | M15: 93 | N15: 1 | O15: 93
C16: =RANK(M16,M$2:M$48) -> 15 | D16: Jack Eyre | E16: BL | F16: M21 | G16: 92 | M16: 92 | N16: 1 | O16: 92
C17: =RANK(M17,M$2:M$48) -> 15 | D17: Matthew Horne | E17: LOC | F17: M20 | H17: 92 | M17: 92 | N17: 1 | O17: 92
C18: =RANK(M18,M$2:M$48) -> 17 | D18: James Chapman | E18: BL | F18: M35 | G18: 90 | M18: 90 | N18: 1 | O18: 90
C19: =RANK(M19,M$2:M$48) -> 17 | D19: Robert Smith | E19: LOC | F19: M55 | H19: 90 | M19: 90 | N19: 1 | O19: 90
C20: =RANK(M20,M$2:M$48) -> 19 | D20: Dan Parker | E20: BL | F20: M60 | G20: 89 | M20: 89 | N20: 1 | O20: 89
C21: =RANK(M21,M$2:M$48) -> 20 | D21: Iain Smith-Ward | E21: LOC | F21: M50 | H21: 88 | M21: 88 | N21: 1 | O21: 88
C22: =RANK(M22,M$2:M$48) -> 20 | D22: Tom Matthew | E22: SROC | F22: M50 | G22: 88 | M22: 88 | N22: 1 | O22: 88
C23: =RANK(M23,M$2:M$48) -> 22 | D23: Sam Gibbs | E23: WAROC | F23: M45 | G23: 86 | M23: 86 | N23: 1 | O23: 86
C24: =RANK(M24,M$2:M$48) -> 23 | D24: Karen Parker | E24: BL | F24: W55 | G24: 85 | M24: 85 | N24: 1 | O24: 85
C25: =RANK(M25,M$2:M$48) -> 24 | D25: Andrew Bradley | E25: WCOC | F25: M55 | G25: 84 | M25: 84 | N25: 1 | O25: 84
C26: =RANK(M26,M$2:M$48) -> 25 | D26: Emma Stuart | E26: BL | F26: W21 | G26: 83 | M26: 83 | N26: 1 | O26: 83
C27: =RANK(M27,M$2:M$48) -> 26 | D27: Derek Fryer | E27: LOC | F27: M65 | G27: 81 | M27: 81 | N27: 1 | O27: 81
C28: =RANK(M28,M$2:M$48) -> 27 | D28: Caitlin Pearson | E28: WCOC | F28: W21 | G28: 80 | M28: 80 | N28: 1 | O28: 80
C29: =RANK(M29,M$2:M$48) -> 28 | D29: David Wilson | E29: WCOC | F29: M35 | G29: 79 | M29: 79 | N29: 1 | O29: 79
C30: =RANK(M30,M$2:M$48) -> 29 | D30: Jasmine Girdlestone | E30: WCOC | F30: W21 | G30: 78 | M30: 78 | N30: 1 | O30: 78
C31: =RANK(M31,M$2:M$48) -> #N/A
C32: =RANK(M32,M$2:M$48) -> #N/A
C33: =RANK(M33,M$2:M$48) -> #N/A
C34: =RANK(M34,M$2:M$48) -> #N/A
C35: =RANK(M35,M$2:M$48) -> #N/A
C36: =RANK(M36,M$2:M$48) -> #N/A
C37: =RANK(M37,M$2:M$48) -> #N/A
C38: =RANK(M38,M$2:M$48) -> #N/A
C39: =RANK(M39,M$2:M$48) -> #N/A
C40: =RANK(M40,M$2:M$48) -> #N/A
C41: =RANK(M41,M$2:M$48) -> #N/A
C42: =RANK(M42,M$2:M$48) -> #N/A
... C46: =RANK(M46,M$2:M$48) -> #N/A
C47: =COUNTA(C2:C46) -> 45 | D47: =COUNTA(D2:D46) -> 29 | E47: =COUNTA(E2:E46) -> 29 | F47: =COUNTA(F2:F46) -> 29 | G47: =COUNTA(G2:G46) -> 23 | H47: =COUNTA(H2:H46) -> 13 | I47: =COUNTA(I2:I46) -> 0 | J47: =COUNTA(J2:J46) -> 0 | ... O47: =COUNTA(O2:O46) -> 29
D48: =D1 -> Name | E48: =E1 -> Club | F48: =F1 -> Age Class | G48: =G1 -> Penrith Beacon | H48: =H1 -> Loughrigg (LOC) | I48: =I1 -> Lank Rigg (WCOC) | J48: =J1 -> Ling Fell (WCOC) | K48: =K1 -> Harter Fell (LOC) | ... O48: =O1 -> Average of Counting Scores
B49: Blue | C49: =RANK(M49,M$49:M$110) -> 1 | D49: Daniel Heppell | E49: WCOC | F49: M16 | G49: 99 | H49: 99 | M49: =IFERROR(LARGE($E49:$J49,1),0)+IFERROR(LARGE($E49:$J49,2),0)+IFERROR(LARGE($E49:$J49,3),0)+IFERROR(LARGE($E49:$J49,4),0) -> 198 | N49: =IF(COUNT(G49:L49)>4,4,COUNT(G49:L49)) -> 2 | O49: =M49/N49 -> 99
C50: =RANK(M50,M$49:M$110) -> 2 | D50: Isaac Hunter | E50: WCOC | F50: M16 | G50: 98 | H50: 97 | M50: =IFERROR(LARGE($E50:$J50,1),0)+IFERROR(LARGE($E50:$J50,2),0)+IFERROR(LARGE($E50:$J50,3),0)+IFERROR(LARGE($E50:$J50,4),0) -> 195 | N50: =IF(COUNT(G50:L50)>4,4,COUNT(G50:L50)) -> 2 | O50: =M50/N50 -> 97.5
C51: =RANK(M51,M$49:M$110) -> 3 | D51: Alan Irving | E51: WCOC | F51: M55 | G51: 97 | H51: 95 | M51: =IFERROR(LARGE($E51:$J51,1),0)+IFERROR(LARGE($E51:$J51,2),0)+IFERROR(LARGE($E51:$J51,3),0)+IFERROR(LARGE($E51:$J51,4),0) -> 192 | N51: =IF(COUNT(G51:L51)>4,4,COUNT(G51:L51)) -> 2 | O51: =M51/N51 -> 96
C52: =RANK(M52,M$49:M$110) -> 4 | D52: James Birkinshaw | E52: WCOC | F52: M20 | G52: 95 | H52: 94 | M52: =IFERROR(LARGE($E52:$J52,1),0)+IFERROR(LARGE($E52:$J52,2),0)+IFERROR(LARGE($E52:$J52,3),0)+IFERROR(LARGE($E52:$J52,4),0) -> 189 | N52: =IF(COUNT(G52:L52)>4,4,COUNT(G52:L52)) -> 2 | O52: =M52/N52 -> 94.5
C53: =RANK(M53,M$49:M$110) -> 5 | D53: Owain Rice | E53: BL | F53: M21 | G53: 96 | H53: 90 | M53: =IFERROR(LARGE($E53:$J53,1),0)+IFERROR(LARGE($E53:$J53,2),0)+IFERROR(LARGE($E53:$J53,3),0)+IFERROR(LARGE($E53:$J53,4),0) -> 186 | N53: =IF(COUNT(G53:L53)>4,4,COUNT(G53:L53)) -> 2 | O53: =M53/N53 -> 93
C54: =RANK(M54,M$49:M$110) -> 6 | D54: Martin Skinner | E54: WCOC | F54: M55 | G54: 91 | H54: 89 | M54: =IFERROR(LARGE($E54:$J54,1),0)+IFERROR(LARGE($E54:$J54,2),0)+IFERROR(LARGE($E54:$J54,3),0)+IFERROR(LARGE($E54:$J54,4),0) -> 180 | N54: =IF(COUNT(G54:L54)>4,4,COUNT(G54:L54)) -> 2 | O54: =M54/N54 -> 90
C55: =RANK(M55,M$49:M$110) -> 7 | D55: Christine Goulding | E55: BL | F55: W55 | G55: 93 | H55: 84 | M55: =IFERROR(LARGE($E55:$J55,1),0)+IFERROR(LARGE($E55:$J55,2),0)+IFERROR(LARGE($E55:$J55,3),0)+IFERROR(LARGE($E55:$J55,4),0) -> 177 | N55: =IF(COUNT(G55:L55)>4,4,COUNT(G55:L55)) -> 2 | O55: =M55/N55 -> 88.5
C56: =RANK(M56,M$49:M$110) -> 7 | D56: Howard Leslie | E56: WCOC | F56: M60 | G56: 94 | H56: 83 | M56: =IFERROR(LARGE($E56:$J56,1),0)+IFERROR(LARGE($E56:$J56,2),0)+IFERROR(LARGE($E56:$J56,3),0)+IFERROR(LARGE($E56:$J56,4),0) -> 177 | N56: =IF(COUNT(G56:L56)>4,4,COUNT(G56:L56)) -> 2 | O56: =M56/N56 -> 88.5
C57: =RANK(M57,M$49:M$110) -> 9 | D57: Stephen Eastley | E57: BL | F57: M65 | G57: 87 | H57: 85 | M57: =IFERROR(LARGE($E57:$J57,1),0)+IFERROR(LARGE($E57:$J57,2),0)+IFERROR(LARGE($E57:$J57,3),0)+IFERROR(LARGE($E57:$J57,4),0) -> 172 | N57: =IF(COUNT(G57:L57)>4,4,COUNT(G57:L57)) -> 2 | O57: =M57/N57 -> 86
C58: =RANK(M58,M$49:M$110) -> 10 | D58: Andy Lewsley | E58: BL | F58: M65 | G58: 89 | H58: 81 | M58: =IFERROR(LARGE($E58:$J58,1),0)+IFERROR(LARGE($E58:$J58,2),0)+IFERROR(LARGE($E58:$J58,3),0)+IFERROR(LARGE($E58:$J58,4),0) -> 170 | N58: =IF(COUNT(G58:L58)>4,4,COUNT(G58:L58)) -> 2 | O58: =M58/N58 -> 85
C59: =RANK(M59,M$49:M$110) -> 11 | D59: Isabel Berry | E59: BL | F59: W40 | G59: 86 | H59: 82 | M59: =IFERROR(LARGE($E59:$J59,1),0)+IFERROR(LARGE($E59:$J59,2),0)+IFERROR(LARGE($E59:$J59,3),0)+IFERROR(LARGE($E59:$J59,4),0) -> 168 | N59: =IF(COUNT(G59:L59)>4,4,COUNT(G59:L59)) -> 2 | O59: =M59/N59 -> 84
C60: =RANK(M60,M$49:M$110) -> 12 | D60: Stuart Crawford | E60: WCOC | F60: M50 | G60: 84 | H60: 80 | M60: =IFERROR(LARGE($E60:$J60,1),0)+IFERROR(LARGE($E60:$J60,2),0)+IFERROR(LARGE($E60:$J60,3),0)+IFERROR(LARGE($E60:$J60,4),0) -> 164 | N60: =IF(COUNT(G60:L60)>4,4,COUNT(G60:L60)) -> 2 | O60: =M60/N60 -> 82
C61: =RANK(M61,M$49:M$110) -> 13 | D61: Ange Jackson | E61: WCOC | F61: W45 | G61: 85 | H61: 72 | M61: =IFERROR(LARGE($E61:$J61,1),0)+IFERROR(LARGE($E61:$J61,2),0)+IFERROR(LARGE($E61:$J61,3),0)+IFERROR(LARGE($E61:$J61,4),0) -> 157 | N61: =IF(COUNT(G61:L61)>4,4,COUNT(G61:L61)) -> 2 | O61: =M61/N61 -> 78.5
C62: =RANK(M62,M$49:M$110) -> 14 | D62: Keith Tonkin | E62: BL | F62: M60 | H62: 98 | M62: =IFERROR(LARGE($E62:$J62,1),0)+IFERROR(LARGE($E62:$J62,2),0)+IFERROR(LARGE($E62:$J62,3),0)+IFERROR(LARGE($E62:$J62,4),0) -> 98 | N62: =IF(COUNT(G62:L62)>4,4,COUNT(G62:L62)) -> 1 | O62: =M62/N62 -> 98
C63: =RANK(M63,M$49:M$110) -> 15 | D63: Steve Holmes | E63: WCOC | F63: M50 | H63: 96 | M63: =IFERROR(LARGE($E63:$J63,1),0)+IFERROR(LARGE($E63:$J63,2),0)+IFERROR(LARGE($E63:$J63,3),0)+IFERROR(LARGE($E63:$J63,4),0) -> 96 | N63: =IF(COUNT(G63:L63)>4,4,COUNT(G63:L63)) -> 1 | O63: =M63/N63 -> 96
C64: =RANK(M64,M$49:M$110) -> 16 | D64: Laura Brown | E64: LOC | F64: W18 | H64: 93 | M64: =IFERROR(LARGE($E64:$J64,1),0)+IFERROR(LARGE($E64:$J64,2),0)+IFERROR(LARGE($E64:$J64,3),0)+IFERROR(LARGE($E64:$J64,4),0) -> 93 | N64: =IF(COUNT(G64:L64)>4,4,COUNT(G64:L64)) -> 1 | O64: =M64/N64 -> 93
C65: =RANK(M65,M$49:M$110) -> 17 | D65: Danny Winterbottom | E65: WCOC | F65: M16 | G65: 92 | M65: =IFERROR(LARGE($E65:$J65,1),0)+IFERROR(LARGE($E65:$J65,2),0)+IFERROR(LARGE($E65:$J65,3),0)+IFERROR(LARGE($E65:$J65,4),0) -> 92 | N65: =IF(COUNT(G65:L65)>4,4,COUNT(G65:L65)) -> 1 | O65: =M65/N65 -> 92
C66: =RANK(M66,M$49:M$110) -> 17 | D66: Karen Parker | E66: BL | F66: W55 | H66: 92 | M66: =IFERROR(LARGE($E66:$J66,1),0)+IFERROR(LARGE($E66:$J66,2),0)+IFERROR(LARGE($E66:$J66,3),0)+IFERROR(LARGE($E66:$J66,4),0) -> 92 | N66: =IF(COUNT(G66:L66)>4,4,COUNT(G66:L66)) -> 1 | O66: =M66/N66 -> 92
C67: =RANK(M67,M$49:M$110) -> 19 | D67: Wilfrid Teasdale | E67: WCOC | F67: M18 | H67: 91 | M67: =IFERROR(LARGE($E67:$J67,1),0)+IFERROR(LARGE($E67:$J67,2),0)+IFERROR(LARGE($E67:$J67,3),0)+IFERROR(LARGE($E67:$J67,4),0) -> 91 | N67: =IF(COUNT(G67:L67)>4,4,COUNT(G67:L67)) -> 1 | O67: =M67/N67 -> 91
C68: =RANK(M68,M$49:M$110) -> 20 | D68: Colin Valentine | E68: WCOC | F68: M60 | G68: 90 | M68: =IFERROR(LARGE($E68:$J68,1),0)+IFERROR(LARGE($E68:$J68,2),0)+IFERROR(LARGE($E68:$J68,3),0)+IFERROR(LARGE($E68:$J68,4),0) -> 90 | N68: =IF(COUNT(G68:L68)>4,4,COUNT(G68:L68)) -> 1 | O68: =M68/N68 -> 90
C69: =RANK(M69,M$49:M$110) -> 21 | D69: Nicholas Evans | E69: WCOC | F69: M60 | H69: 88 | M69: =IFERROR(LARGE($E69:$J69,1),0)+IFERROR(LARGE($E69:$J69,2),0)+IFERROR(LARGE($E69:$J69,3),0)+IFERROR(LARGE($E69:$J69,4),0) -> 88 | N69: =IF(COUNT(G69:L69)>4,4,COUNT(G69:L69)) -> 1 | O69: =M69/N69 -> 88
C70: =RANK(M70,M$49:M$110) -> 21 | D70: Thomas Rawle | E70: BL | F70: M18 | G70: 88 | M70: =IFERROR(LARGE($E70:$J70,1),0)+IFERROR(LARGE($E70:$J70,2),0)+IFERROR(LARGE($E70:$J70,3),0)+IFERROR(LARGE($E70:$J70,4),0) -> 88 | N70: =IF(COUNT(G70:L70)>4,4,COUNT(G70:L70)) -> 1 | O70: =M70/N70 -> 88
C71: =RANK(M71,M$49:M$110) -> 23 | D71: John Ferris-Worth | E71: BL | F71: M55 | H71: 87 | M71: =IFERROR(LARGE($E71:$J71,1),0)+IFERROR(LARGE($E71:$J71,2),0)+IFERROR(LARGE($E71:$J71,3),0)+IFERROR(LARGE($E71:$J71,4),0) -> 87 | N71: =IF(COUNT(G71:L71)>4,4,COUNT(G71:L71)) -> 1 | O71: =M71/N71 -> 87
C72: =RANK(M72,M$49:M$110) -> 24 | D72: Emma Crawford | E72: WCOC | F72: W18 | H72: 86 | M72: =IFERROR(LARGE($E72:$J72,1),0)+IFERROR(LARGE($E72:$J72,2),0)+IFERROR(LARGE($E72:$J72,3),0)+IFERROR(LARGE($E72:$J72,4),0) -> 86 | N72: =IF(COUNT(G72:L72)>4,4,COUNT(G72:L72)) -> 1 | O72: =M72/N72 -> 86
C73: =RANK(M73,M$49:M$110) -> 25 | D73: Steve Kruger | E73: LOC | F73: M60 | G73: 83 | M73: =IFERROR(LARGE($E73:$J73,1),0)+IFERROR(LARGE($E73:$J73,2),0)+IFERROR(LARGE($E73:$J73,3),0)+IFERROR(LARGE($E73:$J73,4),0) -> 83 | N73: =IF(COUNT(G73:L73)>4,4,COUNT(G73:L73)) -> 1 | O73: =M73/N73 -> 83
C74: =RANK(M74,M$49:M$110) -> 26 | D74: Lindsey Bayles | E74: LOC | F74: W60 | G74: 82 | M74: =IFERROR(LARGE($E74:$J74,1),0)+IFERROR(LARGE($E74:$J74,2),0)+IFERROR(LARGE($E74:$J74,3),0)+IFERROR(LARGE($E74:$J74,4),0) -> 82 | N74: =IF(COUNT(G74:L74)>4,4,COUNT(G74:L74)) -> 1 | O74: =M74/N74 -> 82
C75: =RANK(M75,M$49:M$110) -> 27 | D75: Dave Phillips | E75: WCOC | F75: M40 | G75: 81 | M75: =IFERROR(LARGE($E75:$J75,1),0)+IFERROR(LARGE($E75:$J75,2),0)+IFERROR(LARGE($E75:$J75,3),0)+IFERROR(LARGE($E75:$J75,4),0) -> 81 | N75: =IF(COUNT(G75:L75)>4,4,COUNT(G75:L75)) -> 1 | O75: =M75/N75 -> 81
C76: =RANK(M76,M$49:M$110) -> 28 | D76: Helen Rennie | E76: WCOC | F76: W45 | G76: 80 | M76: =IFERROR(LARGE($E76:$J76,1),0)+IFERROR(LARGE($E76:$J76,2),0)+IFERROR(LARGE($E76:$J76,3),0)+IFERROR(LARGE($E76:$J76,4),0) -> 80 | N76: =IF(COUNT(G76:L76)>4,4,COUNT(G76:L76)) -> 1 | O76: =M76/N76 -> 80
C77: =RANK(M77,M$49:M$110) -> 28 | D77: Tim Field | E77: LOC | F77: M55 | H77: 80 | M77: =IFERROR(LARGE($E77:$J77,1),0)+IFERROR(LARGE($E77:$J77,2),0)+IFERROR(LARGE($E77:$J77,3),0)+IFERROR(LARGE($E77:$J77,4),0) -> 80 | N77: =IF(COUNT(G77:L77)>4,4,COUNT(G77:L77)) -> 1 | O77: =M77/N77 -> 80
C78: =RANK(M78,M$49:M$110) -> 30 | D78: Duncan Conway | E78: LOC | F78: M55 | H78: 78 | M78: =IFERROR(LARGE($E78:$J78,1),0)+IFERROR(LARGE($E78:$J78,2),0)+IFERROR(LARGE($E78:$J78,3),0)+IFERROR(LARGE($E78:$J78,4),0) -> 78 | N78: =IF(COUNT(G78:L78)>4,4,COUNT(G78:L78)) -> 1 | O78: =M78/N78 -> 78
C79: =RANK(M79,M$49:M$110) -> 31 | D79: Caitlin Pearson | E79: WCOC | F79: W21 | H79: 77 | M79: =IFERROR(LARGE($E79:$J79,1),0)+IFERROR(LARGE($E79:$J79,2),0)+IFERROR(LARGE($E79:$J79,3),0)+IFERROR(LARGE($E79:$J79,4),0) -> 77 | N79: =IF(COUNT(G79:L79)>4,4,COUNT(G79:L79)) -> 1 | O79: =M79/N79 -> 77
C80: =RANK(M80,M$49:M$110) -> 32 | D80: David Downes | E80: WCOC | F80: M65 | H80: 76 | M80: =IFERROR(LARGE($E80:$J80,1),0)+IFERROR(LARGE($E80:$J80,2),0)+IFERROR(LARGE($E80:$J80,3),0)+IFERROR(LARGE($E80:$J80,4),0) -> 76 | N80: =IF(COUNT(G80:L80)>4,4,COUNT(G80:L80)) -> 1 | O80: =M80/N80 -> 76
C81: =RANK(M81,M$49:M$110) -> 33 | D81: Emily Turner | E81: LOC | F81: W18 | H81: 75 | M81: =IFERROR(LARGE($E81:$J81,1),0)+IFERROR(LARGE($E81:$J81,2),0)+IFERROR(LARGE($E81:$J81,3),0)+IFERROR(LARGE($E81:$J81,4),0) -> 75 | N81: =IF(COUNT(G81:L81)>4,4,COUNT(G81:L81)) -> 1 | O81: =M81/N81 -> 75
C82: =RANK(M82,M$49:M$110) -> 34 | D82: Simon Filmore | E82: LOC | F82: M65 | H82: 74 | M82: =IFERROR(LARGE($E82:$J82,1),0)+IFERROR(LARGE($E82:$J82,2),0)+IFERROR(LARGE($E82:$J82,3),0)+IFERROR(LARGE($E82:$J82,4),0) -> 74 | N82: =IF(COUNT(G82:L82)>4,4,COUNT(G82:L82)) -> 1 | O82: =M82/N82 -> 74
C83: =RANK(M83,M$49:M$110) -> 35 | D83: Tim Boden | E83: LOC | F83: M55 | H83: 73 | M83: =IFERROR(LARGE($E83:$J83,1),0)+IFERROR(LARGE($E83:$J83,2),0)+IFERROR(LARGE($E83:$J83,3),0)+IFERROR(LARGE($E83:$J83,4),0) -> 73 | N83: =IF(COUNT(G83:L83)>4,4,COUNT(G83:L83)) -> 1 | O83: =M83/N83 -> 73
C84: =RANK(M84,M$49:M$110) -> #N/A
C85: =RANK(M85,M$49:M$110) -> #N/A
C86: =RANK(M86,M$49:M$110) -> #N/A
C87: =RANK(M87,M$49:M$110) -> #N/A
C88: =RANK(M88,M$49:M$110) -> #N/A
C89: =RANK(M89,M$49:M$110) -> #N/A
C90: =RANK(M90,M$49:M$110) -> #N/A
C91: =RANK(M91,M$49:M$110) -> #N/A
C92: =RANK(M92,M$49:M$110) -> #N/A
C93: =RANK(M93,M$49:M$110) -> #N/A
C94: =RANK(M94,M$49:M$110) -> #N/A
C95: =RANK(M95,M$49:M$110) -> #N/A
... C108: =RANK(M108,M$49:M$110) -> #N/A
C109: =COUNTA(C49:C108) -> 60 | D109: =COUNTA(D49:D108) -> 35 | E109: =COUNTA(E49:E108) -> 35 | F109: =COUNTA(F49:F108) -> 35 | G109: =COUNTA(G49:G108) -> 20 | H109: =COUNTA(H49:H108) -> 28 | I109: =COUNTA(I49:I108) -> 0 | J109: =COUNTA(J49:J108) -> 0 | ... O109: =COUNTA(O49:O108) -> 35
D110: =D48 -> Name | E110: =E48 -> Club | F110: =F48 -> Age Class | G110: =G1 -> Penrith Beacon | H110: =H1 -> Loughrigg (LOC) | I110: =I1 -> Lank Rigg (WCOC) | J110: =J1 -> Ling Fell (WCOC) | K110: =K1 -> Harter Fell (LOC) | L110: =L1 -> 0 | M110: =M48 -> Galoppen Score | N110: =N48 -> Number of Counting Scores | O110: =O48 -> Average of Counting Scores
B111: Green | C111: =RANK(M111,M$111:M$178) -> 1 | D111: Roger Thomas | E111: WCOC | F111: M60 | G111: 92 | H111: 96 | M111: 188 | N111: 2 | O111: 94
C112: =RANK(M112,M$111:M$178) -> 2 | D112: Sophie Crawford | E112: WCOC | F112: W14 | G112: 93 | H112: 93 | M112: 186 | N112: 2 | O112: 93
C113: =RANK(M113,M$111:M$178) -> 3 | D113: Susan Skinner | E113: WCOC | F113: W55 | G113: 95 | H113: 90 | M113: 185 | N113: 2 | O113: 92.5
C114: =RANK(M114,M$111:M$178) -> 4 | D114: Robin Thomas | E114: BL | F114: M70 | G114: 91 | H114: 91 | M114: 182 | N114: 2 | O114: 91
C115: =RANK(M115,M$111:M$178) -> 5 | D115: Louise Dunn | E115: LOC | F115: W60 | G115: 94 | H115: 78 | M115: 172 | N115: 2 | O115: 86
...

Sheet 3 events
B1: Course | C1: Rank | D1: Name | E1: Club | F1: Age Class | G1: Penrith Beacon | H1: =Brown!F1 -> Loughrigg (LOC) | I1: =Brown!G1 -> Lank Rigg (WCOC) | J1: =Brown!H1 -> Ling Fell (WCOC) | K1: =Brown!I1 -> Harter Fell (LOC) | L1: =Brown!L1 -> 0 | M1: Galoppen Score | N1: Number of Counting Scores | O1: Average of Counting Scores
B2: Brown | C2: =RANK(M2,M$2:M$48) -> 1 | D2: Jamie Rennie | E2: WCOC | F2: M50 | G2: 97 | H2: 98 | I2: 97 | M2: =IFERROR(LARGE($E2:$J2,1),0)+IFERROR(LARGE($E2:$J2,2),0)+IFERROR(LARGE($E2:$J2,3),0)+IFERROR(LARGE($E2:$J2,4),0) -> 292 | N2: =IF(COUNT(G2:L2)>4,4,COUNT(G2:L2)) -> 3 | O2: =M2/N2 -> 97.333333
C3: =RANK(M3,M$2:M$48) -> 2 | D3: Simon Hunter | E3: WCOC | F3: M50 | G3: 95 | H3: 95 | I3: 95 | M3: =IFERROR(LARGE($E3:$J3,1),0)+IFERROR(LARGE($E3:$J3,2),0)+IFERROR(LARGE($E3:$J3,3),0)+IFERROR(LARGE($E3:$J3,4),0) -> 285 | N3: =IF(COUNT(G3:L3)>4,4,COUNT(G3:L3)) -> 3 | O3: =M3/N3 -> 95
C4: =RANK(M4,M$2:M$48) -> 3 | D4: Steve Birkinshaw | E4: WCOC | F4: M50 | G4: 94 | H4: 99 | I4: 89 | M4: =IFERROR(LARGE($E4:$J4,1),0)+IFERROR(LARGE($E4:$J4,2),0)+IFERROR(LARGE($E4:$J4,3),0)+IFERROR(LARGE($E4:$J4,4),0) -> 282 | N4: =IF(COUNT(G4:L4)>4,4,COUNT(G4:L4)) -> 3 | O4: =M4/N4 -> 94
C5: =RANK(M5,M$2:M$48) -> 4 | D5: Toby Johnson | E5: LOC | F5: M45 | G5: 77 | H5: 87 | I5: 90 | M5: =IFERROR(LARGE($E5:$J5,1),0)+IFERROR(LARGE($E5:$J5,2),0)+IFERROR(LARGE($E5:$J5,3),0)+IFERROR(LARGE($E5:$J5,4),0) -> 254 | N5: =IF(COUNT(G5:L5)>4,4,COUNT(G5:L5)) -> 3 | O5: =M5/N5 -> 84.666667
C6: =RANK(M6,M$2:M$48) -> 5 | D6: Charlie Rennie | E6: WCOC | F6: M20 | G6: 98 | I6: 99 | M6: =IFERROR(LARGE($E6:$J6,1),0)+IFERROR(LARGE($E6:$J6,2),0)+IFERROR(LARGE($E6:$J6,3),0)+IFERROR(LARGE($E6:$J6,4),0) -> 197 | N6: =IF(COUNT(G6:L6)>4,4,COUNT(G6:L6)) -> 2 | O6: =M6/N6 -> 98.5
C7: =RANK(M7,M$2:M$48) -> 6 | D7: Joe Hudd | E7: WCOC | F7: M20 | H7: 97 | I7: 96 | M7: =IFERROR(LARGE($E7:$J7,1),0)+IFERROR(LARGE($E7:$J7,2),0)+IFERROR(LARGE($E7:$J7,3),0)+IFERROR(LARGE($E7:$J7,4),0) -> 193 | N7: =IF(COUNT(G7:L7)>4,4,COUNT(G7:L7)) -> 2 | O7: =M7/N7 -> 96.5
C8: =RANK(M8,M$2:M$48) -> 7 | D8: Graham Patten | E8: WAROC | F8: M60 | G8: 96 | I8: 94 | M8: =IFERROR(LARGE($E8:$J8,1),0)+IFERROR(LARGE($E8:$J8,2),0)+IFERROR(LARGE($E8:$J8,3),0)+IFERROR(LARGE($E8:$J8,4),0) -> 190 | N8: =IF(COUNT(G8:L8)>4,4,COUNT(G8:L8)) -> 2 | O8: =M8/N8 -> 95
C9: =RANK(M9,M$2:M$48) -> 8 | D9: Ian Cumpstey | E9: BL | F9: M45 | G9: 91 | H9: 94 | M9: =IFERROR(LARGE($E9:$J9,1),0)+IFERROR(LARGE($E9:$J9,2),0)+IFERROR(LARGE($E9:$J9,3),0)+IFERROR(LARGE($E9:$J9,4),0) -> 185 | N9: =IF(COUNT(G9:L9)>4,4,COUNT(G9:L9)) -> 2 | O9: =M9/N9 -> 92.5
C10: =RANK(M10,M$2:M$48) -> 9 | D10: Dan Parker | E10: BL | F10: M60 | G10: 89 | I10: 92 | M10: =IFERROR(LARGE($E10:$J10,1),0)+IFERROR(LARGE($E10:$J10,2),0)+IFERROR(LARGE($E10:$J10,3),0)+IFERROR(LARGE($E10:$J10,4),0) -> 181 | N10: =IF(COUNT(G10:L10)>4,4,COUNT(G10:L10)) -> 2 | O10: =M10/N10 -> 90.5
C11: =RANK(M11,M$2:M$48) -> 10 | D11: Mike Harrison | E11: WCOC | F11: M50 | G11: 87 | H11: 91 | M11: =IFERROR(LARGE($E11:$J11,1),0)+IFERROR(LARGE($E11:$J11,2),0)+IFERROR(LARGE($E11:$J11,3),0)+IFERROR(LARGE($E11:$J11,4),0) -> 178 | N11: =IF(COUNT(G11:L11)>4,4,COUNT(G11:L11)) -> 2 | O11: =M11/N11 -> 89
C12: =RANK(M12,M$2:M$48) -> 11 | D12: Iain Smith-Ward | E12: LOC | F12: M50 | H12: 88 | I12: 88 | M12: =IFERROR(LARGE($E12:$J12,1),0)+IFERROR(LARGE($E12:$J12,2),0)+IFERROR(LARGE($E12:$J12,3),0)+IFERROR(LARGE($E12:$J12,4),0) -> 176 | N12: =IF(COUNT(G12:L12)>4,4,COUNT(G12:L12)) -> 2 | O12: =M12/N12 -> 88
C13: =RANK(M13,M$2:M$48) -> 12 | D13: Steven Breeze | E13: WCOC | F13: M50 | G13: 82 | H13: 89 | M13: =IFERROR(LARGE($E13:$J13,1),0)+IFERROR(LARGE($E13:$J13,2),0)+IFERROR(LARGE($E13:$J13,3),0)+IFERROR(LARGE($E13:$J13,4),0) -> 171 | N13: =IF(COUNT(G13:L13)>4,4,COUNT(G13:L13)) -> 2 | O13: =M13/N13 -> 85.5
C14: =RANK(M14,M$2:M$48) -> 13 | D14: Emma Stuart | E14: BL | F14: W21 | G14: 83 | I14: 86 | M14: =IFERROR(LARGE($E14:$J14,1),0)+IFERROR(LARGE($E14:$J14,2),0)+IFERROR(LARGE($E14:$J14,3),0)+IFERROR(LARGE($E14:$J14,4),0) -> 169 | N14: =IF(COUNT(G14:L14)>4,4,COUNT(G14:L14)) -> 2 | O14: =M14/N14 -> 84.5
C15: =RANK(M15,M$2:M$48) -> 14 | D15: Jasmine Girdlestone | E15: WCOC | F15: W21 | G15: 78 | I15: 87 | M15: =IFERROR(LARGE($E15:$J15,1),0)+IFERROR(LARGE($E15:$J15,2),0)+IFERROR(LARGE($E15:$J15,3),0)+IFERROR(LARGE($E15:$J15,4),0) -> 165 | N15: =IF(COUNT(G15:L15)>4,4,COUNT(G15:L15)) -> 2 | O15: =M15/N15 -> 82.5
C16: =RANK(M16,M$2:M$48) -> 15 | D16: Shane Ohly | E16: WAROC | F16: M45 | G16: 99 | M16: =IFERROR(LARGE($E16:$J16,1),0)+IFERROR(LARGE($E16:$J16,2),0)+IFERROR(LARGE($E16:$J16,3),0)+IFERROR(LARGE($E16:$J16,4),0) -> 99 | N16: =IF(COUNT(G16:L16)>4,4,COUNT(G16:L16)) -> 1 | O16: =M16/N16 -> 99
C17: =RANK(M17,M$2:M$48) -> 16 | D17: Ruben Razzetti | E17: BL | F17: M16 | I17: 98 | M17: =IFERROR(LARGE($E17:$J17,1),0)+IFERROR(LARGE($E17:$J17,2),0)+IFERROR(LARGE($E17:$J17,3),0)+IFERROR(LARGE($E17:$J17,4),0) -> 98 | N17: =IF(COUNT(G17:L17)>4,4,COUNT(G17:L17)) -> 1 | O17: =M17/N17 -> 98
C18: =RANK(M18,M$2:M$48) -> 17 | D18: Jeff Powell Davies | E18: BL | F18: M40 | H18: 96 | M18: =IFERROR(LARGE($E18:$J18,1),0)+IFERROR(LARGE($E18:$J18,2),0)+IFERROR(LARGE($E18:$J18,3),0)+IFERROR(LARGE($E18:$J18,4),0) -> 96 | N18: =IF(COUNT(G18:L18)>4,4,COUNT(G18:L18)) -> 1 | O18: =M18/N18 -> 96
C19: =RANK(M19,M$2:M$48) -> 18 | D19: Ben Goodwin | E19: WCOC | F19: M21 | I19: 93 | M19: =IFERROR(LARGE($E19:$J19,1),0)+IFERROR(LARGE($E19:$J19,2),0)+IFERROR(LARGE($E19:$J19,3),0)+IFERROR(LARGE($E19:$J19,4),0) -> 93 | N19: =IF(COUNT(G19:L19)>4,4,COUNT(G19:L19)) -> 1 | O19: =M19/N19 -> 93
C20: =RANK(M20,M$2:M$48) -> 18 | D20: Chris Naylor | E20: WCOC | F20: M35 | G20: 93 | M20: =IFERROR(LARGE($E20:$J20,1),0)+IFERROR(LARGE($E20:$J20,2),0)+IFERROR(LARGE($E20:$J20,3),0)+IFERROR(LARGE($E20:$J20,4),0) -> 93 | N20: =IF(COUNT(G20:L20)>4,4,COUNT(G20:L20)) -> 1 | O20: =M20/N20 -> 93
C21: =RANK(M21,M$2:M$48) -> 18 | D21: Peter Scott | E21: LOC | F21: M18 | H21: 93 | M21: =IFERROR(LARGE($E21:$J21,1),0)+IFERROR(LARGE($E21:$J21,2),0)+IFERROR(LARGE($E21:$J21,3),0)+IFERROR(LARGE($E21:$J21,4),0) -> 93 | N21: =IF(COUNT(G21:L21)>4,4,COUNT(G21:L21)) -> 1 | O21: =M21/N21 -> 93
C22: =RANK(M22,M$2:M$48) -> 21 | D22: Jack Eyre | E22: BL | F22: M21 | G22: 92 | M22: =IFERROR(LARGE($E22:$J22,1),0)+IFERROR(LARGE($E22:$J22,2),0)+IFERROR(LARGE($E22:$J22,3),0)+IFERROR(LARGE($E22:$J22,4),0) -> 92 | N22: =IF(COUNT(G22:L22)>4,4,COUNT(G22:L22)) -> 1 | O22: =M22/N22 -> 92
C23: =RANK(M23,M$2:M$48) -> 21 | D23: Matthew Horne | E23: LOC | F23: M20 | H23: 92 | M23: =IFERROR(LARGE($E23:$J23,1),0)+IFERROR(LARGE($E23:$J23,2),0)+IFERROR(LARGE($E23:$J23,3),0)+IFERROR(LARGE($E23:$J23,4),0) -> 92 | N23: =IF(COUNT(G23:L23)>4,4,COUNT(G23:L23)) -> 1 | O23: =M23/N23 -> 92
C24: =RANK(M24,M$2:M$48) -> 23 | D24: Phillip Winskill | E24: WCOC | F24: M45 | I24: 91 | M24: =IFERROR(LARGE($E24:$J24,1),0)+IFERROR(LARGE($E24:$J24,2),0)+IFERROR(LARGE($E24:$J24,3),0)+IFERROR(LARGE($E24:$J24,4),0) -> 91 | N24: =IF(COUNT(G24:L24)>4,4,COUNT(G24:L24)) -> 1 | O24: =M24/N24 -> 91
C25: =RANK(M25,M$2:M$48) -> 24 | D25: James Chapman | E25: BL | F25: M35 | G25: 90 | M25: =IFERROR(LARGE($E25:$J25,1),0)+IFERROR(LARGE($E25:$J25,2),0)+IFERROR(LARGE($E25:$J25,3),0)+IFERROR(LARGE($E25:$J25,4),0) -> 90 | N25: =IF(COUNT(G25:L25)>4,4,COUNT(G25:L25)) -> 1 | O25: =M25/N25 -> 90
C26: =RANK(M26,M$2:M$48) -> 24 | D26: Robert Smith | E26: LOC | F26: M55 | H26: 90 | M26: =IFERROR(LARGE($E26:$J26,1),0)+IFERROR(LARGE($E26:$J26,2),0)+IFERROR(LARGE($E26:$J26,3),0)+IFERROR(LARGE($E26:$J26,4),0) -> 90 | N26: =IF(COUNT(G26:L26)>4,4,COUNT(G26:L26)) -> 1 | O26: =M26/N26 -> 90
C27: =RANK(M27,M$2:M$48) -> 26 | D27: Sam Gibbs | E27: WAROC | F27: M45 | G27: 86 | M27: =IFERROR(LARGE($E27:$J27,1),0)+IFERROR(LARGE($E27:$J27,2),0)+IFERROR(LARGE($E27:$J27,3),0)+IFERROR(LARGE($E27:$J27,4),0) -> 86 | N27: =IF(COUNT(G27:L27)>4,4,COUNT(G27:L27)) -> 1 | O27: =M27/N27 -> 86
C28: =RANK(M28,M$2:M$48) -> 27 | D28: Karen Parker | E28: BL | F28: W55 | G28: 85 | M28: =IFERROR(LARGE($E28:$J28,1),0)+IFERROR(LARGE($E28:$J28,2),0)+IFERROR(LARGE($E28:$J28,3),0)+IFERROR(LARGE($E28:$J28,4),0) -> 85 | N28: =IF(COUNT(G28:L28)>4,4,COUNT(G28:L28)) -> 1 | O28: =M28/N28 -> 85
C29: =RANK(M29,M$2:M$48) -> 28 | D29: Andrew Bradley | E29: WCOC | F29: M55 | G29: 84 | M29: =IFERROR(LARGE($E29:$J29,1),0)+IFERROR(LARGE($E29:$J29,2),0)+IFERROR(LARGE($E29:$J29,3),0)+IFERROR(LARGE($E29:$J29,4),0) -> 84 | N29: =IF(COUNT(G29:L29)>4,4,COUNT(G29:L29)) -> 1 | O29: =M29/N29 -> 84
C30: =RANK(M30,M$2:M$48) -> 29 | D30: Derek Fryer | E30: LOC | F30: M65 | G30: 81 | M30: =IFERROR(LARGE($E30:$J30,1),0)+IFERROR(LARGE($E30:$J30,2),0)+IFERROR(LARGE($E30:$J30,3),0)+IFERROR(LARGE($E30:$J30,4),0) -> 81 | N30: =IF(COUNT(G30:L30)>4,4,COUNT(G30:L30)) -> 1 | O30: =M30/N30 -> 81
C31: =RANK(M31,M$2:M$48) -> 30 | D31: Caitlin Pearson | E31: WCOC | F31: W21 | G31: 80 | M31: =IFERROR(LARGE($E31:$J31,1),0)+IFERROR(LARGE($E31:$J31,2),0)+IFERROR(LARGE($E31:$J31,3),0)+IFERROR(LARGE($E31:$J31,4),0) -> 80 | N31: =IF(COUNT(G31:L31)>4,4,COUNT(G31:L31)) -> 1 | O31: =M31/N31 -> 80
C32: =RANK(M32,M$2:M$48) -> 31 | D32: David Wilson | E32: WCOC | F32: M35 | G32: 79 | M32: =IFERROR(LARGE($E32:$J32,1),0)+IFERROR(LARGE($E32:$J32,2),0)+IFERROR(LARGE($E32:$J32,3),0)+IFERROR(LARGE($E32:$J32,4),0) -> 79 | N32: =IF(COUNT(G32:L32)>4,4,COUNT(G32:L32)) -> 1 | O32: =M32/N32 -> 79
C33: =RANK(M33,M$2:M$48) -> #N/A
C34: =RANK(M34,M$2:M$48) -> #N/A
C35: =RANK(M35,M$2:M$48) -> #N/A
C36: =RANK(M36,M$2:M$48) -> #N/A
C37: =RANK(M37,M$2:M$48) -> #N/A
C38: =RANK(M38,M$2:M$48) -> #N/A
C39: =RANK(M39,M$2:M$48) -> #N/A
C40: =RANK(M40,M$2:M$48) -> #N/A
C41: =RANK(M41,M$2:M$48) -> #N/A
C42: =RANK(M42,M$2:M$48) -> #N/A
C43: =RANK(M43,M$2:M$48) -> #N/A
C44: =RANK(M44,M$2:M$48) -> #N/A
... C46: =RANK(M46,M$2:M$48) -> #N/A
C47: =COUNTA(C2:C46) -> 45 | D47: =COUNTA(D2:D46) -> 31 | E47: =COUNTA(E2:E46) -> 31 | F47: =COUNTA(F2:F46) -> 31 | G47: =COUNTA(G2:G46) -> 22 | H47: =COUNTA(H2:H46) -> 13 | I47: =COUNTA(I2:I46) -> 14 | J47: =COUNTA(J2:J46) -> 0 | ... O47: =COUNTA(O2:O46) -> 31
D48: =D1 -> Name | E48: =E1 -> Club | F48: =F1 -> Age Class | G48: =G1 -> Penrith Beacon | H48: =H1 -> Loughrigg (LOC) | I48: =I1 -> Lank Rigg (WCOC) | J48: =J1 -> Ling Fell (WCOC) | K48: =K1 -> Harter Fell (LOC) | ... O48: =O1 -> Average of Counting Scores
B49: Blue | C49: =RANK(M49,M$49:M$110) -> 1 | D49: Daniel Heppell | E49: WCOC | F49: M16 | G49: 99 | H49: 99 | I49: 99 | M49: =IFERROR(LARGE($E49:$J49,1),0)+IFERROR(LARGE($E49:$J49,2),0)+IFERROR(LARGE($E49:$J49,3),0)+IFERROR(LARGE($E49:$J49,4),0) -> 297 | N49: =IF(COUNT(G49:L49)>4,4,COUNT(G49:L49)) -> 3 | O49: =M49/N49 -> 99
C50: =RANK(M50,M$49:M$110) -> 2 | D50: Owain Rice | E50: BL | F50: M21 | G50: 96 | H50: 90 | I50: 95 | M50: =IFERROR(LARGE($E50:$J50,1),0)+IFERROR(LARGE($E50:$J50,2),0)+IFERROR(LARGE($E50:$J50,3),0)+IFERROR(LARGE($E50:$J50,4),0) -> 281 | N50: =IF(COUNT(G50:L50)>4,4,COUNT(G50:L50)) -> 3 | O50: =M50/N50 -> 93.666667
C51: =RANK(M51,M$49:M$110) -> 3 | D51: Isabel Berry | E51: BL | F51: W40 | G51: 86 | H51: 82 | I51: 88 | M51: =IFERROR(LARGE($E51:$J51,1),0)+IFERROR(LARGE($E51:$J51,2),0)+IFERROR(LARGE($E51:$J51,3),0)+IFERROR(LARGE($E51:$J51,4),0) -> 256 | N51: =IF(COUNT(G51:L51)>4,4,COUNT(G51:L51)) -> 3 | O51: =M51/N51 -> 85.333333
C52: =RANK(M52,M$49:M$110) -> 4 | D52: Stuart Crawford | E52: WCOC | F52: M50 | G52: 84 | H52: 80 | I52: 91 | M52: =IFERROR(LARGE($E52:$J52,1),0)+IFERROR(LARGE($E52:$J52,2),0)+IFERROR(LARGE($E52:$J52,3),0)+IFERROR(LARGE($E52:$J52,4),0) -> 255 | N52: =IF(COUNT(G52:L52)>4,4,COUNT(G52:L52)) -> 3 | O52: =M52/N52 -> 85
C53: =RANK(M53,M$49:M$110) -> 5 | D53: Keith Tonkin | E53: BL | F53: M60 | H53: 98 | I53: 98 | M53: =IFERROR(LARGE($E53:$J53,1),0)+IFERROR(LARGE($E53:$J53,2),0)+IFERROR(LARGE($E53:$J53,3),0)+IFERROR(LARGE($E53:$J53,4),0) -> 196 | N53: =IF(COUNT(G53:L53)>4,4,COUNT(G53:L53)) -> 2 | O53: =M53/N53 -> 98
C54: =RANK(M54,M$49:M$110) -> 6 | D54: Isaac Hunter | E54: WCOC | F54: M16 | G54: 98 | H54: 97 | M54: =IFERROR(LARGE($E54:$J54,1),0)+IFERROR(LARGE($E54:$J54,2),0)+IFERROR(LARGE($E54:$J54,3),0)+IFERROR(LARGE($E54:$J54,4),0) -> 195 | N54: =IF(COUNT(G54:L54)>4,4,COUNT(G54:L54)) -> 2 | O54: =M54/N54 -> 97.5
C55: =RANK(M55,M$49:M$110) -> 7 | D55: Steve Holmes | E55: WCOC | F55: M50 | H55: 96 | I55: 97 | M55: =IFERROR(LARGE($E55:$J55,1),0)+IFERROR(LARGE($E55:$J55,2),0)+IFERROR(LARGE($E55:$J55,3),0)+IFERROR(LARGE($E55:$J55,4),0) -> 193 | N55: =IF(COUNT(G55:L55)>4,4,COUNT(G55:L55)) -> 2 | O55: =M55/N55 -> 96.5
C56: =RANK(M56,M$49:M$110) -> 8 | D56: Alan Irving | E56: WCOC | F56: M55 | G56: 97 | H56: 95 | M56: =IFERROR(LARGE($E56:$J56,1),0)+IFERROR(LARGE($E56:$J56,2),0)+IFERROR(LARGE($E56:$J56,3),0)+IFERROR(LARGE($E56:$J56,4),0) -> 192 | N56: =IF(COUNT(G56:L56)>4,4,COUNT(G56:L56)) -> 2 | O56: =M56/N56 -> 96
C57: =RANK(M57,M$49:M$110) -> 9 | D57: James Birkinshaw | E57: WCOC | F57: M20 | G57: 95 | H57: 94 | M57: =IFERROR(LARGE($E57:$J57,1),0)+IFERROR(LARGE($E57:$J57,2),0)+IFERROR(LARGE($E57:$J57,3),0)+IFERROR(LARGE($E57:$J57,4),0) -> 189 | N57: =IF(COUNT(G57:L57)>4,4,COUNT(G57:L57)) -> 2 | O57: =M57/N57 -> 94.5
C58: =RANK(M58,M$49:M$110) -> 10 | D58: Karen Parker | E58: BL | F58: W55 | H58: 92 | I58: 96 | M58: =IFERROR(LARGE($E58:$J58,1),0)+IFERROR(LARGE($E58:$J58,2),0)+IFERROR(LARGE($E58:$J58,3),0)+IFERROR(LARGE($E58:$J58,4),0) -> 188 | N58: =IF(COUNT(G58:L58)>4,4,COUNT(G58:L58)) -> 2 | O58: =M58/N58 -> 94
C59: =RANK(M59,M$49:M$110) -> 11 | D59: Martin Skinner | E59: WCOC | F59: M55 | G59: 91 | H59: 89 | M59: =IFERROR(LARGE($E59:$J59,1),0)+IFERROR(LARGE($E59:$J59,2),0)+IFERROR(LARGE($E59:$J59,3),0)+IFERROR(LARGE($E59:$J59,4),0) -> 180 | N59: =IF(COUNT(G59:L59)>4,4,COUNT(G59:L59)) -> 2 | O59: =M59/N59 -> 90
C60: =RANK(M60,M$49:M$110) -> 12 | D60: Christine Goulding | E60: BL | F60: W55 | G60: 93 | H60: 84 | M60: =IFERROR(LARGE($E60:$J60,1),0)+IFERROR(LARGE($E60:$J60,2),0)+IFERROR(LARGE($E60:$J60,3),0)+IFERROR(LARGE($E60:$J60,4),0) -> 177 | N60: =IF(COUNT(G60:L60)>4,4,COUNT(G60:L60)) -> 2 | O60: =M60/N60 -> 88.5
C61: =RANK(M61,M$49:M$110) -> 12 | D61: Howard Leslie | E61: WCOC | F61: M60 | G61: 94 | H61: 83 | M61: =IFERROR(LARGE($E61:$J61,1),0)+IFERROR(LARGE($E61:$J61,2),0)+IFERROR(LARGE($E61:$J61,3),0)+IFERROR(LARGE($E61:$J61,4),0) -> 177 | N61: =IF(COUNT(G61:L61)>4,4,COUNT(G61:L61)) -> 2 | O61: =M61/N61 -> 88.5
C62: =RANK(M62,M$49:M$110) -> 14 | D62: Colin Valentine | E62: WCOC | F62: M60 | G62: 90 | I62: 86 | M62: =IFERROR(LARGE($E62:$J62,1),0)+IFERROR(LARGE($E62:$J62,2),0)+IFERROR(LARGE($E62:$J62,3),0)+IFERROR(LARGE($E62:$J62,4),0) -> 176 | N62: =IF(COUNT(G62:L62)>4,4,COUNT(G62:L62)) -> 2 | O62: =M62/N62 -> 88
C63: =RANK(M63,M$49:M$110) -> 15 | D63: Emma Crawford | E63: WCOC | F63: W18 | H63: 87 | I63: 85 | M63: =IFERROR(LARGE($E63:$J63,1),0)+IFERROR(LARGE($E63:$J63,2),0)+IFERROR(LARGE($E63:$J63,3),0)+IFERROR(LARGE($E63:$J63,4),0) -> 172 | N63: =IF(COUNT(G63:L63)>4,4,COUNT(G63:L63)) -> 2 | O63: =M63/N63 -> 86
C64: =RANK(M64,M$49:M$110) -> 15 | D64: Stephen Eastley | E64: BL | F64: M65 | G64: 87 | H64: 85 | M64: =IFERROR(LARGE($E64:$J64,1),0)+IFERROR(LARGE($E64:$J64,2),0)+IFERROR(LARGE($E64:$J64,3),0)+IFERROR(LARGE($E64:$J64,4),0) -> 172 | N64: =IF(COUNT(G64:L64)>4,4,COUNT(G64:L64)) -> 2 | O64: =M64/N64 -> 86
C65: =RANK(M65,M$49:M$110) -> 17 | D65: Andy Lewsley | E65: BL | F65: M65 | G65: 89 | H65: 81 | M65: =IFERROR(LARGE($E65:$J65,1),0)+IFERROR(LARGE($E65:$J65,2),0)+IFERROR(LARGE($E65:$J65,3),0)+IFERROR(LARGE($E65:$J65,4),0) -> 170 | N65: =IF(COUNT(G65:L65)>4,4,COUNT(G65:L65)) -> 2 | O65: =M65/N65 -> 85
C66: =RANK(M66,M$49:M$110) -> 18 | D66: Simon Filmore | E66: LOC | F66: M65 | H66: 74 | I66: 89 | M66: =IFERROR(LARGE($E66:$J66,1),0)+IFERROR(LARGE($E66:$J66,2),0)+IFERROR(LARGE($E66:$J66,3),0)+IFERROR(LARGE($E66:$J66,4),0) -> 163 | N66: =IF(COUNT(G66:L66)>4,4,COUNT(G66:L66)) -> 2 | O66: =M66/N66 -> 81.5
C67: =RANK(M67,M$49:M$110) -> 19 | D67: Ange Jackson | E67: WCOC | F67: W45 | G67: 85 | H67: 72 | M67: =IFERROR(LARGE($E67:$J67,1),0)+IFERROR(LARGE($E67:$J67,2),0)+IFERROR(LARGE($E67:$J67,3),0)+IFERROR(LARGE($E67:$J67,4),0) -> 157 | N67: =IF(COUNT(G67:L67)>4,4,COUNT(G67:L67)) -> 2 | O67: =M67/N67 -> 78.5
C68: =RANK(M68,M$49:M$110) -> 20 | D68: Helen Hargreaves | E68: WCOC | F68: W45 | I68: 94 | M68: =IFERROR(LARGE($E68:$J68,1),0)+IFERROR(LARGE($E68:$J68,2),0)+IFERROR(LARGE($E68:$J68,3),0)+IFERROR(LARGE($E68:$J68,4),0) -> 94 | N68: =IF(COUNT(G68:L68)>4,4,COUNT(G68:L68)) -> 1 | O68: =M68/N68 -> 94
C69: =RANK(M69,M$49:M$110) -> 21 | D69: Daisy Rennie | E69: WCOC | F69: W16 | I69: 93 | M69: =IFERROR(LARGE($E69:$J69,1),0)+IFERROR(LARGE($E69:$J69,2),0)+IFERROR(LARGE($E69:$J69,3),0)+IFERROR(LARGE($E69:$J69,4),0) -> 93 | N69: =IF(COUNT(G69:L69)>4,4,COUNT(G69:L69)) -> 1 | O69: =M69/N69 -> 93
C70: =RANK(M70,M$49:M$110) -> 21 | D70: Laura Brown | E70: LOC | F70: W18 | H70: 93 | M70: =IFERROR(LARGE($E70:$J70,1),0)+IFERROR(LARGE($E70:$J70,2),0)+IFERROR(LARGE($E70:$J70,3),0)+IFERROR(LARGE($E70:$J70,4),0) -> 93 | N70: =IF(COUNT(G70:L70)>4,4,COUNT(G70:L70)) -> 1 | O70: =M70/N70 -> 93
C71: =RANK(M71,M$49:M$110) -> 23 | D71: Danny Winterbottom | E71: WCOC | F71: M16 | G71: 92 | M71: =IFERROR(LARGE($E71:$J71,1),0)+IFERROR(LARGE($E71:$J71,2),0)+IFERROR(LARGE($E71:$J71,3),0)+IFERROR(LARGE($E71:$J71,4),0) -> 92 | N71: =IF(COUNT(G71:L71)>4,4,COUNT(G71:L71)) -> 1 | O71: =M71/N71 -> 92
C72: =RANK(M72,M$49:M$110) -> 23 | D72: Jeff Goodwin | E72: WCOC | F72: M55 | I72: 92 | M72: =IFERROR(LARGE($E72:$J72,1),0)+IFERROR(LARGE($E72:$J72,2),0)+IFERROR(LARGE($E72:$J72,3),0)+IFERROR(LARGE($E72:$J72,4),0) -> 92 | N72: =IF(COUNT(G72:L72)>4,4,COUNT(G72:L72)) -> 1 | O72: =M72/N72 -> 92
C73: =RANK(M73,M$49:M$110) -> 25 | D73: Wilfrid Teasdale | E73: WCOC | F73: M18 | H73: 91 | M73: =IFERROR(LARGE($E73:$J73,1),0)+IFERROR(LARGE($E73:$J73,2),0)+IFERROR(LARGE($E73:$J73,3),0)+IFERROR(LARGE($E73:$J73,4),0) -> 91 | N73: =IF(COUNT(G73:L73)>4,4,COUNT(G73:L73)) -> 1 | O73: =M73/N73 -> 91
C74: =RANK(M74,M$49:M$110) -> 26 | D74: Howard Leslie | E74: WCOC | F74: M60 | I74: 90 | M74: =IFERROR(LARGE($E74:$J74,1),0)+IFERROR(LARGE($E74:$J74,2),0)+IFERROR(LARGE($E74:$J74,3),0)+IFERROR(LARGE($E74:$J74,4),0) -> 90 | N74: =IF(COUNT(G74:L74)>4,4,COUNT(G74:L74)) -> 1 | O74: =M74/N74 -> 90
C75: =RANK(M75,M$49:M$110) -> 27 | D75: John Ferris-Worth | E75: BL | F75: M55 | H75: 88 | M75: =IFERROR(LARGE($E75:$J75,1),0)+IFERROR(LARGE($E75:$J75,2),0)+IFERROR(LARGE($E75:$J75,3),0)+IFERROR(LARGE($E75:$J75,4),0) -> 88 | N75: =IF(COUNT(G75:L75)>4,4,COUNT(G75:L75)) -> 1 | O75: =M75/N75 -> 88
C76: =RANK(M76,M$49:M$110) -> 27 | D76: Nicholas Evans | E76: WCOC | F76: M60 | H76: 88 | M76: =IFERROR(LARGE($E76:$J76,1),0)+IFERROR(LARGE($E76:$J76,2),0)+IFERROR(LARGE($E76:$J76,3),0)+IFERROR(LARGE($E76:$J76,4),0) -> 88 | N76: =IF(COUNT(G76:L76)>4,4,COUNT(G76:L76)) -> 1 | O76: =M76/N76 -> 88
C77: =RANK(M77,M$49:M$110) -> 27 | D77: Thomas Rawle | E77: BL | F77: M18 | G77: 88 | M77: =IFERROR(LARGE($E77:$J77,1),0)+IFERROR(LARGE($E77:$J77,2),0)+IFERROR(LARGE($E77:$J77,3),0)+IFERROR(LARGE($E77:$J77,4),0) -> 88 | N77: =IF(COUNT(G77:L77)>4,4,COUNT(G77:L77)) -> 1 | O77: =M77/N77 -> 88
C78: =RANK(M78,M$49:M$110) -> 30 | D78: Scott Ashworth | E78: WCOC | F78: M45 | I78: 87 | M78: =IFERROR(LARGE($E78:$J78,1),0)+IFERROR(LARGE($E78:$J78,2),0)+IFERROR(LARGE($E78:$J78,3),0)+IFERROR(LARGE($E78:$J78,4),0) -> 87 | N78: =IF(COUNT(G78:L78)>4,4,COUNT(G78:L78)) -> 1 | O78: =M78/N78 -> 87
C79: =RANK(M79,M$49:M$110) -> 31 | D79: Chris Pollitt | E79: WCOC | F79: M60 | I79: 84 | M79: =IFERROR(LARGE($E79:$J79,1),0)+IFERROR(LARGE($E79:$J79,2),0)+IFERROR(LARGE($E79:$J79,3),0)+IFERROR(LARGE($E79:$J79,4),0) -> 84 | N79: =IF(COUNT(G79:L79)>4,4,COUNT(G79:L79)) -> 1 | O79: =M79/N79 -> 84
C80: =RANK(M80,M$49:M$110) -> 32 | D80: Ann Cummings | E80: WCOC | F80: W60 | I80: 83 | M80: =IFERROR(LARGE($E80:$J80,1),0)+IFERROR(LARGE($E80:$J80,2),0)+IFERROR(LARGE($E80:$J80,3),0)+IFERROR(LARGE($E80:$J80,4),0) -> 83 | N80: =IF(COUNT(G80:L80)>4,4,COUNT(G80:L80)) -> 1 | O80: =M80/N80 -> 83
C81: =RANK(M81,M$49:M$110) -> 32 | D81: Steve Kruger | E81: LOC | F81: M60 | G81: 83 | M81: =IFERROR(LARGE($E81:$J81,1),0)+IFERROR(LARGE($E81:$J81,2),0)+IFERROR(LARGE($E81:$J81,3),0)+IFERROR(LARGE($E81:$J81,4),0) -> 83 | N81: =IF(COUNT(G81:L81)>4,4,COUNT(G81:L81)) -> 1 | O81: =M81/N81 -> 83
C82: =RANK(M82,M$49:M$110) -> 34 | D82: Debbie Thompson | E82: BL | F82: W65 | I82: 82 | M82: =IFERROR(LARGE($E82:$J82,1),0)+IFERROR(LARGE($E82:$J82,2),0)+IFERROR(LARGE($E82:$J82,3),0)+IFERROR(LARGE($E82:$J82,4),0) -> 82 | N82: =IF(COUNT(G82:L82)>4,4,COUNT(G82:L82)) -> 1 | O82: =M82/N82 -> 82
C83: =RANK(M83,M$49:M$110) -> 34 | D83: Lindsey Bayles | E83: LOC | F83: W60 | G83: 82 | M83: =IFERROR(LARGE($E83:$J83,1),0)+IFERROR(LARGE($E83:$J83,2),0)+IFERROR(LARGE($E83:$J83,3),0)+IFERROR(LARGE($E83:$J83,4),0) -> 82 | N83: =IF(COUNT(G83:L83)>4,4,COUNT(G83:L83)) -> 1 | O83: =M83/N83 -> 82
C84: =RANK(M84,M$49:M$110) -> 36 | D84: Dave Phillips | E84: WCOC | F84: M40 | G84: 81 | M84: =IFERROR(LARGE($E84:$J84,1),0)+IFERROR(LARGE($E84:$J84,2),0)+IFERROR(LARGE($E84:$J84,3),0)+IFERROR(LARGE($E84:$J84,4),0) -> 81 | N84: =IF(COUNT(G84:L84)>4,4,COUNT(G84:L84)) -> 1 | O84: =M84/N84 -> 81
C85: =RANK(M85,M$49:M$110) -> 36 | D85: Ray Johnstone | E85: WCOC | F85: M70 | I85: 81 | M85: =IFERROR(LARGE($E85:$J85,1),0)+IFERROR(LARGE($E85:$J85,2),0)+IFERROR(LARGE($E85:$J85,3),0)+IFERROR(LARGE($E85:$J85,4),0) -> 81 | N85: =IF(COUNT(G85:L85)>4,4,COUNT(G85:L85)) -> 1 | O85: =M85/N85 -> 81
C86: =RANK(M86,M$49:M$110) -> 38 | D86: Helen Rennie | E86: WCOC | F86: W45 | G86: 80 | M86: =IFERROR(LARGE($E86:$J86,1),0)+IFERROR(LARGE($E86:$J86,2),0)+IFERROR(LARGE($E86:$J86,3),0)+IFERROR(LARGE($E86:$J86,4),0) -> 80 | N86: =IF(COUNT(G86:L86)>4,4,COUNT(G86:L86)) -> 1 | O86: =M86/N86 -> 80
C87: =RANK(M87,M$49:M$110) -> 38 | D87: Tim Field | E87: LOC | F87: M55 | H87: 80 | M87: =IFERROR(LARGE($E87:$J87,1),0)+IFERROR(LARGE($E87:$J87,2),0)+IFERROR(LARGE($E87:$J87,3),0)+IFERROR(LARGE($E87:$J87,4),0) -> 80 | N87: =IF(COUNT(G87:L87)>4,4,COUNT(G87:L87)) -> 1 | O87: =M87/N87 -> 80
C88: =RANK(M88,M$49:M$110) -> 40 | D88: Duncan Conway | E88: LOC | F88: M55 | H88: 78 | M88: =IFERROR(LARGE($E88:$J88,1),0)+IFERROR(LARGE($E88:$J88,2),0)+IFERROR(LARGE($E88:$J88,3),0)+IFERROR(LARGE($E88:$J88,4),0) -> 78 | N88: =IF(COUNT(G88:L88)>4,4,COUNT(G88:L88)) -> 1 | O88: =M88/N88 -> 78
C89: =RANK(M89,M$49:M$110) -> 41 | D89: Caitlin Pearson | E89: WCOC | F89: W21 | H89: 77 | M89: =IFERROR(LARGE($E89:$J89,1),0)+IFERROR(LARGE($E89:$J89,2),0)+IFERROR(LARGE($E89:$J89,3),0)+IFERROR(LARGE($E89:$J89,4),0) -> 77 | N89: =IF(COUNT(G89:L89)>4,4,COUNT(G89:L89)) -> 1 | O89: =M89/N89 -> 77
C90: =RANK(M90,M$49:M$110) -> 42 | D90: David Downes | E90: WCOC | F90: M65 | H90: 76 | M90: =IFERROR(LARGE($E90:$J90,1),0)+IFERROR(LARGE($E90:$J90,2),0)+IFERROR(LARGE($E90:$J90,3),0)+IFERROR(LARGE($E90:$J90,4),0) -> 76 | N90: =IF(COUNT(G90:L90)>4,4,COUNT(G90:L90)) -> 1 | O90: =M90/N90 -> 76
C91: =RANK(M91,M$49:M$110) -> 43 | D91: Emily Turner | E91: LOC | F91: W18 | H91: 75 | M91: =IFERROR(LARGE($E91:$J91,1),0)+IFERROR(LARGE($E91:$J91,2),0)+IFERROR(LARGE($E91:$J91,3),0)+IFERROR(LARGE($E91:$J91,4),0) -> 75 | N91: =IF(COUNT(G91:L91)>4,4,COUNT(G91:L91)) -> 1 | O91: =M91/N91 -> 75
C92: =RANK(M92,M$49:M$110) -> 44 | D92: Tim Boden | E92: LOC | F92: M55 | H92: 73 | M92: =IFERROR(LARGE($E92:$J92,1),0)+IFERROR(LARGE($E92:$J92,2),0)+IFERROR(LARGE($E92:$J92,3),0)+IFERROR(LARGE($E92:$J92,4),0) -> 73 | N92: =IF(COUNT(G92:L92)>4,4,COUNT(G92:L92)) -> 1 | O92: =M92/N92 -> 73
C93: =RANK(M93,M$49:M$110) -> #N/A
C94: =RANK(M94,M$49:M$110) -> #N/A
C95: =RANK(M95,M$49:M$110) -> #N/A
C96: =RANK(M96,M$49:M$110) -> #N/A
C97: =RANK(M97,M$49:M$110) -> #N/A
C98: =RANK(M98,M$49:M$110) -> #N/A
C99: =RANK(M99,M$49:M$110) -> #N/A
C100: =RANK(M100,M$49:M$110) -> #N/A
C101: =RANK(M101,M$49:M$110) -> #N/A
...

Sheet 4 events
B1: Course | C1: Rank | D1: Name | E1: Club | F1: Age Class | G1: Penrith Beacon | H1: =Brown!F1 -> Loughrigg (LOC) | I1: =Brown!G1 -> Lank Rigg (WCOC) | J1: =Brown!H1 -> Ling Fell (WCOC) | K1: =Brown!I1 -> Harter Fell (LOC) | L1: =Brown!L1 -> 0 | M1: Galoppen Score | N1: Number of Counting Scores | O1: Average of Counting Scores
B2: Brown | C2: =RANK(M2,M$2:M$48) -> 1 | D2: Jamie Rennie | E2: WCOC | F2: M50 | G2: 97 | H2: 98 | I2: 97 | J2: 98 | M2: 390 | N2: 4 | O2: 97.5
C3: =RANK(M3,M$2:M$48) -> 2 | D3: Steve Birkinshaw | E3: WCOC | F3: M50 | G3: 94 | H3: 99 | I3: 89 | J3: 99 | M3: 381 | N3: 4 | O3: 95.25
C4: =RANK(M4,M$2:M$48) -> 3 | D4: Simon Hunter | E4: WCOC | F4: M50 | G4: 95 | H4: 95 | I4: 95 | M4: 285 | N4: 3 | O4: 95
C5: =RANK(M5,M$2:M$48) -> 4 | D5: Dan Parker | E5: BL | F5: M60 | G5: 89 | I5: 92 | J5: 93 | M5: 274 | N5: 3 | O5: 91.333333
C6: =RANK(M6,M$2:M$48) -> 5 | D6: Steven Breeze | E6: WCOC | F6: M50 | G6: 82 | H6: 89 | J6: 87 | M6: 258 | N6: 3 | O6: 86
C7: =RANK(M7,M$2:M$48) -> 6 | D7: Toby Johnson | E7: LOC | F7: M45 | G7: 77 | H7: 87 | I7: 90 | M7: 254 | N7: 3 | O7: 84.666667
C8: =RANK(M8,M$2:M$48) -> 7 | D8: Charlie Rennie | E8: WCOC | F8: M20 | G8: 98 | I8: 99 | M8: 197 | N8: 2 | O8: 98.5
C9: =RANK(M9,M$2:M$48) -> 8 | D9: Joe Hudd | E9: WCOC | F9: M20 | H9: 97 | I9: 96 | M9: 193 | N9: 2 | O9: 96.5
C10: =RANK(M10,M$2:M$48) -> 9 | D10: Graham Patten | E10: WAROC | F10: M60 | G10: 96 | I10: 94 | M10: 190 | N10: 2 | O10: 95
C11: =RANK(M11,M$2:M$48) -> 10 | D11: Ian Cumpstey | E11: BL | F11: M45 | G11: 91 | H11: 94 | M11: 185 | N11: 2 | O11: 92.5
C12: =RANK(M12,M$2:M$48) -> 11 | D12: Peter Scott | E12: LOC | F12: M18 | H12: 93 | J12: 91 | M12: 184 | N12: 2 | O12: 92
C13: =RANK(M13,M$2:M$48) -> 12 | D13: Karen Parker | E13: BL | F13: W55 | G13: 85 | J13: 94 | M13: 179 | N13: 2 | O13: 89.5
C14: =RANK(M14,M$2:M$48) -> 13 | D14: Mike Harrison | E14: WCOC | F14: M50 | G14: 87 | H14: 91 | M14: 178 | N14: 2 | O14: 89
C15: =RANK(M15,M$2:M$48) -> 14 | D15: Iain Smith-Ward | E15: LOC | F15: M50 | H15: 88 | I15: 88 | M15: 176 | N15: 2 | O15: 88
C16: =RANK(M16,M$2:M$48) -> 15 | D16: Derek Fryer | E16: LOC | F16: M65 | G16: 81 | J16: 89 | M16: 170 | N16: 2 | O16: 85
C17: =RANK(M17,M$2:M$48) -> 16 | D17: Emma Stuart | E17: BL | F17: W21 | G17: 83 | I17: 86 | M17: 169 | N17: 2 | O17: 84.5
C18: =RANK(M18,M$2:M$48) -> 17 | D18: Jasmine Girdlestone | E18: WCOC | F18: W21 | G18: 78 | I18: 87 | M18: 165 | N18: 2 | O18: 82.5
C19: =RANK(M19,M$2:M$48) -> 18 | D19: Shane Ohly | E19: WAROC | F19: M45 | G19: 99 | M19: 99 | N19: 1 | O19: 99
C20: =RANK(M20,M$2:M$48) -> 19 | D20: Ruben Razzetti | E20: BL | F20: M16 | I20: 98 | M20: 98 | N20: 1 | O20: 98
C21: =RANK(M21,M$2:M$48) -> 20 | D21: Wilfrid Teasdale | E21: WCOC | F21: M18 | J21: 97 | M21: 97 | N21: 1 | O21: 97
C22: =RANK(M22,M$2:M$48) -> 21 | D22: Jeff Powell Davies | E22: BL | F22: M40 | H22: 96 | M22: 96 | N22: 1 | O22: 96
C23: =RANK(M23,M$2:M$48) -> 21 | D23: James Rogers | E23: LOC | F23: M21 | J23: 96 | M23: 96 | N23: 1 | O23: 96
C24: =RANK(M24,M$2:M$48) -> 23 | D24: Mike Harrison | E24: WCOC | F24: M50 | J24: 95 | M24: 95 | N24: 1 | O24: 95
C25: =RANK(M25,M$2:M$48) -> 24 | D25: Chris Naylor | E25: WCOC | F25: M35 | G25: 93 | M25: 93 | N25: 1 | O25: 93
C26: =RANK(M26,M$2:M$48) -> 24 | D26: Ben Goodwin | E26: WCOC | F26: M21 | I26: 93 | M26: 93 | N26: 1 | O26: 93
C27: =RANK(M27,M$2:M$48) -> 26 | D27: Michael Osborne | E27: LOC | F27: M45 | J27: 92 | M27: 92 | N27: 1 | O27: 92
C28: =RANK(M28,M$2:M$48) -> 26 | D28: Matthew Horne | E28: LOC | F28: M20 | H28: 92 | M28: 92 | N28: 1 | O28: 92
C29: =RANK(M29,M$2:M$48) -> 26 | D29: Jack Eyre | E29: BL | F29: M21 | G29: 92 | M29: 92 | N29: 1 | O29: 92
C30: =RANK(M30,M$2:M$48) -> 29 | D30: Phillip Winskill | E30: WCOC | F30: M45 | I30: 91 | M30: 91 | N30: 1 | O30: 91
C31: =RANK(M31,M$2:M$48) -> 30 | D31: Robert Smith | E31: LOC | F31: M55 | H31: 90 | M31: 90 | N31: 1 | O31: 90
C32: =RANK(M32,M$2:M$48) -> 30 | D32: James Chapman | E32: BL | F32: M35 | G32: 90 | M32: 90 | N32: 1 | O32: 90
C33: =RANK(M33,M$2:M$48) -> 30 | D33: Fred Boardman | E33: WCOC | F33: M45 | J33: 90 | M33: 90 | N33: 1 | O33: 90
