Workbook
Name Clubs: 'Hawse End'!$I$2:$I$6
Name JM: '10 Events'!$Z$2:$Z$6
Name JW: '10 Events'!$AB$2:$AB$6
Name SM: '10 Events'!$Y$2:$Y$16
Name SW: '10 Events'!$AA$2:$AA$16

Sheet Hawse End
I1: Eligible Clubs
B2: Results for Hawse End WCOC 15 Feb 2026 | I2: BL | J2: =COUNTIF(C:D,I2) -> 23
I3: LOC | J3: =COUNTIF(C:D,I3) -> 26 | L3: https://cumbriangaloppen.co.uk/
C4: BROWN | I4: SROC | J4: =COUNTIF(C:D,I4) -> 18
C5: Name | D5: Club | E5: Class | F5: Galoppen Score | I5: WAROC | J5: =COUNTIF(C:D,I5) -> 2
F6: 100 | I6: WCOC | J6: =COUNTIF(C:D,I6) -> 59
B7: 1st | C7: Tom Simpson | E7: M21 | F7: =IF(ISNUMBER(MATCH(D7,Clubs,0)),MIN(F$6:F6)-1,"NC") -> NC
B8: 2nd | C8: Steve Birkinshaw | D8: WCOC | E8: M55 | F8: =IF(ISNUMBER(MATCH(D8,Clubs,0)),MIN(F$6:F7)-1,"NC") -> 99
B9: 3rd | C9: Barnaby Warren | D9: NN | E9: M21 | F9: =IF(ISNUMBER(MATCH(D9,Clubs,0)),MIN(F$6:F8)-1,"NC") -> NC
B10: 4th | C10: Jamie Rennie | D10: WCOC | E10: M55 | F10: =IF(ISNUMBER(MATCH(D10,Clubs,0)),MIN(F$6:F9)-1,"NC") -> 98
B11: 5th | C11: Harry Cooling | E11: M21 | F11: =IF(ISNUMBER(MATCH(D11,Clubs,0)),MIN(F$6:F10)-1,"NC") -> NC
B12: 6th | C12: Toby Heppell | D12: WCOC | E12: M18 | F12: =IF(ISNUMBER(MATCH(D12,Clubs,0)),MIN(F$6:F11)-1,"NC") -> 97
B13: 7th | C13: Simon Gardner | D13: CLYDE | E13: M35 | F13: =IF(ISNUMBER(MATCH(D13,Clubs,0)),MIN(F$6:F12)-1,"NC") -> NC
B14: 8th | C14: Jonty Goodwin | D14: WCOC | E14: M21 | F14: =IF(ISNUMBER(MATCH(D14,Clubs,0)),MIN(F$6:F13)-1,"NC") -> 96
B15: 9th | C15: Simon Hunter | D15: WCOC | E15: M55 | F15: =IF(ISNUMBER(MATCH(D15,Clubs,0)),MIN(F$6:F14)-1,"NC") -> 95
B16: 10th | C16: Teddy Hall | D16: MDOC | E16: M18 | F16: =IF(ISNUMBER(MATCH(D16,Clubs,0)),MIN(F$6:F15)-1,"NC") -> NC
B17: 11th | C17: Anne Edwards | D17: LOC | E17: W35 | F17: =IF(ISNUMBER(MATCH(D17,Clubs,0)),MIN(F$6:F16)-1,"NC") -> 94
B18: 12th | C18: Mike Johnson | D18: SROC | E18: M65 | F18: =IF(ISNUMBER(MATCH(D18,Clubs,0)),MIN(F$6:F17)-1,"NC") -> 93
B19: 13th | C19: Ian Cumpstey | D19: BL | E19: M45 | F19: =IF(ISNUMBER(MATCH(D19,Clubs,0)),MIN(F$6:F18)-1,"NC") -> 92
B20: 14th | C20: Mike Harrison | D20: WCOC | E20: M55 | F20: =IF(ISNUMBER(MATCH(D20,Clubs,0)),MIN(F$6:F19)-1,"NC") -> 91
B21: 15th | C21: Jeff Powell Davies | D21: BL | E21: M45 | F21: =IF(ISNUMBER(MATCH(D21,Clubs,0)),MIN(F$6:F20)-1,"NC") -> 90
B22: 16th | C22: Ian Hinkins | D22: LOC | E22: M40 | F22: =IF(ISNUMBER(MATCH(D22,Clubs,0)),MIN(F$6:F21)-1,"NC") -> 89
B23: 17th | C23: Ben Abdelnoor | D23: WCOC | E23: M45 | F23: =IF(ISNUMBER(MATCH(D23,Clubs,0)),MIN(F$6:F22)-1,"NC") -> 88
... B31: 25th | C31: Jon Green | D31: SROC | E31: M50 | F31: =IF(ISNUMBER(MATCH(D31,Clubs,0)),MIN(F$6:F30)-1,"NC") -> 82
B32: 26th | C32: Stephen Murdoch | E32: M65 | F32: =IF(ISNUMBER(MATCH(D32,Clubs,0)),MIN(F$6:F31)-1,"NC") -> NC
B33: 27th | C33: Simon West | D33: RAFO | E33: M21 | F33: =IF(ISNUMBER(MATCH(D33,Clubs,0)),MIN(F$6:F32)-1,"NC") -> NC
B34: 28th | C34: Julie Ferris-Worth | D34: BL | E34: W55 | F34: =IF(ISNUMBER(MATCH(D34,Clubs,0)),MIN(F$6:F33)-1,"NC") -> 81
F35: =IF(ISNUMBER(MATCH(D35,Clubs,0)),MIN(F$6:F34)-1,"NC") -> NC
F36: =IF(ISNUMBER(MATCH(D36,Clubs,0)),MIN(F$6:F35)-1,"NC") -> NC
F37: =IF(ISNUMBER(MATCH(D37,Clubs,0)),MIN(F$6:F36)-1,"NC") -> NC
F38: =IF(ISNUMBER(MATCH(D38,Clubs,0)),MIN(F$6:F37)-1,"NC") -> NC
F39: =IF(ISNUMBER(MATCH(D39,Clubs,0)),MIN(F$6:F38)-1,"NC") -> NC
F40: =IF(ISNUMBER(MATCH(D40,Clubs,0)),MIN(F$6:F39)-1,"NC") -> NC
F41: =IF(ISNUMBER(MATCH(D41,Clubs,0)),MIN(F$6:F40)-1,"NC") -> NC
F42: =IF(ISNUMBER(MATCH(D42,Clubs,0)),MIN(F$6:F41)-1,"NC") -> NC
F43: =IF(ISNUMBER(MATCH(D43,Clubs,0)),MIN(F$6:F42)-1,"NC") -> NC
F44: =IF(ISNUMBER(MATCH(D44,Clubs,0)),MIN(F$6:F43)-1,"NC") -> NC
F45: =IF(ISNUMBER(MATCH(D45,Clubs,0)),MIN(F$6:F44)-1,"NC") -> NC
F46: =IF(ISNUMBER(MATCH(D46,Clubs,0)),MIN(F$6:F45)-1,"NC") -> NC
... F107: =IF(ISNUMBER(MATCH(D107,Clubs,0)),MIN(F$6:F106)-1,"NC") -> NC
C110: BLUE
C111: Name | D111: Club | E111: Class | F111: Galoppen Score
F112: 100
B113: 1st | C113: Matthew Rooke | D113: LOC | E113: M35 | F113: =IF(ISNUMBER(MATCH(D113,Clubs,0)),MIN(F$112:F112)-1,"NC") -> 99
B114: 2nd | C114: Edward Shawcross | D114: SROC | E114: M16 | F114: =IF(ISNUMBER(MATCH(D114,Clubs,0)),MIN(F$112:F113)-1,"NC") -> 98
B115: 3rd | C115: Michael Billinghurst | D115: WCOC | E115: M65 | F115: =IF(ISNUMBER(MATCH(D115,Clubs,0)),MIN(F$112:F114)-1,"NC") -> 97
B116: 4th | C116: Blake Edwards | D116: MDOC | E116: M16 | F116: =IF(ISNUMBER(MATCH(D116,Clubs,0)),MIN(F$112:F115)-1,"NC") -> NC
B117: 5th | C117: Steve HolmesStrava | D117: WCOC | E117: M55 | F117: =IF(ISNUMBER(MATCH(D117,Clubs,0)),MIN(F$112:F116)-1,"NC") -> 96
B118: 6th | C118: Ewan Killilea | D118: SROC | E118: M16 | F118: =IF(ISNUMBER(MATCH(D118,Clubs,0)),MIN(F$112:F117)-1,"NC") -> 95
B119: 7th | C119: Nick Howlett | D119: LOC | E119: M55 | F119: =IF(ISNUMBER(MATCH(D119,Clubs,0)),MIN(F$112:F118)-1,"NC") -> 94
B120: 8th | C120: Sophie Crawford | D120: WCOC | E120: W18 | F120: =IF(ISNUMBER(MATCH(D120,Clubs,0)),MIN(F$112:F119)-1,"NC") -> 93
B121: 9th | C121: John Slater | D121: WCOC | E121: M55 | F121: =IF(ISNUMBER(MATCH(D121,Clubs,0)),MIN(F$112:F120)-1,"NC") -> 92
B122: 10th | C122: Thomas Chapman | D122: SROC | E122: M16 | F122: =IF(ISNUMBER(MATCH(D122,Clubs,0)),MIN(F$112:F121)-1,"NC") -> 91
B123: 11th | C123: Jim Edwards | D123: MDOC | E123: M55 | F123: =IF(ISNUMBER(MATCH(D123,Clubs,0)),MIN(F$112:F122)-1,"NC") -> NC
B124: 12th | C124: Jamie Partridge | E124: M21 | F124: =IF(ISNUMBER(MATCH(D124,Clubs,0)),MIN(F$112:F123)-1,"NC") -> NC
B125: 13th | C125: Paul Gaines | D125: BL | E125: M55 | F125: =IF(ISNUMBER(MATCH(D125,Clubs,0)),MIN(F$112:F124)-1,"NC") -> 90
B126: 14th | C126: Owain Rice | D126: BL | E126: M35 | F126: =IF(ISNUMBER(MATCH(D126,Clubs,0)),MIN(F$112:F125)-1,"NC") -> 89
B127: 15th | C127: David Crout | D127: WCOC | E127: M55 | F127: =IF(ISNUMBER(MATCH(D127,Clubs,0)),MIN(F$112:F126)-1,"NC") -> 88
B128: 16th | C128: Ian Haslett | D128: LOC | E128: M45 | F128: =IF(ISNUMBER(MATCH(D128,Clubs,0)),MIN(F$112:F127)-1,"NC") -> 87
B129: 17th | C129: Martin Skinner | D129: WCOC | E129: M60 | F129: =IF(ISNUMBER(MATCH(D129,Clubs,0)),MIN(F$112:F128)-1,"NC") -> 86
B130: 18th | C130: Rebecca Rowe | D130: SROC | E130: W45 | F130: =IF(ISNUMBER(MATCH(D130,Clubs,0)),MIN(F$112:F129)-1,"NC") -> 85
B131: 19th | C131: Simon Thomas | D131: WCOC | E131: M45 | F131: =IF(ISNUMBER(MATCH(D131,Clubs,0)),MIN(F$112:F130)-1,"NC") -> 84
B132: 20th | C132: Tania Milnes | D132: SROC | E132: W50 | F132: =IF(ISNUMBER(MATCH(D132,Clubs,0)),MIN(F$112:F131)-1,"NC") -> 83
B133: 21st | C133: Steven Breeze | D133: WCOC | E133: M55 | F133: =IF(ISNUMBER(MATCH(D133,Clubs,0)),MIN(F$112:F132)-1,"NC") -> 82
B134: 22nd | C134: Trevor Hoey | D134: FVO | E134: M60 | F134: =IF(ISNUMBER(MATCH(D134,Clubs,0)),MIN(F$112:F133)-1,"NC") -> NC
B135: 23rd | C135: Richard Cummings | D135: WCOC | E135: M65 | F135: =IF(ISNUMBER(MATCH(D135,Clubs,0)),MIN(F$112:F134)-1,"NC") -> 81
B136: 24th | C136: Jill Libby | D136: BL | E136: W65 | F136: =IF(ISNUMBER(MATCH(D136,Clubs,0)),MIN(F$112:F135)-1,"NC") -> 80
... B146: 34th | C146: Claire Wilkinson | D146: SOLWAY | E146: W40 | F146: =IF(ISNUMBER(MATCH(D146,Clubs,0)),MIN(F$112:F145)-1,"NC") -> NC
F147: =IF(ISNUMBER(MATCH(D147,Clubs,0)),MIN(F$112:F146)-1,"NC") -> NC
F148: =IF(ISNUMBER(MATCH(D148,Clubs,0)),MIN(F$112:F147)-1,"NC") -> NC
F149: =IF(ISNUMBER(MATCH(D149,Clubs,0)),MIN(F$112:F148)-1,"NC") -> NC
F150: =IF(ISNUMBER(MATCH(D150,Clubs,0)),MIN(F$112:F149)-1,"NC") -> NC
F151: =IF(ISNUMBER(MATCH(D151,Clubs,0)),MIN(F$112:F150)-1,"NC") -> NC
F152: =IF(ISNUMBER(MATCH(D152,Clubs,0)),MIN(F$112:F151)-1,"NC") -> NC
F153: =IF(ISNUMBER(MATCH(D153,Clubs,0)),MIN(F$112:F152)-1,"NC") -> NC
F154: =IF(ISNUMBER(MATCH(D154,Clubs,0)),MIN(F$112:F153)-1,"NC") -> NC
F155: =IF(ISNUMBER(MATCH(D155,Clubs,0)),MIN(F$112:F154)-1,"NC") -> NC
F156: =IF(ISNUMBER(MATCH(D156,Clubs,0)),MIN(F$112:F155)-1,"NC") -> NC
F157: =IF(ISNUMBER(MATCH(D157,Clubs,0)),MIN(F$112:F156)-1,"NC") -> NC
F158: =IF(ISNUMBER(MATCH(D158,Clubs,0)),MIN(F$112:F157)-1,"NC") -> NC
... F209: =IF(ISNUMBER(MATCH(D209,Clubs,0)),MIN(F$112:F208)-1,"NC") -> NC
C212: GREEN
C213: Name | D213: Club | E213: Class | F213: Galoppen Score
F214: 100
B215: 1st | C215: Rebecca Rooke | D215: LOC | E215: W35 | F215: =IF(ISNUMBER(MATCH(D215,Clubs,0)),MIN(F214:F$214)-1,"NC") -> 99
B216: 2nd | C216: Isaac Hunter | D216: WCOC | E216: M20 | F216: =IF(ISNUMBER(MATCH(D216,Clubs,0)),MIN(F$214:F215)-1,"NC") -> 98
B217: 3rd | C217: Natalie Hawkrigg | D217: BL | E217: W50 | F217: =IF(ISNUMBER(MATCH(D217,Clubs,0)),MIN(F$214:F216)-1,"NC") -> 97
B218: 4th | C218: Chris Pollitt | D218: WCOC | E218: M65 | F218: =IF(ISNUMBER(MATCH(D218,Clubs,0)),MIN(F$214:F217)-1,"NC") -> 96
B219: 5th | C219: Carys Thomas | D219: WCOC | E219: W21 | F219: =IF(ISNUMBER(MATCH(D219,Clubs,0)),MIN(F$214:F218)-1,"NC") -> 95
B220: 6th | C220: Christine Goulding | D220: BL | E220: W60 | F220: =IF(ISNUMBER(MATCH(D220,Clubs,0)),MIN(F$214:F219)-1,"NC") -> 94
B221: 7th | C221: Samuel Morris | D221: WCOC | E221: M16 | F221: =IF(ISNUMBER(MATCH(D221,Clubs,0)),MIN(F$214:F220)-1,"NC") -> 93
B222: 8th | C222: Sam Roberts | D222: SROC | E222: M16 | F222: =IF(ISNUMBER(MATCH(D222,Clubs,0)),MIN(F$214:F221)-1,"NC") -> 92
B223: 9th | C223: Howard Leslie | D223: WCOC | E223: M60 | F223: =IF(ISNUMBER(MATCH(D223,Clubs,0)),MIN(F$214:F222)-1,"NC") -> 91
B224: 10th | C224: David Mainwaring | D224: BL | E224: M60 | F224: =IF(ISNUMBER(MATCH(D224,Clubs,0)),MIN(F$214:F223)-1,"NC") -> 90
B225: 11th | C225: Susan Skinner | D225: WCOC | E225: W60 | F225: =IF(ISNUMBER(MATCH(D225,Clubs,0)),MIN(F$214:F224)-1,"NC") -> 89
B226: 12th | C226: Florence Taylor | D226: SELOC | E226: W16 | F226: =IF(ISNUMBER(MATCH(D226,Clubs,0)),MIN(F$214:F225)-1,"NC") -> NC
B227: 13th | C227: Lynne Thomas | D227: WCOC | E227: W55 | F227: =IF(ISNUMBER(MATCH(D227,Clubs,0)),MIN(F$214:F226)-1,"NC") -> 88
... B264: 50th | C264: Keira Tedd | D264: SOLWAY | E264: W21 | F264: =IF(ISNUMBER(MATCH(D264,Clubs,0)),MIN(F$214:F263)-1,"NC") -> NC
B265: 51st | C265: Annette Smith | E265: W45 | F265: =IF(ISNUMBER(MATCH(D265,Clubs,0)),MIN(F$214:F264)-1,"NC") -> NC
B266: 52nd | C266: Cath Sullivan | E266: W55 | F266: =IF(ISNUMBER(MATCH(D266,Clubs,0)),MIN(F$214:F265)-1,"NC") -> NC
...

Sheet SilverHow
B2: Results for Silver How 12 APR (LOC)
C4: BROWN
C5: Name | D5: Club | E5: Class | G5: Galoppen Score
G6: 100
B7: 1st | C7: Joe Daly | D7: SHUOC | E7: M21 | G7: =IF(ISNUMBER(MATCH(D7,Clubs,0)),MIN(G6:G$6)-1,"NC") -> NC
B8: 2nd | C8: Ruben Razzetti | D8: WCOC | E8: M20 | G8: =IF(ISNUMBER(MATCH(D8,Clubs,0)),MIN(G$6:G7)-1,"NC") -> 99 | L8: BL | M8: =COUNTIF(C:E,L8) -> 19
B9: 3rd | C9: Tim Higginbottom | D9: DEE | E9: M50 | G9: =IF(ISNUMBER(MATCH(D9,Clubs,0)),MIN(G$6:G8)-1,"NC") -> NC | L9: LOC | M9: =COUNTIF(C:E,L9) -> 63
B10: 4th | C10: David Roome | D10: SROC | E10: M40 | G10: =IF(ISNUMBER(MATCH(D10,Clubs,0)),MIN(G$6:G9)-1,"NC") -> 98 | L10: SROC | M10: =COUNTIF(C:E,L10) -> 26
B11: 5th | C11: Toby Heppell | D11: WCOC | E11: M18 | G11: =IF(ISNUMBER(MATCH(D11,Clubs,0)),MIN(G$6:G10)-1,"NC") -> 97 | L11: WAROC | M11: =COUNTIF(C:E,L11) -> 3
B12: 6th | C12: Nicholas Barber | D12: LOC | E12: M35 | G12: =IF(ISNUMBER(MATCH(D12,Clubs,0)),MIN(G$6:G11)-1,"NC") -> 96 | L12: WCOC | M12: =COUNTIF(C:E,L12) -> 37
B13: 7th | C13: Matthew Birkinshaw | D13: SHUOC | E13: M20 | G13: =IF(ISNUMBER(MATCH(D13,Clubs,0)),MIN(G$6:G12)-1,"NC") -> NC
B14: 8th | C14: Jamie Osborne | D14: LOC | E14: M16 | G14: =IF(ISNUMBER(MATCH(D14,Clubs,0)),MIN(G$6:G13)-1,"NC") -> 95
B15: 9th | C15: Mark Burley | D15: MDOC | E15: M35 | G15: =IF(ISNUMBER(MATCH(D15,Clubs,0)),MIN(G$6:G14)-1,"NC") -> NC
B16: 10th | C16: Isaac Hunter | D16: WCOC | E16: M20 | G16: =IF(ISNUMBER(MATCH(D16,Clubs,0)),MIN(G$6:G15)-1,"NC") -> 94
B17: 11th | C17: Michael Osborne | D17: LOC | E17: M50 | G17: =IF(ISNUMBER(MATCH(D17,Clubs,0)),MIN(G$6:G16)-1,"NC") -> 93
B18: 12th | C18: Sam Osborne | D18: LOC | E18: M18 | G18: =IF(ISNUMBER(MATCH(D18,Clubs,0)),MIN(G$6:G17)-1,"NC") -> 92
B19: 13th | C19: Steve Birkinshaw | D19: WCOC | E19: M55 | G19: =IF(ISNUMBER(MATCH(D19,Clubs,0)),MIN(G$6:G18)-1,"NC") -> 91
B20: 14th | C20: Charlie Adams | D20: SYO | E20: M60 | G20: =IF(ISNUMBER(MATCH(D20,Clubs,0)),MIN(G$6:G19)-1,"NC") -> NC
B21: 15th | C21: Anne Edwards | D21: LOC | E21: W35 | G21: =IF(ISNUMBER(MATCH(D21,Clubs,0)),MIN(G$6:G20)-1,"NC") -> 90
B22: 16th | C22: Jamie Rennie | D22: WCOC | E22: M55 | G22: =IF(ISNUMBER(MATCH(D22,Clubs,0)),MIN(G$6:G21)-1,"NC") -> 89
B23: 17th | C23: Jeff Powell Davies | D23: BL | E23: M45 | G23: =IF(ISNUMBER(MATCH(D23,Clubs,0)),MIN(G$6:G22)-1,"NC") -> 88
B24: 18th | C24: Mike Johnson | D24: SROC | E24: M65 | G24: =IF(ISNUMBER(MATCH(D24,Clubs,0)),MIN(G$6:G23)-1,"NC") -> 87
... B59: 53rd | C59: Stephen Murdoch | D59: BOF | E59: M65 | G59: =IF(ISNUMBER(MATCH(D59,Clubs,0)),MIN(G$6:G58)-1,"NC") -> NC
G60: =IF(ISNUMBER(MATCH(D60,Clubs,0)),MIN(G$6:G59)-1,"NC") -> NC
G61: =IF(ISNUMBER(MATCH(D61,Clubs,0)),MIN(G$6:G60)-1,"NC") -> NC
G62: =IF(ISNUMBER(MATCH(D62,Clubs,0)),MIN(G$6:G61)-1,"NC") -> NC
G63: =IF(ISNUMBER(MATCH(D63,Clubs,0)),MIN(G$6:G62)-1,"NC") -> NC
G64: =IF(ISNUMBER(MATCH(D64,Clubs,0)),MIN(G$6:G63)-1,"NC") -> NC
G65: =IF(ISNUMBER(MATCH(D65,Clubs,0)),MIN(G$6:G64)-1,"NC") -> NC
G66: =IF(ISNUMBER(MATCH(D66,Clubs,0)),MIN(G$6:G65)-1,"NC") -> NC
G67: =IF(ISNUMBER(MATCH(D67,Clubs,0)),MIN(G$6:G66)-1,"NC") -> NC
G68: =IF(ISNUMBER(MATCH(D68,Clubs,0)),MIN(G$6:G67)-1,"NC") -> NC
G69: =IF(ISNUMBER(MATCH(D69,Clubs,0)),MIN(G$6:G68)-1,"NC") -> NC
G70: =IF(ISNUMBER(MATCH(D70,Clubs,0)),MIN(G$6:G69)-1,"NC") -> NC
G71: =IF(ISNUMBER(MATCH(D71,Clubs,0)),MIN(G$6:G70)-1,"NC") -> NC
... G108: =IF(ISNUMBER(MATCH(D108,Clubs,0)),MIN(G$6:G107)-1,"NC") -> NC
C111: BLUE
C112: Name | G112: Galoppen Score
G113: 100
B114: st | C114: Robert Browne | D114: LOC | E114: M35 | G114: =IF(ISNUMBER(MATCH(D114,Clubs,0)),MIN(G$113:G113)-1,"NC") -> 99
B115: 2nd | C115: Edward Shawcross | D115: SROC | E115: M16 | G115: =IF(ISNUMBER(MATCH(D115,Clubs,0)),MIN(G$113:G114)-1,"NC") -> 98
B116: 3rd | C116: Matthew Leitch | D116: INT | E116: M21 | G116: =IF(ISNUMBER(MATCH(D116,Clubs,0)),MIN(G$113:G115)-1,"NC") -> NC
B117: 4th | C117: Keith Tonkin | D117: BL | E117: M65 | G117: =IF(ISNUMBER(MATCH(D117,Clubs,0)),MIN(G$113:G116)-1,"NC") -> 97
B118: 5th | C118: Michael Billinghurst | D118: WCOC | E118: M65 | G118: =IF(ISNUMBER(MATCH(D118,Clubs,0)),MIN(G$113:G117)-1,"NC") -> 96
B119: 6th | C119: Nick Howlett | D119: LOC | E119: M55 | G119: =IF(ISNUMBER(MATCH(D119,Clubs,0)),MIN(G$113:G118)-1,"NC") -> 95
B120: 7th | C120: Sophie Crawford | D120: WCOC | E120: W18 | G120: =IF(ISNUMBER(MATCH(D120,Clubs,0)),MIN(G$113:G119)-1,"NC") -> 94
B121: 8th | C121: Ellie Todhunter | D121: SROC | E121: W18 | G121: =IF(ISNUMBER(MATCH(D121,Clubs,0)),MIN(G$113:G120)-1,"NC") -> 93
B122: 9th | C122: Lucie Todhunter | D122: SROC | E122: W45 | G122: =IF(ISNUMBER(MATCH(D122,Clubs,0)),MIN(G$113:G121)-1,"NC") -> 92
B123: 10th | C123: Isabel Berry | D123: BL | E123: W45 | G123: =IF(ISNUMBER(MATCH(D123,Clubs,0)),MIN(G$113:G122)-1,"NC") -> 91
B124: 11th | C124: Owain Rice | D124: BL | E124: M35 | G124: =IF(ISNUMBER(MATCH(D124,Clubs,0)),MIN(G$113:G123)-1,"NC") -> 90
B125: 12th | C125: Louise Adams | D125: INT | E125: W21 | G125: =IF(ISNUMBER(MATCH(D125,Clubs,0)),MIN(G$113:G124)-1,"NC") -> NC
... B156: 43rd | C156: John Ferris-Worth | D156: WCOC | E156: M60 | G156: =IF(ISNUMBER(MATCH(D156,Clubs,0)),MIN(G$113:G155)-1,"NC") -> 68
B157: 44th | C157: Joe Sparkman | E157: M45 | G157: =IF(ISNUMBER(MATCH(D157,Clubs,0)),MIN(G$113:G156)-1,"NC") -> NC
B158: 45th | C158: Nigel Hulley | D158: LOC | E158: M65 | G158: =IF(ISNUMBER(MATCH(D158,Clubs,0)),MIN(G$113:G157)-1,"NC") -> 67
B159: 46th | C159: Eleanor Johnstone | D159: BOF | E159: W21 | G159: =IF(ISNUMBER(MATCH(D159,Clubs,0)),MIN(G$113:G158)-1,"NC") -> NC
G160: =IF(ISNUMBER(MATCH(D160,Clubs,0)),MIN(G$113:G159)-1,"NC") -> NC
G161: =IF(ISNUMBER(MATCH(D161,Clubs,0)),MIN(G$113:G160)-1,"NC") -> NC
G162: =IF(ISNUMBER(MATCH(D162,Clubs,0)),MIN(G$113:G161)-1,"NC") -> NC
G163: =IF(ISNUMBER(MATCH(D163,Clubs,0)),MIN(G$113:G162)-1,"NC") -> NC
G164: =IF(ISNUMBER(MATCH(D164,Clubs,0)),MIN(G$113:G163)-1,"NC") -> NC
G165: =IF(ISNUMBER(MATCH(D165,Clubs,0)),MIN(G$113:G164)-1,"NC") -> NC
G166: =IF(ISNUMBER(MATCH(D166,Clubs,0)),MIN(G$113:G165)-1,"NC") -> NC
G167: =IF(ISNUMBER(MATCH(D167,Clubs,0)),MIN(G$113:G166)-1,"NC") -> NC
G168: =IF(ISNUMBER(MATCH(D168,Clubs,0)),MIN(G$113:G167)-1,"NC") -> NC
G169: =IF(ISNUMBER(MATCH(D169,Clubs,0)),MIN(G$113:G168)-1,"NC") -> NC
G170: =IF(ISNUMBER(MATCH(D170,Clubs,0)),MIN(G$113:G169)-1,"NC") -> NC
G171: =IF(ISNUMBER(MATCH(D171,Clubs,0)),MIN(G$113:G170)-1,"NC") -> NC
... G210: =IF(ISNUMBER(MATCH(D210,Clubs,0)),MIN(G$113:G209)-1,"NC") -> NC
C213: GREEN
C214: Name | G214: Galoppen Score
G215: 100
B216: 1st | C216: Graham Patten | D216: WCOC | E216: M60 | G216: =IF(ISNUMBER(MATCH(D216,Clubs,0)),MIN(G215:G$215)-1,"NC") -> 99
B217: 2nd | C217: Tim Stallard | D217: SROC | E217: M45 | G217: =IF(ISNUMBER(MATCH(D217,Clubs,0)),MIN(G$215:G216)-1,"NC") -> 98
B218: 3rd | C218: Sam Roberts | D218: SROC | E218: M16 | G218: =IF(ISNUMBER(MATCH(D218,Clubs,0)),MIN(G$215:G217)-1,"NC") -> 97
B219: 4th | C219: Natalie Hawkrigg | D219: BL | E219: W50 | G219: =IF(ISNUMBER(MATCH(D219,Clubs,0)),MIN(G$215:G218)-1,"NC") -> 96
B220: 5th | C220: Michael Napier | D220: LOC | E220: M70 | G220: =IF(ISNUMBER(MATCH(D220,Clubs,0)),MIN(G$215:G219)-1,"NC") -> 95
B221: 6th | C221: Jemma Waters | D221: SYO | E221: W14 | G221: =IF(ISNUMBER(MATCH(D221,Clubs,0)),MIN(G$215:G220)-1,"NC") -> NC
B222: 7th | C222: RIck Stuart | D222: LOC | E222: M60 | G222: =IF(ISNUMBER(MATCH(D222,Clubs,0)),MIN(G$215:G221)-1,"NC") -> 94
B223: 8th | C223: Stella Lewsley | D223: BL | E223: W70 | G223: =IF(ISNUMBER(MATCH(D223,Clubs,0)),MIN(G$215:G222)-1,"NC") -> 93
B224: 9th | C224: Peter Haines | D224: AIRE | E224: M70 | G224: =IF(ISNUMBER(MATCH(D224,Clubs,0)),MIN(G$215:G223)-1,"NC") -> NC
B225: 10th | C225: David Mainwaring | D225: BL | E225: M60 | G225: =IF(ISNUMBER(MATCH(D225,Clubs,0)),MIN(G$215:G224)-1,"NC") -> 92
B226: 11th | C226: Susan Skinner | D226: WCOC | E226: W60 | G226: =IF(ISNUMBER(MATCH(D226,Clubs,0)),MIN(G$215:G225)-1,"NC") -> 91
B227: 12th | C227: Fay Thomas | D227: SROC | E227: W16 | G227: =IF(ISNUMBER(MATCH(D227,Clubs,0)),MIN(G$215:G226)-1,"NC") -> 90
B228: 13th | C228: Derek Allison | D228: LOC | E228: M65 | G228: =IF(ISNUMBER(MATCH(D228,Clubs,0)),MIN(G$215:G227)-1,"NC") -> 89
... B269: 54th | C269: Max Arthur | D269: RR | E269: M65 | G269: =IF(ISNUMBER(MATCH(D269,Clubs,0)),MIN(G$215:G268)-1,"NC") -> NC
B270: 55th | C270: Rose Singleton | E270: W40 | G270: =IF(ISNUMBER(MATCH(D270,Clubs,0)),MIN(G$215:G269)-1,"NC") -> NC
B271: 56th | C271: Zach Hughes | D271: LOC | E271: M16 | G271: =IF(ISNUMBER(MATCH(D271,Clubs,0)),MIN(G$215:G270)-1,"NC") -> 63
B272: 57th | C272: Mike Cumpstey | D272: BL | E272: M80 | G272: =IF(ISNUMBER(MATCH(D272,Clubs,0)),MIN(G$215:G271)-1,"NC") -> 62
B273: 58th | C273: Mary Rack | D273: NATO | E273: W65 | G273: =IF(ISNUMBER(MATCH(D273,Clubs,0)),MIN(G$215:G272)-1,"NC") -> NC
B274: 59th | C274: Noah Nield | D274: LOC | E274: M16 | G274: =IF(ISNUMBER(MATCH(D274,Clubs,0)),MIN(G$215:G273)-1,"NC") -> 61
B275: 60th | C275: Liz Potterton | D275: CLARO | E275: W70 | G275: =IF(ISNUMBER(MATCH(D275,Clubs,0)),MIN(G$215:G274)-1,"NC") -> NC
B276: 61st | C276: Deborah Goodwin | D276: WCOC | E276: W65 | G276: =IF(ISNUMBER(MATCH(D276,Clubs,0)),MIN(G$215:G275)-1,"NC") -> 60
B277: 62nd | C277: Cathy Hinkins | D277: LOC | E277: W40 | G277: =IF(ISNUMBER(MATCH(D277,Clubs,0)),MIN(G$215:G276)-1,"NC") -> 59
B278: 63rd | C278: Eric Burton | D278: RAFO | E278: M65 | G278: =IF(ISNUMBER(MATCH(D278,Clubs,0)),MIN(G$215:G277)-1,"NC") -> NC
B279: 64th | C279: Anne Wilson | D279: AIRE | E279: W70 | G279: =IF(ISNUMBER(MATCH(D279,Clubs,0)),MIN(G$215:G278)-1,"NC") -> NC
B280: 65th | C280: Janette McHendry | D280: WCOC | E280: W55 | G280: =IF(ISNUMBER(MATCH(D280,Clubs,0)),MIN(G$215:G279)-1,"NC") -> 58
B281: 66th | C281: Mike Smithard | D281: DEE | E281: M75 | G281: =IF(ISNUMBER(MATCH(D281,Clubs,0)),MIN(G$215:G280)-1,"NC") -> NC
B282: 67th | C282: Adele Newall | D282: WCOC | E282: W65 | G282: =IF(ISNUMBER(MATCH(D282,Clubs,0)),MIN(G$215:G281)-1,"NC") -> 57
... B284: 69th | C284: William Dehany | D284: CLOK | E284: M70 | G284: =IF(ISNUMBER(MATCH(D284,Clubs,0)),MIN(G$215:G283)-1,"NC") -> NC
B285: 70th | C285: Cath Sullivan | E285: W55 | G285: =IF(ISNUMBER(MATCH(D285,Clubs,0)),MIN(G$215:G284)-1,"NC") -> NC
...

Sheet Blea Tarn
B2: Results for Blea Tarn 3/5/2025 (WCOC)
C4: BROWN
C5: Name | D5: Club | E5: Class | H5: Galoppen Score | M5: BL | N5: =COUNTIF(C:D,M5) -> 10
H6: 100 | M6: LOC | N6: =COUNTIF(C:D,M6) -> 40
B7: 1st | C7: Joseph Hudd | D7: WCOC | E7: M21 | H7: =IF(ISNUMBER(MATCH(D7,Clubs,0)),MIN(H$6:H6)-1,"NC") -> 99 | M7: SROC | N7: =COUNTIF(C:D,M7) -> 19
B8: 2nd | C8: Bruce Duncan | D8: LOC | E8: M45 | H8: =IF(ISNUMBER(MATCH(D8,Clubs,0)),MIN(H$6:H7)-1,"NC") -> 98 | M8: WAROC | N8: =COUNTIF(C:D,M8) -> 0
B9: 3rd | C9: Ian Porter | D9: SROC | E9: M55 | H9: =IF(ISNUMBER(MATCH(D9,Clubs,0)),MIN(H$6:H8)-1,"NC") -> 97 | M9: WCOC | N9: =COUNTIF(C:D,M9) -> 50
B10: 4th | C10: Daisy Rennie | D10: WCOC | E10: W20 | H10: =IF(ISNUMBER(MATCH(D10,Clubs,0)),MIN(H$6:H9)-1,"NC") -> 96
B11: 5th | C11: Jamie Rennie | D11: WCOC | E11: M55 | H11: =IF(ISNUMBER(MATCH(D11,Clubs,0)),MIN(H$6:H10)-1,"NC") -> 95
B12: 6th | C12: Simon Hunter | D12: WCOC | E12: M55 | H12: =IF(ISNUMBER(MATCH(D12,Clubs,0)),MIN(H$6:H11)-1,"NC") -> 94
B13: 7th | C13: Isaac Hunter | D13: WCOC | E13: M20 | H13: =IF(ISNUMBER(MATCH(D13,Clubs,0)),MIN(H$6:H12)-1,"NC") -> 93
B14: 8th | C14: Sam Osborne | D14: LOC | E14: M18 | H14: =IF(ISNUMBER(MATCH(D14,Clubs,0)),MIN(H$6:H13)-1,"NC") -> 92
B15: 9th | C15: Zach Thomas | D15: SROC | E15: M18 | H15: =IF(ISNUMBER(MATCH(D15,Clubs,0)),MIN(H$6:H14)-1,"NC") -> 91
B16: 10th | C16: Ian Hinkins | D16: LOC | E16: M40 | H16: =IF(ISNUMBER(MATCH(D16,Clubs,0)),MIN(H$6:H15)-1,"NC") -> 90
B17: 11th | C17: Jeff Powell Davies | D17: BL | E17: M45 | H17: =IF(ISNUMBER(MATCH(D17,Clubs,0)),MIN(H$6:H16)-1,"NC") -> 89
B18: 12th | C18: Ella Baxter | D18: SYO | E18: W18 | H18: =IF(ISNUMBER(MATCH(D18,Clubs,0)),MIN(H$6:H17)-1,"NC") -> NC
B19: 13th | C19: Dan Parker | D19: BL | E19: M60 | H19: =IF(ISNUMBER(MATCH(D19,Clubs,0)),MIN(H$6:H18)-1,"NC") -> 88
B20: 14th | C20: Ian Jones | D20: ERYRI | E20: M55 | H20: =IF(ISNUMBER(MATCH(D20,Clubs,0)),MIN(H$6:H19)-1,"NC") -> NC
B21: 15th | C21: Karen Parker | D21: BL | E21: W60 | H21: =IF(ISNUMBER(MATCH(D21,Clubs,0)),MIN(H$6:H20)-1,"NC") -> 87
... B31: 25th | C31: Tom Matthew | D31: SROC | E31: M55 | H31: =IF(ISNUMBER(MATCH(D31,Clubs,0)),MIN(H$6:H30)-1,"NC") -> 80
H32: =IF(ISNUMBER(MATCH(D32,Clubs,0)),MIN(H$6:H31)-1,"NC") -> NC
H33: =IF(ISNUMBER(MATCH(D33,Clubs,0)),MIN(H$6:H32)-1,"NC") -> NC
H34: =IF(ISNUMBER(MATCH(D34,Clubs,0)),MIN(H$6:H33)-1,"NC") -> NC
H35: =IF(ISNUMBER(MATCH(D35,Clubs,0)),MIN(H$6:H34)-1,"NC") -> NC
H36: =IF(ISNUMBER(MATCH(D36,Clubs,0)),MIN(H$6:H35)-1,"NC") -> NC
H37: =IF(ISNUMBER(MATCH(D37,Clubs,0)),MIN(H$6:H36)-1,"NC") -> NC
H38: =IF(ISNUMBER(MATCH(D38,Clubs,0)),MIN(H$6:H37)-1,"NC") -> NC
H39: =IF(ISNUMBER(MATCH(D39,Clubs,0)),MIN(H$6:H38)-1,"NC") -> NC
H40: =IF(ISNUMBER(MATCH(D40,Clubs,0)),MIN(H$6:H39)-1,"NC") -> NC
H41: =IF(ISNUMBER(MATCH(D41,Clubs,0)),MIN(H$6:H40)-1,"NC") -> NC
H42: =IF(ISNUMBER(MATCH(D42,Clubs,0)),MIN(H$6:H41)-1,"NC") -> NC
H43: =IF(ISNUMBER(MATCH(D43,Clubs,0)),MIN(H$6:H42)-1,"NC") -> NC
... H107: =IF(ISNUMBER(MATCH(D107,Clubs,0)),MIN(H$6:H106)-1,"NC") -> NC
C110: BLUE
C111: Name | D111: Club | E111: Class | H111: Galoppen Score
H112: 100
B113: 1st | C113: Matthew Rooke | D113: LOC | E113: M35 | H113: =IF(ISNUMBER(MATCH(D113,Clubs,0)),MIN(H$112:H112)-1,"NC") -> 99
B114: 2nd | C114: Richard Jackson | E114: M40 | H114: =IF(ISNUMBER(MATCH(D114,Clubs,0)),MIN(H$112:H113)-1,"NC") -> NC
B115: 3rd | C115: Graham Patten | D115: WCOC | E115: M60 | H115: =IF(ISNUMBER(MATCH(D115,Clubs,0)),MIN(H$112:H114)-1,"NC") -> 98
B116: 4th= | C116: Daniel Hughes | D116: LOC | E116: M50 | H116: =IF(ISNUMBER(MATCH(D116,Clubs,0)),MIN(H$112:H115)-1,"NC") -> 97
B117: 4th= | C117: Steve Holmes | D117: WCOC | E117: M55 | H117: =IF(ISNUMBER(MATCH(D117,Clubs,0)),MIN(H$112:H116)-1,"NC") -> 96
B118: 6th | C118: Jasmine Girdlestone | D118: WCOC | E118: W21 | H118: =IF(ISNUMBER(MATCH(D118,Clubs,0)),MIN(H$112:H117)-1,"NC") -> 95
B119: 7th | C119: John Taylor | D119: WCOC | E119: M60 | H119: =IF(ISNUMBER(MATCH(D119,Clubs,0)),MIN(H$112:H118)-1,"NC") -> 94
B120: 8th | C120: David Crout | D120: WCOC | E120: M55 | H120: =IF(ISNUMBER(MATCH(D120,Clubs,0)),MIN(H$112:H119)-1,"NC") -> 93
B121: 9th | C121: Jo Cleary | D121: LOC | E121: W60 | H121: =IF(ISNUMBER(MATCH(D121,Clubs,0)),MIN(H$112:H120)-1,"NC") -> 92
B122: 10th | C122: Derek Ratcliffe | D122: LOC | E122: M70 | H122: =IF(ISNUMBER(MATCH(D122,Clubs,0)),MIN(H$112:H121)-1,"NC") -> 91
B123: 11th | C123: Isabel Berry | D123: BL | E123: W45 | H123: =IF(ISNUMBER(MATCH(D123,Clubs,0)),MIN(H$112:H122)-1,"NC") -> 90
B124: 12th | C124: Edward Shawcross | D124: SROC | E124: M16 | H124: =IF(ISNUMBER(MATCH(D124,Clubs,0)),MIN(H$112:H123)-1,"NC") -> 89
B125: 13th | C125: Martin Skinner | D125: WCOC | E125: M60 | H125: =IF(ISNUMBER(MATCH(D125,Clubs,0)),MIN(H$112:H124)-1,"NC") -> 88
B126: 14th | C126: Matthew Stephens | D126: WCOC | E126: M45 | H126: =IF(ISNUMBER(MATCH(D126,Clubs,0)),MIN(H$112:H125)-1,"NC") -> 87
... B144: 32nd | C144: Derek Fryer | D144: LOC | E144: M70 | H144: =IF(ISNUMBER(MATCH(D144,Clubs,0)),MIN(H$112:H143)-1,"NC") -> 71
H145: =IF(ISNUMBER(MATCH(D145,Clubs,0)),MIN(H$112:H144)-1,"NC") -> NC
H146: =IF(ISNUMBER(MATCH(D146,Clubs,0)),MIN(H$112:H145)-1,"NC") -> NC
H147: =IF(ISNUMBER(MATCH(D147,Clubs,0)),MIN(H$112:H146)-1,"NC") -> NC
H148: =IF(ISNUMBER(MATCH(D148,Clubs,0)),MIN(H$112:H147)-1,"NC") -> NC
H149: =IF(ISNUMBER(MATCH(D149,Clubs,0)),MIN(H$112:H148)-1,"NC") -> NC
H150: =IF(ISNUMBER(MATCH(D150,Clubs,0)),MIN(H$112:H149)-1,"NC") -> NC
H151: =IF(ISNUMBER(MATCH(D151,Clubs,0)),MIN(H$112:H150)-1,"NC") -> NC
H152: =IF(ISNUMBER(MATCH(D152,Clubs,0)),MIN(H$112:H151)-1,"NC") -> NC
H153: =IF(ISNUMBER(MATCH(D153,Clubs,0)),MIN(H$112:H152)-1,"NC") -> NC
H154: =IF(ISNUMBER(MATCH(D154,Clubs,0)),MIN(H$112:H153)-1,"NC") -> NC
H155: =IF(ISNUMBER(MATCH(D155,Clubs,0)),MIN(H$112:H154)-1,"NC") -> NC
H156: =IF(ISNUMBER(MATCH(D156,Clubs,0)),MIN(H$112:H155)-1,"NC") -> NC
... H209: =IF(ISNUMBER(MATCH(D209,Clubs,0)),MIN(H$112:H208)-1,"NC") -> NC
C212: GREEN
C213: Name | D213: Club | E213: Class | H213: Galoppen Score
H214: 100
B215: 1st | C215: Rebecca Rooke | D215: LOC | E215: W35 | H215: =IF(ISNUMBER(MATCH(D215,Clubs,0)),MIN(H214:H$214)-1,"NC") -> 99
B216: 2nd | C216: Graham Watson | D216: WCOC | E216: M60 | H216: =IF(ISNUMBER(MATCH(D216,Clubs,0)),MIN(H$214:H215)-1,"NC") -> 98
B217: 3rd | C217: Howard Leslie | D217: WCOC | E217: M60 | H217: =IF(ISNUMBER(MATCH(D217,Clubs,0)),MIN(H$214:H216)-1,"NC") -> 97
B218: 4th | C218: Catherine Henderson | D218: WCOC | E218: W45 | H218: =IF(ISNUMBER(MATCH(D218,Clubs,0)),MIN(H$214:H217)-1,"NC") -> 96
B219: 5th | C219: Roger Thomas | D219: WCOC | E219: M65 | H219: =IF(ISNUMBER(MATCH(D219,Clubs,0)),MIN(H$214:H218)-1,"NC") -> 95
B220: 6th= | C220: Pete Owens | D220: LOC | E220: M65 | H220: =IF(ISNUMBER(MATCH(D220,Clubs,0)),MIN(H$214:H219)-1,"NC") -> 94
B221: 6th= | C221: Susan Skinner | D221: WCOC | E221: W60 | H221: =IF(ISNUMBER(MATCH(D221,Clubs,0)),MIN(H$214:H220)-1,"NC") -> 93
B222: 8th | C222: Derek Allison | D222: LOC | E222: M65 | H222: =IF(ISNUMBER(MATCH(D222,Clubs,0)),MIN(H$214:H221)-1,"NC") -> 92
B223: 9th | C223: Raymond Wren | D223: BL | E223: M80 | H223: =IF(ISNUMBER(MATCH(D223,Clubs,0)),MIN(H$214:H222)-1,"NC") -> 91
B224: 10th | C224: Leanne Callaghan | D224: DEE | E224: W50 | H224: =IF(ISNUMBER(MATCH(D224,Clubs,0)),MIN(H$214:H223)-1,"NC") -> NC
B225: 11th= | C225: Anne Burbidge | D225: WCOC | E225: W65 | H225: =IF(ISNUMBER(MATCH(D225,Clubs,0)),MIN(H$214:H224)-1,"NC") -> 90
B226: 11th= | C226: Richard Towler | D226: LOC | E226: M75 | H226: =IF(ISNUMBER(MATCH(D226,Clubs,0)),MIN(H$214:H225)-1,"NC") -> 89
B227: 13th | C227: Gill Browne | D227: LOC | E227: W70 | H227: =IF(ISNUMBER(MATCH(D227,Clubs,0)),MIN(H$214:H226)-1,"NC") -> 88
... B257: 43rd | C257: Neil Adams | D257: LOC | E257: M65 | H257: =IF(ISNUMBER(MATCH(D257,Clubs,0)),MIN(H$214:H256)-1,"NC") -> 64
H258: =IF(ISNUMBER(MATCH(D258,Clubs,0)),MIN(H$214:H257)-1,"NC") -> NC
H259: =IF(ISNUMBER(MATCH(D259,Clubs,0)),MIN(H$214:H258)-1,"NC") -> NC
H260: =IF(ISNUMBER(MATCH(D260,Clubs,0)),MIN(H$214:H259)-1,"NC") -> NC
H261: =IF(ISNUMBER(MATCH(D261,Clubs,0)),MIN(H$214:H260)-1,"NC") -> NC
H262: =IF(ISNUMBER(MATCH(D262,Clubs,0)),MIN(H$214:H261)-1,"NC") -> NC
H263: =IF(ISNUMBER(MATCH(D263,Clubs,0)),MIN(H$214:H262)-1,"NC") -> NC
H264: =IF(ISNUMBER(MATCH(D264,Clubs,0)),MIN(H$214:H263)-1,"NC") -> NC
H265: =IF(ISNUMBER(MATCH(D265,Clubs,0)),MIN(H$214:H264)-1,"NC") -> NC
H266: =IF(ISNUMBER(MATCH(D266,Clubs,0)),MIN(H$214:H265)-1,"NC") -> NC
H267: =IF(ISNUMBER(MATCH(D267,Clubs,0)),MIN(H$214:H266)-1,"NC") -> NC
H268: =IF(ISNUMBER(MATCH(D268,Clubs,0)),MIN(H$214:H267)-1,"NC") -> NC
H269: =IF(ISNUMBER(MATCH(D269,Clubs,0)),MIN(H$214:H268)-1,"NC") -> NC
... H329: =IF(ISNUMBER(MATCH(D329,Clubs,0)),MIN(H$214:H328)-1,"NC") -> NC
C331: SHORT GREEN
C332: Name | D332: Club | E332: Class | H332: Galoppen Score
H333: 100
B334: 1st | C334: Hannah Cleary-Hughes | D334: LOC | E334: W21 | H334: =IF(ISNUMBER(MATCH(D334,Clubs,0)),MIN(H333:H$333)-1,"NC") -> 99
B335: 2nd | C335: Carol McNeill | D335: LOC | E335: W80 | H335: =IF(ISNUMBER(MATCH(D335,Clubs,0)),MIN(H$333:H334)-1,"NC") -> 98
B336: 3rd | C336: Janet Nash | D336: LOC | E336: W75 | H336: =IF(ISNUMBER(MATCH(D336,Clubs,0)),MIN(H$333:H335)-1,"NC") -> 97
...

Sheet Bampton Cmn
B2: Results for Bampton Common BL 10/5/2026
C4: BROWN
C5: Name | D5: Club | E5: Class | I5: Galoppen Score | N5: BL | O5: =COUNTIF(C:D,N5) -> 27
I6: 100 | N6: LOC | O6: =COUNTIF(C:D,N6) -> 42
B7: 1st | C7: David Roome | D7: SROC | E7: M40 | I7: =IF(ISNUMBER(MATCH(D7,Clubs,0)),MIN(I$6:I6)-1,"NC") -> 99 | N7: SROC | O7: =COUNTIF(C:D,N7) -> 18
B8: 2nd | C8: Isaac Hunter | D8: WCOC | E8: M20 | I8: =IF(ISNUMBER(MATCH(D8,Clubs,0)),MIN(I$6:I7)-1,"NC") -> 98 | N8: WAROC | O8: =COUNTIF(C:D,N8) -> 2
B9: 3rd | C9: Steve Birkinshaw | D9: WCOC | E9: M55 | I9: =IF(ISNUMBER(MATCH(D9,Clubs,0)),MIN(I$6:I8)-1,"NC") -> 97 | N9: WCOC | O9: =COUNTIF(C:D,N9) -> 45
B10: 4th | C10: Michael Osborne | D10: LOC | E10: M50 | I10: =IF(ISNUMBER(MATCH(D10,Clubs,0)),MIN(I$6:I9)-1,"NC") -> 96
B11: 5th | C11: Zach Thomas | D11: SROC | E11: M18 | I11: =IF(ISNUMBER(MATCH(D11,Clubs,0)),MIN(I$6:I10)-1,"NC") -> 95
B12: 6th | C12: Daniel Hughes | D12: LOC | E12: M50 | I12: =IF(ISNUMBER(MATCH(D12,Clubs,0)),MIN(I$6:I11)-1,"NC") -> 94
B13: 7th | C13: Keith Tonkin | D13: BL | E13: M65 | I13: =IF(ISNUMBER(MATCH(D13,Clubs,0)),MIN(I$6:I12)-1,"NC") -> 93
B14: 8th | C14: Jeff Powell Davies | D14: BL | E14: M45 | I14: =IF(ISNUMBER(MATCH(D14,Clubs,0)),MIN(I$6:I13)-1,"NC") -> 92
B15: 9th | C15: Christiaan Swanepoel | D15: WCOC | E15: M45 | I15: =IF(ISNUMBER(MATCH(D15,Clubs,0)),MIN(I$6:I14)-1,"NC") -> 91
B16: 10th | C16: Simon Hunter | D16: WCOC | E16: M55 | I16: =IF(ISNUMBER(MATCH(D16,Clubs,0)),MIN(I$6:I15)-1,"NC") -> 90
B17: 11th | C17: Mike Harrison | D17: WCOC | E17: M55 | I17: =IF(ISNUMBER(MATCH(D17,Clubs,0)),MIN(I$6:I16)-1,"NC") -> 89
B18: 12th | C18: Ian Hinkins | D18: LOC | E18: M40 | I18: =IF(ISNUMBER(MATCH(D18,Clubs,0)),MIN(I$6:I17)-1,"NC") -> 88
B19: 13th | C19: Joe Oetting | D19: EBOR | E19: M35 | I19: =IF(ISNUMBER(MATCH(D19,Clubs,0)),MIN(I$6:I18)-1,"NC") -> NC
B20: 14th | C20: Steve Holmes | D20: WCOC | E20: M55 | I20: =IF(ISNUMBER(MATCH(D20,Clubs,0)),MIN(I$6:I19)-1,"NC") -> 87
B21: 15th | C21: Dan Parker | D21: BL | E21: M60 | I21: =IF(ISNUMBER(MATCH(D21,Clubs,0)),MIN(I$6:I20)-1,"NC") -> 86
... B28: 22nd | C28: Julie Ferris-Worth | D28: WCOC | E28: W55 | I28: =IF(ISNUMBER(MATCH(D28,Clubs,0)),MIN(I$6:I27)-1,"NC") -> 82
B29: 23rd | C29: Stephen Murdoch | E29: M65 | I29: =IF(ISNUMBER(MATCH(D29,Clubs,0)),MIN(I$6:I28)-1,"NC") -> NC
B30: 24th | C30: Phil Newall | D30: WCOC | E30: M60 | I30: =IF(ISNUMBER(MATCH(D30,Clubs,0)),MIN(I$6:I29)-1,"NC") -> 81
I31: =IF(ISNUMBER(MATCH(D31,Clubs,0)),MIN(I$6:I30)-1,"NC") -> NC
I32: =IF(ISNUMBER(MATCH(D32,Clubs,0)),MIN(I$6:I31)-1,"NC") -> NC
I33: =IF(ISNUMBER(MATCH(D33,Clubs,0)),MIN(I$6:I32)-1,"NC") -> NC
I34: =IF(ISNUMBER(MATCH(D34,Clubs,0)),MIN(I$6:I33)-1,"NC") -> NC
I35: =IF(ISNUMBER(MATCH(D35,Clubs,0)),MIN(I$6:I34)-1,"NC") -> NC
I36: =IF(ISNUMBER(MATCH(D36,Clubs,0)),MIN(I$6:I35)-1,"NC") -> NC
I37: =IF(ISNUMBER(MATCH(D37,Clubs,0)),MIN(I$6:I36)-1,"NC") -> NC
I38: =IF(ISNUMBER(MATCH(D38,Clubs,0)),MIN(I$6:I37)-1,"NC") -> NC
I39: =IF(ISNUMBER(MATCH(D39,Clubs,0)),MIN(I$6:I38)-1,"NC") -> NC
I40: =IF(ISNUMBER(MATCH(D40,Clubs,0)),MIN(I$6:I39)-1,"NC") -> NC
I41: =IF(ISNUMBER(MATCH(D41,Clubs,0)),MIN(I$6:I40)-1,"NC") -> NC
I42: =IF(ISNUMBER(MATCH(D42,Clubs,0)),MIN(I$6:I41)-1,"NC") -> NC
... I107: =IF(ISNUMBER(MATCH(D107,Clubs,0)),MIN(I$6:I106)-1,"NC") -> NC
C110: BLUE
C111: Name | D111: Club | E111: Class | I111: Galoppen Score
I112: 100
B113: 1st | C113: Matthew Rooke | D113: LOC | E113: M35 | I113: =IF(ISNUMBER(MATCH(D113,Clubs,0)),MIN(I$112:I112)-1,"NC") -> 99
B114: 2nd | C114: James Todhunter | D114: SROC | E114: M45 | I114: =IF(ISNUMBER(MATCH(D114,Clubs,0)),MIN(I$112:I113)-1,"NC") -> 98
B115: 3rd | C115: John Slater | D115: WCOC | E115: M55 | I115: =IF(ISNUMBER(MATCH(D115,Clubs,0)),MIN(I$112:I114)-1,"NC") -> 97
B116: 4th | C116: Matthew Stephens | D116: WCOC | E116: M45 | I116: =IF(ISNUMBER(MATCH(D116,Clubs,0)),MIN(I$112:I115)-1,"NC") -> 96
B117: 5th | C117: Michael Billinghurst | D117: WCOC | E117: M65 | I117: =IF(ISNUMBER(MATCH(D117,Clubs,0)),MIN(I$112:I116)-1,"NC") -> 95
B118: 6th | C118: Tim Stallard | D118: SROC | E118: M45 | I118: =IF(ISNUMBER(MATCH(D118,Clubs,0)),MIN(I$112:I117)-1,"NC") -> 94
B119: 7th | C119: Isabel Berry | D119: BL | E119: W45 | I119: =IF(ISNUMBER(MATCH(D119,Clubs,0)),MIN(I$112:I118)-1,"NC") -> 93
B120: 8th | C120: Ian Thomas | D120: SROC | E120: M55 | I120: =IF(ISNUMBER(MATCH(D120,Clubs,0)),MIN(I$112:I119)-1,"NC") -> 92
B121: 9th | C121: Derek Ratcliffe | D121: LOC | E121: M70 | I121: =IF(ISNUMBER(MATCH(D121,Clubs,0)),MIN(I$112:I120)-1,"NC") -> 91
B122: 10th | C122: Steven Breeze | D122: WCOC | E122: M55 | I122: =IF(ISNUMBER(MATCH(D122,Clubs,0)),MIN(I$112:I121)-1,"NC") -> 90
B123: 11th | C123: Eleanor Osborne | D123: LOC | E123: W50 | I123: =IF(ISNUMBER(MATCH(D123,Clubs,0)),MIN(I$112:I122)-1,"NC") -> 89
B124: 12th | C124: Martin Skinner | D124: WCOC | E124: M60 | I124: =IF(ISNUMBER(MATCH(D124,Clubs,0)),MIN(I$112:I123)-1,"NC") -> 88
... B144: 32nd | C144: John Taylor | D144: SROC | E144: M75 | I144: =IF(ISNUMBER(MATCH(D144,Clubs,0)),MIN(I$112:I143)-1,"NC") -> 78
I145: =IF(ISNUMBER(MATCH(D145,Clubs,0)),MIN(I$112:I144)-1,"NC") -> NC
I146: =IF(ISNUMBER(MATCH(D146,Clubs,0)),MIN(I$112:I145)-1,"NC") -> NC
I147: =IF(ISNUMBER(MATCH(D147,Clubs,0)),MIN(I$112:I146)-1,"NC") -> NC
I148: =IF(ISNUMBER(MATCH(D148,Clubs,0)),MIN(I$112:I147)-1,"NC") -> NC
I149: =IF(ISNUMBER(MATCH(D149,Clubs,0)),MIN(I$112:I148)-1,"NC") -> NC
I150: =IF(ISNUMBER(MATCH(D150,Clubs,0)),MIN(I$112:I149)-1,"NC") -> NC
I151: =IF(ISNUMBER(MATCH(D151,Clubs,0)),MIN(I$112:I150)-1,"NC") -> NC
I152: =IF(ISNUMBER(MATCH(D152,Clubs,0)),MIN(I$112:I151)-1,"NC") -> NC
I153: =IF(ISNUMBER(MATCH(D153,Clubs,0)),MIN(I$112:I152)-1,"NC") -> NC
I154: =IF(ISNUMBER(MATCH(D154,Clubs,0)),MIN(I$112:I153)-1,"NC") -> NC
I155: =IF(ISNUMBER(MATCH(D155,Clubs,0)),MIN(I$112:I154)-1,"NC") -> NC
I156: =IF(ISNUMBER(MATCH(D156,Clubs,0)),MIN(I$112:I155)-1,"NC") -> NC
... I209: =IF(ISNUMBER(MATCH(D209,Clubs,0)),MIN(I$112:I208)-1,"NC") -> NC
C212: GREEN
C213: Name | D213: Club | E213: Class | I213: Galoppen Score
I214: 100
B215: 1st | C215: Rebecca Rooke | D215: LOC | E215: W35 | I215: =IF(ISNUMBER(MATCH(D215,Clubs,0)),MIN(I214:I$214)-1,"NC") -> 99
B216: 2nd | C216: Chris Pollitt | D216: WCOC | E216: M65 | I216: =IF(ISNUMBER(MATCH(D216,Clubs,0)),MIN(I$214:I215)-1,"NC") -> 98
B217: 3rd | C217: Jo Rodham | D217: BL | E217: W45 | I217: =IF(ISNUMBER(MATCH(D217,Clubs,0)),MIN(I$214:I216)-1,"NC") -> 97
B218: 4th | C218: John Ferris-Worth | D218: WCOC | E218: M60 | I218: =IF(ISNUMBER(MATCH(D218,Clubs,0)),MIN(I$214:I217)-1,"NC") -> 96
B219: 5th | C219: Finlay Ross | D219: ESOC | E219: M60 | I219: =IF(ISNUMBER(MATCH(D219,Clubs,0)),MIN(I$214:I218)-1,"NC") -> NC
B220: 6th | C220: Howard Leslie | D220: WCOC | E220: M60 | I220: =IF(ISNUMBER(MATCH(D220,Clubs,0)),MIN(I$214:I219)-1,"NC") -> 95
B221: 7th | C221: Martyn Roome | D221: SROC | E221: M70 | I221: =IF(ISNUMBER(MATCH(D221,Clubs,0)),MIN(I$214:I220)-1,"NC") -> 94
B222: 8th | C222: Holly Arnold | E222: W35 | I222: =IF(ISNUMBER(MATCH(D222,Clubs,0)),MIN(I$214:I221)-1,"NC") -> NC
B223: 9th | C223: Russell Cannon | E223: M60 | I223: =IF(ISNUMBER(MATCH(D223,Clubs,0)),MIN(I$214:I222)-1,"NC") -> NC
B224: 10th | C224: Stella Lewsley | D224: BL | E224: W70 | I224: =IF(ISNUMBER(MATCH(D224,Clubs,0)),MIN(I$214:I223)-1,"NC") -> 93
B225: 11th | C225: Zach Hughes | D225: LOC | E225: M16 | I225: =IF(ISNUMBER(MATCH(D225,Clubs,0)),MIN(I$214:I224)-1,"NC") -> 92
B226: 12th | C226: Sally Heppell | D226: WCOC | E226: W45 | I226: =IF(ISNUMBER(MATCH(D226,Clubs,0)),MIN(I$214:I225)-1,"NC") -> 91
B227: 13th | C227: Steve Kruger | D227: LOC | E227: M65 | I227: =IF(ISNUMBER(MATCH(D227,Clubs,0)),MIN(I$214:I226)-1,"NC") -> 90
B228: 14th | C228: Lynne Thomas | D228: WCOC | E228: W55 | I228: =IF(ISNUMBER(MATCH(D228,Clubs,0)),MIN(I$214:I227)-1,"NC") -> 89
B229: 15th | C229: Roger Thomas | D229: WCOC | E229: M65 | I229: =IF(ISNUMBER(MATCH(D229,Clubs,0)),MIN(I$214:I228)-1,"NC") -> 88
B230: 16th | C230: Mark Peplow | D230: BL | E230: M50 | I230: =IF(ISNUMBER(MATCH(D230,Clubs,0)),MIN(I$214:I229)-1,"NC") -> 87
B231: 17th | C231: Jackie Chapman | D231: LOC | E231: W65 | I231: =IF(ISNUMBER(MATCH(D231,Clubs,0)),MIN(I$214:I230)-1,"NC") -> 86
B232: 18th= | C232: Jo Taylor | D232: SROC | E232: W60 | I232: =IF(ISNUMBER(MATCH(D232,Clubs,0)),MIN(I$214:I231)-1,"NC") -> 85
B233: 18th= | C233: Margaret Dalgleish | D233: ESOC | E233: W70 | I233: =IF(ISNUMBER(MATCH(D233,Clubs,0)),MIN(I$214:I232)-1,"NC") -> NC
B234: 20th | C234: Susan Skinner | D234: WCOC | E234: W60 | I234: =IF(ISNUMBER(MATCH(D234,Clubs,0)),MIN(I$214:I233)-1,"NC") -> 84
B235: 21st | C235: Natalie Hawkrigg | D235: BL | E235: W50 | I235: =IF(ISNUMBER(MATCH(D235,Clubs,0)),MIN(I$214:I234)-1,"NC") -> 83
... B274: 60th | C274: Anne Wilson | D274: AIRE | E274: W70 | I274: =IF(ISNUMBER(MATCH(D274,Clubs,0)),MIN(I$214:I273)-1,"NC") -> NC
B275: 61st | C275: Cath Sullivan | E275: W55 | I275: =IF(ISNUMBER(MATCH(D275,Clubs,0)),MIN(I$214:I274)-1,"NC") -> NC
B276: 62nd | C276: John Nash | D276: LOC | E276: M75 | I276: =IF(ISNUMBER(MATCH(D276,Clubs,0)),MIN(I$214:I275)-1,"NC") -> 56
B277: 63rd | C277: Aaron Rennie | D277: WCOC | E277: M40 | I277: =IF(ISNUMBER(MATCH(D277,Clubs,0)),MIN(I$214:I276)-1,"NC") -> 55
B278: 64th | C278: Chris Whitby | E278: M60 | I278: =IF(ISNUMBER(MATCH(D278,Clubs,0)),MIN(I$214:I277)-1,"NC") -> NC
B279: 65th | C279: Raymond Wren | D279: BL | E279: M80 | I279: =IF(ISNUMBER(MATCH(D279,Clubs,0)),MIN(I$214:I278)-1,"NC") -> 54
I280: =IF(ISNUMBER(MATCH(D280,Clubs,0)),MIN(I$214:I279)-1,"NC") -> NC
I281: =IF(ISNUMBER(MATCH(D281,Clubs,0)),MIN(I$214:I280)-1,"NC") -> NC
I282: =IF(ISNUMBER(MATCH(D282,Clubs,0)),MIN(I$214:I281)-1,"NC") -> NC
I283: =IF(ISNUMBER(MATCH(D283,Clubs,0)),MIN(I$214:I282)-1,"NC") -> NC
I284: =IF(ISNUMBER(MATCH(D284,Clubs,0)),MIN(I$214:I283)-1,"NC") -> NC
I285: =IF(ISNUMBER(MATCH(D285,Clubs,0)),MIN(I$214:I284)-1,"NC") -> NC
...

Sheet Troutal Fell
B2: Results for Troutal Fell 27Sept2026
C4: BROWN
C5: Name | D5: Club | E5: Class | J5: Galoppen Score | O5: BL | P5: =COUNTIF(C:D,O5) -> 11
J6: 100 | O6: LOC | P6: =COUNTIF(C:D,O6) -> 33
B7: 1st | C7: James Birkinshaw | D7: WCOC | E7: M21 | J7: =IF(ISNUMBER(MATCH(D7,Clubs,0)),MIN(J$6:J6)-1,"NC") -> 99 | O7: SROC | P7: =COUNTIF(C:D,O7) -> 16
B8: 2nd | C8: Steve Birkinshaw | D8: WCOC | E8: M55 | J8: =IF(ISNUMBER(MATCH(D8,Clubs,0)),MIN(J$6:J7)-1,"NC") -> 98 | O8: WAROC | P8: =COUNTIF(C:D,O8) -> 2
B9: 3rd | C9: Michael Osborne | D9: LOC | E9: M50 | J9: =IF(ISNUMBER(MATCH(D9,Clubs,0)),MIN(J$6:J8)-1,"NC") -> 97 | O9: WCOC | P9: =COUNTIF(C:D,O9) -> 22
B10: 4th | C10: Joseph Goodwin | D10: INT | E10: M21 | J10: =IF(ISNUMBER(MATCH(D10,Clubs,0)),MIN(J$6:J9)-1,"NC") -> NC
B11: 5th | C11: Jamie Rennie | D11: WCOC | E11: M55 | J11: =IF(ISNUMBER(MATCH(D11,Clubs,0)),MIN(J$6:J10)-1,"NC") -> 96
B12: 6th | C12: Michael Adams | D12: LOC | E12: M21 | J12: =IF(ISNUMBER(MATCH(D12,Clubs,0)),MIN(J$6:J11)-1,"NC") -> 95
B13: 7th | C13: Jeff Powell Davies | D13: BL | E13: M45 | J13: =IF(ISNUMBER(MATCH(D13,Clubs,0)),MIN(J$6:J12)-1,"NC") -> 94
B14: 8th | C14: Dan Earnshaw | D14: MDOC | E14: M21 | J14: =IF(ISNUMBER(MATCH(D14,Clubs,0)),MIN(J$6:J13)-1,"NC") -> NC
B15: 9th | C15: Matthew McCreadie | D15: DEE | E15: M20 | J15: =IF(ISNUMBER(MATCH(D15,Clubs,0)),MIN(J$6:J14)-1,"NC") -> NC
B16: 10th | C16: Dan Parker | D16: BL | E16: M60 | J16: =IF(ISNUMBER(MATCH(D16,Clubs,0)),MIN(J$6:J15)-1,"NC") -> 93
B17: 11th | C17: Tom Matthew | D17: SROC | E17: M55 | J17: =IF(ISNUMBER(MATCH(D17,Clubs,0)),MIN(J$6:J16)-1,"NC") -> 92
B18: 12th | C18: Scott Collier | D18: KERNO | E18: M40 | J18: =IF(ISNUMBER(MATCH(D18,Clubs,0)),MIN(J$6:J17)-1,"NC") -> NC
B19: 13th | C19: Adam McCreadie | D19: DEE | E19: M45 | J19: =IF(ISNUMBER(MATCH(D19,Clubs,0)),MIN(J$6:J18)-1,"NC") -> NC
B20: 14th | C20: Ian Porter | D20: SROC | E20: M55 | J20: =IF(ISNUMBER(MATCH(D20,Clubs,0)),MIN(J$6:J19)-1,"NC") -> 91
B21: 15th | C21: Jonty Goodwin | D21: WCOC | E21: M21 | J21: =IF(ISNUMBER(MATCH(D21,Clubs,0)),MIN(J$6:J20)-1,"NC") -> 90
... B31: 25th | C31: Derek Fryer | D31: LOC | E31: M70 | J31: =IF(ISNUMBER(MATCH(D31,Clubs,0)),MIN(J$6:J30)-1,"NC") -> 82
J32: =IF(ISNUMBER(MATCH(D32,Clubs,0)),MIN(J$6:J31)-1,"NC") -> NC
J33: =IF(ISNUMBER(MATCH(D33,Clubs,0)),MIN(J$6:J32)-1,"NC") -> NC
J34: =IF(ISNUMBER(MATCH(D34,Clubs,0)),MIN(J$6:J33)-1,"NC") -> NC
J35: =IF(ISNUMBER(MATCH(D35,Clubs,0)),MIN(J$6:J34)-1,"NC") -> NC
J36: =IF(ISNUMBER(MATCH(D36,Clubs,0)),MIN(J$6:J35)-1,"NC") -> NC
J37: =IF(ISNUMBER(MATCH(D37,Clubs,0)),MIN(J$6:J36)-1,"NC") -> NC
J38: =IF(ISNUMBER(MATCH(D38,Clubs,0)),MIN(J$6:J37)-1,"NC") -> NC
J39: =IF(ISNUMBER(MATCH(D39,Clubs,0)),MIN(J$6:J38)-1,"NC") -> NC
J40: =IF(ISNUMBER(MATCH(D40,Clubs,0)),MIN(J$6:J39)-1,"NC") -> NC
J41: =IF(ISNUMBER(MATCH(D41,Clubs,0)),MIN(J$6:J40)-1,"NC") -> NC
J42: =IF(ISNUMBER(MATCH(D42,Clubs,0)),MIN(J$6:J41)-1,"NC") -> NC
J43: =IF(ISNUMBER(MATCH(D43,Clubs,0)),MIN(J$6:J42)-1,"NC") -> NC
... J107: =IF(ISNUMBER(MATCH(D107,Clubs,0)),MIN(J$6:J106)-1,"NC") -> NC
C110: BLUE
C111: Name | D111: Club | E111: Class | J111: Galoppen Score
J112: 100
B113: 1st | C113: Matthew Rooke | D113: LOC | E113: M35 | J113: =IF(ISNUMBER(MATCH(D113,Clubs,0)),MIN(J$112:J112)-1,"NC") -> 99
B114: 2nd | C114: Ian Thomas | D114: SROC | E114: M55 | J114: =IF(ISNUMBER(MATCH(D114,Clubs,0)),MIN(J$112:J113)-1,"NC") -> 98
B115: 3rd | C115: Mike Hooper | D115: LOC | E115: M55 | J115: =IF(ISNUMBER(MATCH(D115,Clubs,0)),MIN(J$112:J114)-1,"NC") -> 97
B116: 4th | C116: Michael Billinghurst | D116: WCOC | E116: M65 | J116: =IF(ISNUMBER(MATCH(D116,Clubs,0)),MIN(J$112:J115)-1,"NC") -> 96
B117: 5th | C117: Steven Breeze | D117: WCOC | E117: M55 | J117: =IF(ISNUMBER(MATCH(D117,Clubs,0)),MIN(J$112:J116)-1,"NC") -> 95
B118: 6th | C118: Isabel Berry | D118: BL | E118: W45 | J118: =IF(ISNUMBER(MATCH(D118,Clubs,0)),MIN(J$112:J117)-1,"NC") -> 94
B119: 7th | C119: Edward Shawcross | D119: SROC | E119: M16 | J119: =IF(ISNUMBER(MATCH(D119,Clubs,0)),MIN(J$112:J118)-1,"NC") -> 93
B120: 8th | C120: Gary Lingard | D120: LOC | E120: M55 | J120: =IF(ISNUMBER(MATCH(D120,Clubs,0)),MIN(J$112:J119)-1,"NC") -> 92
B121: 9th | C121: Howard Leslie | D121: WCOC | E121: M60 | J121: =IF(ISNUMBER(MATCH(D121,Clubs,0)),MIN(J$112:J120)-1,"NC") -> 91
B122: 10th | C122: Derek Ratcliffe | D122: LOC | E122: M70 | J122: =IF(ISNUMBER(MATCH(D122,Clubs,0)),MIN(J$112:J121)-1,"NC") -> 90
B123: 11th | C123: Jo Cleary | D123: LOC | E123: W60 | J123: =IF(ISNUMBER(MATCH(D123,Clubs,0)),MIN(J$112:J122)-1,"NC") -> 89
B124: 12th | C124: Amelia Thompson | D124: LOC | E124: W20 | J124: =IF(ISNUMBER(MATCH(D124,Clubs,0)),MIN(J$112:J123)-1,"NC") -> 88
... B132: 20th | C132: Richard Wilson | D132: AIRE | E132: M70 | J132: =IF(ISNUMBER(MATCH(D132,Clubs,0)),MIN(J$112:J131)-1,"NC") -> NC
J133: =IF(ISNUMBER(MATCH(D133,Clubs,0)),MIN(J$112:J132)-1,"NC") -> NC
J134: =IF(ISNUMBER(MATCH(D134,Clubs,0)),MIN(J$112:J133)-1,"NC") -> NC
J135: =IF(ISNUMBER(MATCH(D135,Clubs,0)),MIN(J$112:J134)-1,"NC") -> NC
J136: =IF(ISNUMBER(MATCH(D136,Clubs,0)),MIN(J$112:J135)-1,"NC") -> NC
J137: =IF(ISNUMBER(MATCH(D137,Clubs,0)),MIN(J$112:J136)-1,"NC") -> NC
J138: =IF(ISNUMBER(MATCH(D138,Clubs,0)),MIN(J$112:J137)-1,"NC") -> NC
J139: =IF(ISNUMBER(MATCH(D139,Clubs,0)),MIN(J$112:J138)-1,"NC") -> NC
J140: =IF(ISNUMBER(MATCH(D140,Clubs,0)),MIN(J$112:J139)-1,"NC") -> NC
J141: =IF(ISNUMBER(MATCH(D141,Clubs,0)),MIN(J$112:J140)-1,"NC") -> NC
J142: =IF(ISNUMBER(MATCH(D142,Clubs,0)),MIN(J$112:J141)-1,"NC") -> NC
J143: =IF(ISNUMBER(MATCH(D143,Clubs,0)),MIN(J$112:J142)-1,"NC") -> NC
J144: =IF(ISNUMBER(MATCH(D144,Clubs,0)),MIN(J$112:J143)-1,"NC") -> NC
... J209: =IF(ISNUMBER(MATCH(D209,Clubs,0)),MIN(J$112:J208)-1,"NC") -> NC
C212: GREEN
C213: Name | D213: Club | E213: Class | J213: Galoppen Score
J214: 100
B215: 1st | C215: Natalie Hawkrigg | D215: BL | E215: W50 | J215: =IF(ISNUMBER(MATCH(D215,Clubs,0)),MIN(J214:J$214)-1,"NC") -> 99
B216: 2nd | C216: Sam Roberts | D216: SROC | E216: M16 | J216: =IF(ISNUMBER(MATCH(D216,Clubs,0)),MIN(J$214:J215)-1,"NC") -> 98
B217: 3rd | C217: Michael Napier | D217: LOC | E217: M70 | J217: =IF(ISNUMBER(MATCH(D217,Clubs,0)),MIN(J$214:J216)-1,"NC") -> 97
B218: 4th | C218: Fiona Roberts | D218: SROC | E218: W50 | J218: =IF(ISNUMBER(MATCH(D218,Clubs,0)),MIN(J$214:J217)-1,"NC") -> 96
B219: 5th | C219: Chris Pollitt | D219: WCOC | E219: M65 | J219: =IF(ISNUMBER(MATCH(D219,Clubs,0)),MIN(J$214:J218)-1,"NC") -> 95
B220: 6th | C220: Roger Thomas | D220: WCOC | E220: M65 | J220: =IF(ISNUMBER(MATCH(D220,Clubs,0)),MIN(J$214:J219)-1,"NC") -> 94
B221: 7th | C221: Kim Leslie | D221: WCOC | E221: W60 | J221: =IF(ISNUMBER(MATCH(D221,Clubs,0)),MIN(J$214:J220)-1,"NC") -> 93
B222: 8th | C222: Julia Laverack | D222: WAROC | E222: W60 | J222: =IF(ISNUMBER(MATCH(D222,Clubs,0)),MIN(J$214:J221)-1,"NC") -> 92
B223: 9th | C223: Margaret Dalgleish | D223: ESOC | E223: W70 | J223: =IF(ISNUMBER(MATCH(D223,Clubs,0)),MIN(J$214:J222)-1,"NC") -> NC
B224: 10th | C224: Pete Owens | D224: LOC | E224: M65 | J224: =IF(ISNUMBER(MATCH(D224,Clubs,0)),MIN(J$214:J223)-1,"NC") -> 91
B225: 11th | C225: Richard Tiley | D225: LOC | E225: M65 | J225: =IF(ISNUMBER(MATCH(D225,Clubs,0)),MIN(J$214:J224)-1,"NC") -> 90
B226: 12th | C226: Christine Kiddier | D226: BL | E226: W70 | J226: =IF(ISNUMBER(MATCH(D226,Clubs,0)),MIN(J$214:J225)-1,"NC") -> 89
B227: 13th | C227: Lindsey Bayles | D227: LOC | E227: W65 | J227: =IF(ISNUMBER(MATCH(D227,Clubs,0)),MIN(J$214:J226)-1,"NC") -> 88
... B247: 33rd | C247: Anne Wilson | D247: AIRE | E247: W70 | J247: =IF(ISNUMBER(MATCH(D247,Clubs,0)),MIN(J$214:J246)-1,"NC") -> NC
J248: =IF(ISNUMBER(MATCH(D248,Clubs,0)),MIN(J$214:J247)-1,"NC") -> NC
J249: =IF(ISNUMBER(MATCH(D249,Clubs,0)),MIN(J$214:J248)-1,"NC") -> NC
J250: =IF(ISNUMBER(MATCH(D250,Clubs,0)),MIN(J$214:J249)-1,"NC") -> NC
J251: =IF(ISNUMBER(MATCH(D251,Clubs,0)),MIN(J$214:J250)-1,"NC") -> NC
J252: =IF(ISNUMBER(MATCH(D252,Clubs,0)),MIN(J$214:J251)-1,"NC") -> NC
J253: =IF(ISNUMBER(MATCH(D253,Clubs,0)),MIN(J$214:J252)-1,"NC") -> NC
J254: =IF(ISNUMBER(MATCH(D254,Clubs,0)),MIN(J$214:J253)-1,"NC") -> NC
J255: =IF(ISNUMBER(MATCH(D255,Clubs,0)),MIN(J$214:J254)-1,"NC") -> NC
J256: =IF(ISNUMBER(MATCH(D256,Clubs,0)),MIN(J$214:J255)-1,"NC") -> NC
J257: =IF(ISNUMBER(MATCH(D257,Clubs,0)),MIN(J$214:J256)-1,"NC") -> NC
J258: =IF(ISNUMBER(MATCH(D258,Clubs,0)),MIN(J$214:J257)-1,"NC") -> NC
J259: =IF(ISNUMBER(MATCH(D259,Clubs,0)),MIN(J$214:J258)-1,"NC") -> NC
... J329: =IF(ISNUMBER(MATCH(D329,Clubs,0)),MIN(J$214:J328)-1,"NC") -> NC
C331: SHORT GREEN
C332: Name | D332: Club | E332: Class | J332: Galoppen Score
J333: 100
B334: 1st | C334: Rebecca Rooke | D334: LOC | E334: W35 | J334: =IF(ISNUMBER(MATCH(D334,Clubs,0)),MIN(J333:J$333)-1,"NC") -> 99
B335: 2nd | C335: David Lloyd | D335: LOC | E335: M75 | J335: =IF(ISNUMBER(MATCH(D335,Clubs,0)),MIN(J$333:J334)-1,"NC") -> 98
B336: 3rd | C336: Mike Page | E336: M40 | J336: =IF(ISNUMBER(MATCH(D336,Clubs,0)),MIN(J$333:J335)-1,"NC") -> NC
B337: 4th | C337: Judy Burge | D337: LOC | E337: W65 | J337: =IF(ISNUMBER(MATCH(D337,Clubs,0)),MIN(J$333:J336)-1,"NC") -> 97
B338: 5th | C338: Elizabeth Elliott | D338: WCOC | E338: W75 | J338: =IF(ISNUMBER(MATCH(D338,Clubs,0)),MIN(J$333:J337)-1,"NC") -> 96
...

Sheet 6
B2: Results for
C4: BROWN
C5: Name | D5: Club | E5: Class | K5: Galoppen Score | P5: BL | Q5: =COUNTIF(C:D,P5) -> 0
K6: 100 | P6: LOC | Q6: =COUNTIF(C:D,P6) -> 0
K7: =IF(ISNUMBER(MATCH(D7,Clubs,0)),MIN(K$6:K6)-1,"NC") -> NC | P7: SROC | Q7: =COUNTIF(C:D,P7) -> 0
K8: =IF(ISNUMBER(MATCH(D8,Clubs,0)),MIN(K$6:K7)-1,"NC") -> NC | P8: WAROC | Q8: =COUNTIF(C:D,P8) -> 0
K9: =IF(ISNUMBER(MATCH(D9,Clubs,0)),MIN(K$6:K8)-1,"NC") -> NC | P9: WCOC | Q9: =COUNTIF(C:D,P9) -> 0
K10: =IF(ISNUMBER(MATCH(D10,Clubs,0)),MIN(K$6:K9)-1,"NC") -> NC
K11: =IF(ISNUMBER(MATCH(D11,Clubs,0)),MIN(K$6:K10)-1,"NC") -> NC
K12: =IF(ISNUMBER(MATCH(D12,Clubs,0)),MIN(K$6:K11)-1,"NC") -> NC
K13: =IF(ISNUMBER(MATCH(D13,Clubs,0)),MIN(K$6:K12)-1,"NC") -> NC
K14: =IF(ISNUMBER(MATCH(D14,Clubs,0)),MIN(K$6:K13)-1,"NC") -> NC
K15: =IF(ISNUMBER(MATCH(D15,Clubs,0)),MIN(K$6:K14)-1,"NC") -> NC
K16: =IF(ISNUMBER(MATCH(D16,Clubs,0)),MIN(K$6:K15)-1,"NC") -> NC
K17: =IF(ISNUMBER(MATCH(D17,Clubs,0)),MIN(K$6:K16)-1,"NC") -> NC
K18: =IF(ISNUMBER(MATCH(D18,Clubs,0)),MIN(K$6:K17)-1,"NC") -> NC
K19: =IF(ISNUMBER(MATCH(D19,Clubs,0)),MIN(K$6:K18)-1,"NC") -> NC
K20: =IF(ISNUMBER(MATCH(D20,Clubs,0)),MIN(K$6:K19)-1,"NC") -> NC
K21: =IF(ISNUMBER(MATCH(D21,Clubs,0)),MIN(K$6:K20)-1,"NC") -> NC
... K107: =IF(ISNUMBER(MATCH(D107,Clubs,0)),MIN(K$6:K106)-1,"NC") -> NC
C110: BLUE
C111: Name | D111: Club | E111: Class | K111: Galoppen Score
K112: 100
K113: =IF(ISNUMBER(MATCH(D113,Clubs,0)),MIN(K$112:K112)-1,"NC") -> NC
K114: =IF(ISNUMBER(MATCH(D114,Clubs,0)),MIN(K$112:K113)-1,"NC") -> NC
K115: =IF(ISNUMBER(MATCH(D115,Clubs,0)),MIN(K$112:K114)-1,"NC") -> NC
K116: =IF(ISNUMBER(MATCH(D116,Clubs,0)),MIN(K$112:K115)-1,"NC") -> NC
K117: =IF(ISNUMBER(MATCH(D117,Clubs,0)),MIN(K$112:K116)-1,"NC") -> NC
K118: =IF(ISNUMBER(MATCH(D118,Clubs,0)),MIN(K$112:K117)-1,"NC") -> NC
K119: =IF(ISNUMBER(MATCH(D119,Clubs,0)),MIN(K$112:K118)-1,"NC") -> NC
K120: =IF(ISNUMBER(MATCH(D120,Clubs,0)),MIN(K$112:K119)-1,"NC") -> NC
K121: =IF(ISNUMBER(MATCH(D121,Clubs,0)),MIN(K$112:K120)-1,"NC") -> NC
K122: =IF(ISNUMBER(MATCH(D122,Clubs,0)),MIN(K$112:K121)-1,"NC") -> NC
K123: =IF(ISNUMBER(MATCH(D123,Clubs,0)),MIN(K$112:K122)-1,"NC") -> NC
K124: =IF(ISNUMBER(MATCH(D124,Clubs,0)),MIN(K$112:K123)-1,"NC") -> NC
... K209: =IF(ISNUMBER(MATCH(D209,Clubs,0)),MIN(K$112:K208)-1,"NC") -> NC
C212: GREEN
C213: Name | D213: Club | E213: Class | K213: Galoppen Score
K214: 100
K215: =IF(ISNUMBER(MATCH(D215,Clubs,0)),MIN(K214:K$214)-1,"NC") -> NC
K216: =IF(ISNUMBER(MATCH(D216,Clubs,0)),MIN(K$214:K215)-1,"NC") -> NC
K217: =IF(ISNUMBER(MATCH(D217,Clubs,0)),MIN(K$214:K216)-1,"NC") -> NC
K218: =IF(ISNUMBER(MATCH(D218,Clubs,0)),MIN(K$214:K217)-1,"NC") -> NC
K219: =IF(ISNUMBER(MATCH(D219,Clubs,0)),MIN(K$214:K218)-1,"NC") -> NC
K220: =IF(ISNUMBER(MATCH(D220,Clubs,0)),MIN(K$214:K219)-1,"NC") -> NC
K221: =IF(ISNUMBER(MATCH(D221,Clubs,0)),MIN(K$214:K220)-1,"NC") -> NC
K222: =IF(ISNUMBER(MATCH(D222,Clubs,0)),MIN(K$214:K221)-1,"NC") -> NC
K223: =IF(ISNUMBER(MATCH(D223,Clubs,0)),MIN(K$214:K222)-1,"NC") -> NC
K224: =IF(ISNUMBER(MATCH(D224,Clubs,0)),MIN(K$214:K223)-1,"NC") -> NC
K225: =IF(ISNUMBER(MATCH(D225,Clubs,0)),MIN(K$214:K224)-1,"NC") -> NC
K226: =IF(ISNUMBER(MATCH(D226,Clubs,0)),MIN(K$214:K225)-1,"NC") -> NC
K227: =IF(ISNUMBER(MATCH(D227,Clubs,0)),MIN(K$214:K226)-1,"NC") -> NC
... K329: =IF(ISNUMBER(MATCH(D329,Clubs,0)),MIN(K$214:K328)-1,"NC") -> NC
C331: SHORT GREEN
C332: Name | D332: Club | E332: Class | K332: Galoppen Score
K333: 100
K334: =IF(ISNUMBER(MATCH(D334,Clubs,0)),MIN(K333:K$333)-1,"NC") -> NC
K335: =IF(ISNUMBER(MATCH(D335,Clubs,0)),MIN(K$333:K334)-1,"NC") -> NC
K336: =IF(ISNUMBER(MATCH(D336,Clubs,0)),MIN(K$333:K335)-1,"NC") -> NC
K337: =IF(ISNUMBER(MATCH(D337,Clubs,0)),MIN(K$333:K336)-1,"NC") -> NC
K338: =IF(ISNUMBER(MATCH(D338,Clubs,0)),MIN(K$333:K337)-1,"NC") -> NC
K339: =IF(ISNUMBER(MATCH(D339,Clubs,0)),MIN(K$333:K338)-1,"NC") -> NC
K340: =IF(ISNUMBER(MATCH(D340,Clubs,0)),MIN(K$333:K339)-1,"NC") -> NC
K341: =IF(ISNUMBER(MATCH(D341,Clubs,0)),MIN(K$333:K340)-1,"NC") -> NC
K342: =IF(ISNUMBER(MATCH(D342,Clubs,0)),MIN(K$333:K341)-1,"NC") -> NC
K343: =IF(ISNUMBER(MATCH(D343,Clubs,0)),MIN(K$333:K342)-1,"NC") -> NC
K344: =IF(ISNUMBER(MATCH(D344,Clubs,0)),MIN(K$333:K343)-1,"NC") -> NC
K345: =IF(ISNUMBER(MATCH(D345,Clubs,0)),MIN(K$333:K344)-1,"NC") -> NC
K346: =IF(ISNUMBER(MATCH(D346,Clubs,0)),MIN(K$333:K345)-1,"NC") -> NC
... K387: =IF(ISNUMBER(MATCH(D387,Clubs,0)),MIN(K$333:K386)-1,"NC") -> NC
C394: VERY SHORT GREEN
C395: Name | D395: Club | E395: Class | K395: Galoppen Score
K396: 100
K397: =IF(ISNUMBER(MATCH(D397,Clubs,0)),MIN(K396:K$396)-1,"NC") -> NC
K398: =IF(ISNUMBER(MATCH(D398,Clubs,0)),MIN(K$396:K397)-1,"NC") -> NC
K399: =IF(ISNUMBER(MATCH(D399,Clubs,0)),MIN(K$396:K398)-1,"NC") -> NC
K400: =IF(ISNUMBER(MATCH(D400,Clubs,0)),MIN(K$396:K399)-1,"NC") -> NC
K401: =IF(ISNUMBER(MATCH(D401,Clubs,0)),MIN(K$396:K400)-1,"NC") -> NC
K402: =IF(ISNUMBER(MATCH(D402,Clubs,0)),MIN(K$396:K401)-1,"NC") -> NC
K403: =IF(ISNUMBER(MATCH(D403,Clubs,0)),MIN(K$396:K402)-1,"NC") -> NC
K404: =IF(ISNUMBER(MATCH(D404,Clubs,0)),MIN(K$396:K403)-1,"NC") -> NC
C410: LIGHT GREEN
C411: Name | D411: Club | E411: Class | K411: Galoppen Score
K412: 100
K413: =IF(ISNUMBER(MATCH(D413,Clubs,0)),MIN(K412:K$412)-1,"NC") -> NC
K414: =IF(ISNUMBER(MATCH(D414,Clubs,0)),MIN(K$412:K413)-1,"NC") -> NC
K415: =IF(ISNUMBER(MATCH(D415,Clubs,0)),MIN(K$412:K414)-1,"NC") -> NC
K416: =IF(ISNUMBER(MATCH(D416,Clubs,0)),MIN(K$412:K415)-1,"NC") -> NC
K417: =IF(ISNUMBER(MATCH(D417,Clubs,0)),MIN(K$412:K416)-1,"NC") -> NC
K418: =IF(ISNUMBER(MATCH(D418,Clubs,0)),MIN(K$412:K417)-1,"NC") -> NC
K419: =IF(ISNUMBER(MATCH(D419,Clubs,0)),MIN(K$412:K418)-1,"NC") -> NC
K420: =IF(ISNUMBER(MATCH(D420,Clubs,0)),MIN(K$412:K419)-1,"NC") -> NC
K421: =IF(ISNUMBER(MATCH(D421,Clubs,0)),MIN(K$412:K420)-1,"NC") -> NC
K422: =IF(ISNUMBER(MATCH(D422,Clubs,0)),MIN(K$412:K421)-1,"NC") -> NC
K423: =IF(ISNUMBER(MATCH(D423,Clubs,0)),MIN(K$412:K422)-1,"NC") -> NC
K424: =IF(ISNUMBER(MATCH(D424,Clubs,0)),MIN(K$412:K423)-1,"NC") -> NC
K425: =IF(ISNUMBER(MATCH(D425,Clubs,0)),MIN(K$412:K424)-1,"NC") -> NC
C428: ORANGE
C429: Name | D429: Club | E429: Class | K429: Galoppen Score
K430: 100
...

Sheet 7
B2: Results for
C4: BROWN
C5: Name | D5: Club | E5: Class | L5: Galoppen Score | Q5: BL | R5: =COUNTIF(C:D,Q5) -> 0
L6: 100 | Q6: LOC | R6: =COUNTIF(C:D,Q6) -> 0
L7: =IF(ISNUMBER(MATCH(D7,Clubs,0)),MIN(L$6:L6)-1,"NC") -> NC | Q7: SROC | R7: =COUNTIF(C:D,Q7) -> 0
L8: =IF(ISNUMBER(MATCH(D8,Clubs,0)),MIN(L$6:L7)-1,"NC") -> NC | Q8: WAROC | R8: =COUNTIF(C:D,Q8) -> 0
L9: =IF(ISNUMBER(MATCH(D9,Clubs,0)),MIN(L$6:L8)-1,"NC") -> NC | Q9: WCOC | R9: =COUNTIF(C:D,Q9) -> 0
L10: =IF(ISNUMBER(MATCH(D10,Clubs,0)),MIN(L$6:L9)-1,"NC") -> NC
L11: =IF(ISNUMBER(MATCH(D11,Clubs,0)),MIN(L$6:L10)-1,"NC") -> NC
L12: =IF(ISNUMBER(MATCH(D12,Clubs,0)),MIN(L$6:L11)-1,"NC") -> NC
L13: =IF(ISNUMBER(MATCH(D13,Clubs,0)),MIN(L$6:L12)-1,"NC") -> NC
L14: =IF(ISNUMBER(MATCH(D14,Clubs,0)),MIN(L$6:L13)-1,"NC") -> NC
L15: =IF(ISNUMBER(MATCH(D15,Clubs,0)),MIN(L$6:L14)-1,"NC") -> NC
L16: =IF(ISNUMBER(MATCH(D16,Clubs,0)),MIN(L$6:L15)-1,"NC") -> NC
L17: =IF(ISNUMBER(MATCH(D17,Clubs,0)),MIN(L$6:L16)-1,"NC") -> NC
L18: =IF(ISNUMBER(MATCH(D18,Clubs,0)),MIN(L$6:L17)-1,"NC") -> NC
L19: =IF(ISNUMBER(MATCH(D19,Clubs,0)),MIN(L$6:L18)-1,"NC") -> NC
L20: =IF(ISNUMBER(MATCH(D20,Clubs,0)),MIN(L$6:L19)-1,"NC") -> NC
L21: =IF(ISNUMBER(MATCH(D21,Clubs,0)),MIN(L$6:L20)-1,"NC") -> NC
... L107: =IF(ISNUMBER(MATCH(D107,Clubs,0)),MIN(L$6:L106)-1,"NC") -> NC
C110: BLUE
C111: Name | D111: Club | E111: Class | L111: Galoppen Score
L112: 100
L113: =IF(ISNUMBER(MATCH(D113,Clubs,0)),MIN(L$112:L112)-1,"NC") -> NC
L114: =IF(ISNUMBER(MATCH(D114,Clubs,0)),MIN(L$112:L113)-1,"NC") -> NC
L115: =IF(ISNUMBER(MATCH(D115,Clubs,0)),MIN(L$112:L114)-1,"NC") -> NC
L116: =IF(ISNUMBER(MATCH(D116,Clubs,0)),MIN(L$112:L115)-1,"NC") -> NC
L117: =IF(ISNUMBER(MATCH(D117,Clubs,0)),MIN(L$112:L116)-1,"NC") -> NC
L118: =IF(ISNUMBER(MATCH(D118,Clubs,0)),MIN(L$112:L117)-1,"NC") -> NC
L119: =IF(ISNUMBER(MATCH(D119,Clubs,0)),MIN(L$112:L118)-1,"NC") -> NC
L120: =IF(ISNUMBER(MATCH(D120,Clubs,0)),MIN(L$112:L119)-1,"NC") -> NC
L121: =IF(ISNUMBER(MATCH(D121,Clubs,0)),MIN(L$112:L120)-1,"NC") -> NC
L122: =IF(ISNUMBER(MATCH(D122,Clubs,0)),MIN(L$112:L121)-1,"NC") -> NC
L123: =IF(ISNUMBER(MATCH(D123,Clubs,0)),MIN(L$112:L122)-1,"NC") -> NC
L124: =IF(ISNUMBER(MATCH(D124,Clubs,0)),MIN(L$112:L123)-1,"NC") -> NC
... L209: =IF(ISNUMBER(MATCH(D209,Clubs,0)),MIN(L$112:L208)-1,"NC") -> NC
C212: GREEN
C213: Name | D213: Club | E213: Class | L213: Galoppen Score
L214: 100
L215: =IF(ISNUMBER(MATCH(D215,Clubs,0)),MIN(L214:L$214)-1,"NC") -> NC
L216: =IF(ISNUMBER(MATCH(D216,Clubs,0)),MIN(L$214:L215)-1,"NC") -> NC
L217: =IF(ISNUMBER(MATCH(D217,Clubs,0)),MIN(L$214:L216)-1,"NC") -> NC
L218: =IF(ISNUMBER(MATCH(D218,Clubs,0)),MIN(L$214:L217)-1,"NC") -> NC
L219: =IF(ISNUMBER(MATCH(D219,Clubs,0)),MIN(L$214:L218)-1,"NC") -> NC
L220: =IF(ISNUMBER(MATCH(D220,Clubs,0)),MIN(L$214:L219)-1,"NC") -> NC
L221: =IF(ISNUMBER(MATCH(D221,Clubs,0)),MIN(L$214:L220)-1,"NC") -> NC
L222: =IF(ISNUMBER(MATCH(D222,Clubs,0)),MIN(L$214:L221)-1,"NC") -> NC
L223: =IF(ISNUMBER(MATCH(D223,Clubs,0)),MIN(L$214:L222)-1,"NC") -> NC
L224: =IF(ISNUMBER(MATCH(D224,Clubs,0)),MIN(L$214:L223)-1,"NC") -> NC
L225: =IF(ISNUMBER(MATCH(D225,Clubs,0)),MIN(L$214:L224)-1,"NC") -> NC
L226: =IF(ISNUMBER(MATCH(D226,Clubs,0)),MIN(L$214:L225)-1,"NC") -> NC
L227: =IF(ISNUMBER(MATCH(D227,Clubs,0)),MIN(L$214:L226)-1,"NC") -> NC
... L329: =IF(ISNUMBER(MATCH(D329,Clubs,0)),MIN(L$214:L328)-1,"NC") -> NC
C331: SHORT GREEN
C332: Name | D332: Club | E332: Class | L332: Galoppen Score
L333: 100
L334: =IF(ISNUMBER(MATCH(D334,Clubs,0)),MIN(L333:L$333)-1,"NC") -> NC
L335: =IF(ISNUMBER(MATCH(D335,Clubs,0)),MIN(L$333:L334)-1,"NC") -> NC
L336: =IF(ISNUMBER(MATCH(D336,Clubs,0)),MIN(L$333:L335)-1,"NC") -> NC
L337: =IF(ISNUMBER(MATCH(D337,Clubs,0)),MIN(L$333:L336)-1,"NC") -> NC
L338: =IF(ISNUMBER(MATCH(D338,Clubs,0)),MIN(L$333:L337)-1,"NC") -> NC
L339: =IF(ISNUMBER(MATCH(D339,Clubs,0)),MIN(L$333:L338)-1,"NC") -> NC
L340: =IF(ISNUMBER(MATCH(D340,Clubs,0)),MIN(L$333:L339)-1,"NC") -> NC
L341: =IF(ISNUMBER(MATCH(D341,Clubs,0)),MIN(L$333:L340)-1,"NC") -> NC
L342: =IF(ISNUMBER(MATCH(D342,Clubs,0)),MIN(L$333:L341)-1,"NC") -> NC
L343: =IF(ISNUMBER(MATCH(D343,Clubs,0)),MIN(L$333:L342)-1,"NC") -> NC
L344: =IF(ISNUMBER(MATCH(D344,Clubs,0)),MIN(L$333:L343)-1,"NC") -> NC
L345: =IF(ISNUMBER(MATCH(D345,Clubs,0)),MIN(L$333:L344)-1,"NC") -> NC
L346: =IF(ISNUMBER(MATCH(D346,Clubs,0)),MIN(L$333:L345)-1,"NC") -> NC
... L387: =IF(ISNUMBER(MATCH(D387,Clubs,0)),MIN(L$333:L386)-1,"NC") -> NC
C394: VERY SHORT GREEN
C395: Name | D395: Club | E395: Class | L395: Galoppen Score
L396: 100
L397: =IF(ISNUMBER(MATCH(D397,Clubs,0)),MIN(L396:L$396)-1,"NC") -> NC
L398: =IF(ISNUMBER(MATCH(D398,Clubs,0)),MIN(L$396:L397)-1,"NC") -> NC
L399: =IF(ISNUMBER(MATCH(D399,Clubs,0)),MIN(L$396:L398)-1,"NC") -> NC
L400: =IF(ISNUMBER(MATCH(D400,Clubs,0)),MIN(L$396:L399)-1,"NC") -> NC
L401: =IF(ISNUMBER(MATCH(D401,Clubs,0)),MIN(L$396:L400)-1,"NC") -> NC
L402: =IF(ISNUMBER(MATCH(D402,Clubs,0)),MIN(L$396:L401)-1,"NC") -> NC
L403: =IF(ISNUMBER(MATCH(D403,Clubs,0)),MIN(L$396:L402)-1,"NC") -> NC
L404: =IF(ISNUMBER(MATCH(D404,Clubs,0)),MIN(L$396:L403)-1,"NC") -> NC
C410: LIGHT GREEN
C411: Name | D411: Club | E411: Class | L411: Galoppen Score
L412: 100
L413: =IF(ISNUMBER(MATCH(D413,Clubs,0)),MIN(L412:L$412)-1,"NC") -> NC
L414: =IF(ISNUMBER(MATCH(D414,Clubs,0)),MIN(L$412:L413)-1,"NC") -> NC
L415: =IF(ISNUMBER(MATCH(D415,Clubs,0)),MIN(L$412:L414)-1,"NC") -> NC
L416: =IF(ISNUMBER(MATCH(D416,Clubs,0)),MIN(L$412:L415)-1,"NC") -> NC
L417: =IF(ISNUMBER(MATCH(D417,Clubs,0)),MIN(L$412:L416)-1,"NC") -> NC
L418: =IF(ISNUMBER(MATCH(D418,Clubs,0)),MIN(L$412:L417)-1,"NC") -> NC
L419: =IF(ISNUMBER(MATCH(D419,Clubs,0)),MIN(L$412:L418)-1,"NC") -> NC
L420: =IF(ISNUMBER(MATCH(D420,Clubs,0)),MIN(L$412:L419)-1,"NC") -> NC
L421: =IF(ISNUMBER(MATCH(D421,Clubs,0)),MIN(L$412:L420)-1,"NC") -> NC
L422: =IF(ISNUMBER(MATCH(D422,Clubs,0)),MIN(L$412:L421)-1,"NC") -> NC
L423: =IF(ISNUMBER(MATCH(D423,Clubs,0)),MIN(L$412:L422)-1,"NC") -> NC
L424: =IF(ISNUMBER(MATCH(D424,Clubs,0)),MIN(L$412:L423)-1,"NC") -> NC
L425: =IF(ISNUMBER(MATCH(D425,Clubs,0)),MIN(L$412:L424)-1,"NC") -> NC
C428: ORANGE
C429: Name | D429: Club | E429: Class | L429: Galoppen Score
L430: 100
...

Sheet 8
B2: Results for
C4: BROWN
C5: Name | D5: Club | E5: Class | M5: Galoppen Score | R5: BL | S5: =COUNTIF(C:D,R5) -> 0
M6: 100 | R6: LOC | S6: =COUNTIF(C:D,R6) -> 0
M7: =IF(ISNUMBER(MATCH(D7,Clubs,0)),MIN(M$6:M6)-1,"NC") -> NC | R7: SROC | S7: =COUNTIF(C:D,R7) -> 0
M8: =IF(ISNUMBER(MATCH(D8,Clubs,0)),MIN(M$6:M7)-1,"NC") -> NC | R8: WAROC | S8: =COUNTIF(C:D,R8) -> 0
M9: =IF(ISNUMBER(MATCH(D9,Clubs,0)),MIN(M$6:M8)-1,"NC") -> NC | R9: WCOC | S9: =COUNTIF(C:D,R9) -> 0
M10: =IF(ISNUMBER(MATCH(D10,Clubs,0)),MIN(M$6:M9)-1,"NC") -> NC
M11: =IF(ISNUMBER(MATCH(D11,Clubs,0)),MIN(M$6:M10)-1,"NC") -> NC
M12: =IF(ISNUMBER(MATCH(D12,Clubs,0)),MIN(M$6:M11)-1,"NC") -> NC
M13: =IF(ISNUMBER(MATCH(D13,Clubs,0)),MIN(M$6:M12)-1,"NC") -> NC
M14: =IF(ISNUMBER(MATCH(D14,Clubs,0)),MIN(M$6:M13)-1,"NC") -> NC
M15: =IF(ISNUMBER(MATCH(D15,Clubs,0)),MIN(M$6:M14)-1,"NC") -> NC
M16: =IF(ISNUMBER(MATCH(D16,Clubs,0)),MIN(M$6:M15)-1,"NC") -> NC
M17: =IF(ISNUMBER(MATCH(D17,Clubs,0)),MIN(M$6:M16)-1,"NC") -> NC
M18: =IF(ISNUMBER(MATCH(D18,Clubs,0)),MIN(M$6:M17)-1,"NC") -> NC
M19: =IF(ISNUMBER(MATCH(D19,Clubs,0)),MIN(M$6:M18)-1,"NC") -> NC
M20: =IF(ISNUMBER(MATCH(D20,Clubs,0)),MIN(M$6:M19)-1,"NC") -> NC
M21: =IF(ISNUMBER(MATCH(D21,Clubs,0)),MIN(M$6:M20)-1,"NC") -> NC
... M107: =IF(ISNUMBER(MATCH(D107,Clubs,0)),MIN(M$6:M106)-1,"NC") -> NC
C110: BLUE
C111: Name | D111: Club | E111: Class | M111: Galoppen Score
M112: 100
M113: =IF(ISNUMBER(MATCH(D113,Clubs,0)),MIN(M$112:M112)-1,"NC") -> NC
M114: =IF(ISNUMBER(MATCH(D114,Clubs,0)),MIN(M$112:M113)-1,"NC") -> NC
M115: =IF(ISNUMBER(MATCH(D115,Clubs,0)),MIN(M$112:M114)-1,"NC") -> NC
M116: =IF(ISNUMBER(MATCH(D116,Clubs,0)),MIN(M$112:M115)-1,"NC") -> NC
M117: =IF(ISNUMBER(MATCH(D117,Clubs,0)),MIN(M$112:M116)-1,"NC") -> NC
M118: =IF(ISNUMBER(MATCH(D118,Clubs,0)),MIN(M$112:M117)-1,"NC") -> NC
M119: =IF(ISNUMBER(MATCH(D119,Clubs,0)),MIN(M$112:M118)-1,"NC") -> NC
M120: =IF(ISNUMBER(MATCH(D120,Clubs,0)),MIN(M$112:M119)-1,"NC") -> NC
M121: =IF(ISNUMBER(MATCH(D121,Clubs,0)),MIN(M$112:M120)-1,"NC") -> NC
M122: =IF(ISNUMBER(MATCH(D122,Clubs,0)),MIN(M$112:M121)-1,"NC") -> NC
M123: =IF(ISNUMBER(MATCH(D123,Clubs,0)),MIN(M$112:M122)-1,"NC") -> NC
M124: =IF(ISNUMBER(MATCH(D124,Clubs,0)),MIN(M$112:M123)-1,"NC") -> NC
... M209: =IF(ISNUMBER(MATCH(D209,Clubs,0)),MIN(M$112:M208)-1,"NC") -> NC
C212: GREEN
C213: Name | D213: Club | E213: Class | M213: Galoppen Score
M214: 100
M215: =IF(ISNUMBER(MATCH(D215,Clubs,0)),MIN(M214:M$214)-1,"NC") -> NC
M216: =IF(ISNUMBER(MATCH(D216,Clubs,0)),MIN(M$214:M215)-1,"NC") -> NC
M217: =IF(ISNUMBER(MATCH(D217,Clubs,0)),MIN(M$214:M216)-1,"NC") -> NC
M218: =IF(ISNUMBER(MATCH(D218,Clubs,0)),MIN(M$214:M217)-1,"NC") -> NC
M219: =IF(ISNUMBER(MATCH(D219,Clubs,0)),MIN(M$214:M218)-1,"NC") -> NC
M220: =IF(ISNUMBER(MATCH(D220,Clubs,0)),MIN(M$214:M219)-1,"NC") -> NC
M221: =IF(ISNUMBER(MATCH(D221,Clubs,0)),MIN(M$214:M220)-1,"NC") -> NC
M222: =IF(ISNUMBER(MATCH(D222,Clubs,0)),MIN(M$214:M221)-1,"NC") -> NC
M223: =IF(ISNUMBER(MATCH(D223,Clubs,0)),MIN(M$214:M222)-1,"NC") -> NC
M224: =IF(ISNUMBER(MATCH(D224,Clubs,0)),MIN(M$214:M223)-1,"NC") -> NC
M225: =IF(ISNUMBER(MATCH(D225,Clubs,0)),MIN(M$214:M224)-1,"NC") -> NC
M226: =IF(ISNUMBER(MATCH(D226,Clubs,0)),MIN(M$214:M225)-1,"NC") -> NC
M227: =IF(ISNUMBER(MATCH(D227,Clubs,0)),MIN(M$214:M226)-1,"NC") -> NC
... M329: =IF(ISNUMBER(MATCH(D329,Clubs,0)),MIN(M$214:M328)-1,"NC") -> NC
C331: SHORT GREEN
C332: Name | D332: Club | E332: Class | M332: Galoppen Score
M333: 100
M334: =IF(ISNUMBER(MATCH(D334,Clubs,0)),MIN(M333:M$333)-1,"NC") -> NC
M335: =IF(ISNUMBER(MATCH(D335,Clubs,0)),MIN(M$333:M334)-1,"NC") -> NC
M336: =IF(ISNUMBER(MATCH(D336,Clubs,0)),MIN(M$333:M335)-1,"NC") -> NC
M337: =IF(ISNUMBER(MATCH(D337,Clubs,0)),MIN(M$333:M336)-1,"NC") -> NC
M338: =IF(ISNUMBER(MATCH(D338,Clubs,0)),MIN(M$333:M337)-1,"NC") -> NC
M339: =IF(ISNUMBER(MATCH(D339,Clubs,0)),MIN(M$333:M338)-1,"NC") -> NC
M340: =IF(ISNUMBER(MATCH(D340,Clubs,0)),MIN(M$333:M339)-1,"NC") -> NC
M341: =IF(ISNUMBER(MATCH(D341,Clubs,0)),MIN(M$333:M340)-1,"NC") -> NC
M342: =IF(ISNUMBER(MATCH(D342,Clubs,0)),MIN(M$333:M341)-1,"NC") -> NC
M343: =IF(ISNUMBER(MATCH(D343,Clubs,0)),MIN(M$333:M342)-1,"NC") -> NC
M344: =IF(ISNUMBER(MATCH(D344,Clubs,0)),MIN(M$333:M343)-1,"NC") -> NC
M345: =IF(ISNUMBER(MATCH(D345,Clubs,0)),MIN(M$333:M344)-1,"NC") -> NC
M346: =IF(ISNUMBER(MATCH(D346,Clubs,0)),MIN(M$333:M345)-1,"NC") -> NC
... M387: =IF(ISNUMBER(MATCH(D387,Clubs,0)),MIN(M$333:M386)-1,"NC") -> NC
C394: VERY SHORT GREEN
C395: Name | D395: Club | E395: Class | M395: Galoppen Score
M396: 100
M397: =IF(ISNUMBER(MATCH(D397,Clubs,0)),MIN(M396:M$396)-1,"NC") -> NC
M398: =IF(ISNUMBER(MATCH(D398,Clubs,0)),MIN(M$396:M397)-1,"NC") -> NC
M399: =IF(ISNUMBER(MATCH(D399,Clubs,0)),MIN(M$396:M398)-1,"NC") -> NC
M400: =IF(ISNUMBER(MATCH(D400,Clubs,0)),MIN(M$396:M399)-1,"NC") -> NC
M401: =IF(ISNUMBER(MATCH(D401,Clubs,0)),MIN(M$396:M400)-1,"NC") -> NC
M402: =IF(ISNUMBER(MATCH(D402,Clubs,0)),MIN(M$396:M401)-1,"NC") -> NC
M403: =IF(ISNUMBER(MATCH(D403,Clubs,0)),MIN(M$396:M402)-1,"NC") -> NC
M404: =IF(ISNUMBER(MATCH(D404,Clubs,0)),MIN(M$396:M403)-1,"NC") -> NC
C410: LIGHT GREEN
C411: Name | D411: Club | E411: Class | M411: Galoppen Score
M412: 100
M413: =IF(ISNUMBER(MATCH(D413,Clubs,0)),MIN(M412:M$412)-1,"NC") -> NC
M414: =IF(ISNUMBER(MATCH(D414,Clubs,0)),MIN(M$412:M413)-1,"NC") -> NC
M415: =IF(ISNUMBER(MATCH(D415,Clubs,0)),MIN(M$412:M414)-1,"NC") -> NC
M416: =IF(ISNUMBER(MATCH(D416,Clubs,0)),MIN(M$412:M415)-1,"NC") -> NC
M417: =IF(ISNUMBER(MATCH(D417,Clubs,0)),MIN(M$412:M416)-1,"NC") -> NC
M418: =IF(ISNUMBER(MATCH(D418,Clubs,0)),MIN(M$412:M417)-1,"NC") -> NC
M419: =IF(ISNUMBER(MATCH(D419,Clubs,0)),MIN(M$412:M418)-1,"NC") -> NC
M420: =IF(ISNUMBER(MATCH(D420,Clubs,0)),MIN(M$412:M419)-1,"NC") -> NC
M421: =IF(ISNUMBER(MATCH(D421,Clubs,0)),MIN(M$412:M420)-1,"NC") -> NC
M422: =IF(ISNUMBER(MATCH(D422,Clubs,0)),MIN(M$412:M421)-1,"NC") -> NC
M423: =IF(ISNUMBER(MATCH(D423,Clubs,0)),MIN(M$412:M422)-1,"NC") -> NC
M424: =IF(ISNUMBER(MATCH(D424,Clubs,0)),MIN(M$412:M423)-1,"NC") -> NC
M425: =IF(ISNUMBER(MATCH(D425,Clubs,0)),MIN(M$412:M424)-1,"NC") -> NC
C428: ORANGE
C429: Name | D429: Club | E429: Class | M429: Galoppen Score
M430: 100
...

Sheet 9
B2: Results for
C4: BROWN
C5: Name | D5: Club | E5: Class | N5: Galoppen Score | S5: BL | T5: =COUNTIF(C:D,S5) -> 0
N6: 100 | S6: LOC | T6: =COUNTIF(C:D,S6) -> 0
N7: =IF(ISNUMBER(MATCH(D7,Clubs,0)),MIN(N$6:N6)-1,"NC") -> NC | S7: SROC | T7: =COUNTIF(C:D,S7) -> 0
N8: =IF(ISNUMBER(MATCH(D8,Clubs,0)),MIN(N$6:N7)-1,"NC") -> NC | S8: WAROC | T8: =COUNTIF(C:D,S8) -> 0
N9: =IF(ISNUMBER(MATCH(D9,Clubs,0)),MIN(N$6:N8)-1,"NC") -> NC | S9: WCOC | T9: =COUNTIF(C:D,S9) -> 0
N10: =IF(ISNUMBER(MATCH(D10,Clubs,0)),MIN(N$6:N9)-1,"NC") -> NC
N11: =IF(ISNUMBER(MATCH(D11,Clubs,0)),MIN(N$6:N10)-1,"NC") -> NC
N12: =IF(ISNUMBER(MATCH(D12,Clubs,0)),MIN(N$6:N11)-1,"NC") -> NC
N13: =IF(ISNUMBER(MATCH(D13,Clubs,0)),MIN(N$6:N12)-1,"NC") -> NC
N14: =IF(ISNUMBER(MATCH(D14,Clubs,0)),MIN(N$6:N13)-1,"NC") -> NC
N15: =IF(ISNUMBER(MATCH(D15,Clubs,0)),MIN(N$6:N14)-1,"NC") -> NC
N16: =IF(ISNUMBER(MATCH(D16,Clubs,0)),MIN(N$6:N15)-1,"NC") -> NC
N17: =IF(ISNUMBER(MATCH(D17,Clubs,0)),MIN(N$6:N16)-1,"NC") -> NC
N18: =IF(ISNUMBER(MATCH(D18,Clubs,0)),MIN(N$6:N17)-1,"NC") -> NC
N19: =IF(ISNUMBER(MATCH(D19,Clubs,0)),MIN(N$6:N18)-1,"NC") -> NC
N20: =IF(ISNUMBER(MATCH(D20,Clubs,0)),MIN(N$6:N19)-1,"NC") -> NC
N21: =IF(ISNUMBER(MATCH(D21,Clubs,0)),MIN(N$6:N20)-1,"NC") -> NC
... N107: =IF(ISNUMBER(MATCH(D107,Clubs,0)),MIN(N$6:N106)-1,"NC") -> NC
C110: BLUE
C111: Name | D111: Club | E111: Class | N111: Galoppen Score
N112: 100
N113: =IF(ISNUMBER(MATCH(D113,Clubs,0)),MIN(N$112:N112)-1,"NC") -> NC
N114: =IF(ISNUMBER(MATCH(D114,Clubs,0)),MIN(N$112:N113)-1,"NC") -> NC
N115: =IF(ISNUMBER(MATCH(D115,Clubs,0)),MIN(N$112:N114)-1,"NC") -> NC
N116: =IF(ISNUMBER(MATCH(D116,Clubs,0)),MIN(N$112:N115)-1,"NC") -> NC
N117: =IF(ISNUMBER(MATCH(D117,Clubs,0)),MIN(N$112:N116)-1,"NC") -> NC
N118: =IF(ISNUMBER(MATCH(D118,Clubs,0)),MIN(N$112:N117)-1,"NC") -> NC
N119: =IF(ISNUMBER(MATCH(D119,Clubs,0)),MIN(N$112:N118)-1,"NC") -> NC
N120: =IF(ISNUMBER(MATCH(D120,Clubs,0)),MIN(N$112:N119)-1,"NC") -> NC
N121: =IF(ISNUMBER(MATCH(D121,Clubs,0)),MIN(N$112:N120)-1,"NC") -> NC
N122: =IF(ISNUMBER(MATCH(D122,Clubs,0)),MIN(N$112:N121)-1,"NC") -> NC
N123: =IF(ISNUMBER(MATCH(D123,Clubs,0)),MIN(N$112:N122)-1,"NC") -> NC
N124: =IF(ISNUMBER(MATCH(D124,Clubs,0)),MIN(N$112:N123)-1,"NC") -> NC
... N209: =IF(ISNUMBER(MATCH(D209,Clubs,0)),MIN(N$112:N208)-1,"NC") -> NC
C212: GREEN
C213: Name | D213: Club | E213: Class | N213: Galoppen Score
N214: 100
N215: =IF(ISNUMBER(MATCH(D215,Clubs,0)),MIN(N214:N$214)-1,"NC") -> NC
N216: =IF(ISNUMBER(MATCH(D216,Clubs,0)),MIN(N$214:N215)-1,"NC") -> NC
N217: =IF(ISNUMBER(MATCH(D217,Clubs,0)),MIN(N$214:N216)-1,"NC") -> NC
N218: =IF(ISNUMBER(MATCH(D218,Clubs,0)),MIN(N$214:N217)-1,"NC") -> NC
N219: =IF(ISNUMBER(MATCH(D219,Clubs,0)),MIN(N$214:N218)-1,"NC") -> NC
N220: =IF(ISNUMBER(MATCH(D220,Clubs,0)),MIN(N$214:N219)-1,"NC") -> NC
N221: =IF(ISNUMBER(MATCH(D221,Clubs,0)),MIN(N$214:N220)-1,"NC") -> NC
N222: =IF(ISNUMBER(MATCH(D222,Clubs,0)),MIN(N$214:N221)-1,"NC") -> NC
N223: =IF(ISNUMBER(MATCH(D223,Clubs,0)),MIN(N$214:N222)-1,"NC") -> NC
N224: =IF(ISNUMBER(MATCH(D224,Clubs,0)),MIN(N$214:N223)-1,"NC") -> NC
N225: =IF(ISNUMBER(MATCH(D225,Clubs,0)),MIN(N$214:N224)-1,"NC") -> NC
N226: =IF(ISNUMBER(MATCH(D226,Clubs,0)),MIN(N$214:N225)-1,"NC") -> NC
N227: =IF(ISNUMBER(MATCH(D227,Clubs,0)),MIN(N$214:N226)-1,"NC") -> NC
... N329: =IF(ISNUMBER(MATCH(D329,Clubs,0)),MIN(N$214:N328)-1,"NC") -> NC
C331: SHORT GREEN
C332: Name | D332: Club | E332: Class | N332: Galoppen Score
N333: 100
N334: =IF(ISNUMBER(MATCH(D334,Clubs,0)),MIN(N333:N$333)-1,"NC") -> NC
N335: =IF(ISNUMBER(MATCH(D335,Clubs,0)),MIN(N$333:N334)-1,"NC") -> NC
N336: =IF(ISNUMBER(MATCH(D336,Clubs,0)),MIN(N$333:N335)-1,"NC") -> NC
N337: =IF(ISNUMBER(MATCH(D337,Clubs,0)),MIN(N$333:N336)-1,"NC") -> NC
N338: =IF(ISNUMBER(MATCH(D338,Clubs,0)),MIN(N$333:N337)-1,"NC") -> NC
N339: =IF(ISNUMBER(MATCH(D339,Clubs,0)),MIN(N$333:N338)-1,"NC") -> NC
N340: =IF(ISNUMBER(MATCH(D340,Clubs,0)),MIN(N$333:N339)-1,"NC") -> NC
N341: =IF(ISNUMBER(MATCH(D341,Clubs,0)),MIN(N$333:N340)-1,"NC") -> NC
N342: =IF(ISNUMBER(MATCH(D342,Clubs,0)),MIN(N$333:N341)-1,"NC") -> NC
N343: =IF(ISNUMBER(MATCH(D343,Clubs,0)),MIN(N$333:N342)-1,"NC") -> NC
N344: =IF(ISNUMBER(MATCH(D344,Clubs,0)),MIN(N$333:N343)-1,"NC") -> NC
N345: =IF(ISNUMBER(MATCH(D345,Clubs,0)),MIN(N$333:N344)-1,"NC") -> NC
N346: =IF(ISNUMBER(MATCH(D346,Clubs,0)),MIN(N$333:N345)-1,"NC") -> NC
... N387: =IF(ISNUMBER(MATCH(D387,Clubs,0)),MIN(N$333:N386)-1,"NC") -> NC
C394: VERY SHORT GREEN
C395: Name | D395: Club | E395: Class | N395: Galoppen Score
N396: 100
N397: =IF(ISNUMBER(MATCH(D397,Clubs,0)),MIN(N396:N$396)-1,"NC") -> NC
N398: =IF(ISNUMBER(MATCH(D398,Clubs,0)),MIN(N$396:N397)-1,"NC") -> NC
N399: =IF(ISNUMBER(MATCH(D399,Clubs,0)),MIN(N$396:N398)-1,"NC") -> NC
N400: =IF(ISNUMBER(MATCH(D400,Clubs,0)),MIN(N$396:N399)-1,"NC") -> NC
N401: =IF(ISNUMBER(MATCH(D401,Clubs,0)),MIN(N$396:N400)-1,"NC") -> NC
N402: =IF(ISNUMBER(MATCH(D402,Clubs,0)),MIN(N$396:N401)-1,"NC") -> NC
N403: =IF(ISNUMBER(MATCH(D403,Clubs,0)),MIN(N$396:N402)-1,"NC") -> NC
N404: =IF(ISNUMBER(MATCH(D404,Clubs,0)),MIN(N$396:N403)-1,"NC") -> NC
C410: LIGHT GREEN
C411: Name | D411: Club | E411: Class | N411: Galoppen Score
N412: 100
N413: =IF(ISNUMBER(MATCH(D413,Clubs,0)),MIN(N412:N$412)-1,"NC") -> NC
N414: =IF(ISNUMBER(MATCH(D414,Clubs,0)),MIN(N$412:N413)-1,"NC") -> NC
N415: =IF(ISNUMBER(MATCH(D415,Clubs,0)),MIN(N$412:N414)-1,"NC") -> NC
N416: =IF(ISNUMBER(MATCH(D416,Clubs,0)),MIN(N$412:N415)-1,"NC") -> NC
N417: =IF(ISNUMBER(MATCH(D417,Clubs,0)),MIN(N$412:N416)-1,"NC") -> NC
N418: =IF(ISNUMBER(MATCH(D418,Clubs,0)),MIN(N$412:N417)-1,"NC") -> NC
N419: =IF(ISNUMBER(MATCH(D419,Clubs,0)),MIN(N$412:N418)-1,"NC") -> NC
N420: =IF(ISNUMBER(MATCH(D420,Clubs,0)),MIN(N$412:N419)-1,"NC") -> NC
N421: =IF(ISNUMBER(MATCH(D421,Clubs,0)),MIN(N$412:N420)-1,"NC") -> NC
N422: =IF(ISNUMBER(MATCH(D422,Clubs,0)),MIN(N$412:N421)-1,"NC") -> NC
N423: =IF(ISNUMBER(MATCH(D423,Clubs,0)),MIN(N$412:N422)-1,"NC") -> NC
N424: =IF(ISNUMBER(MATCH(D424,Clubs,0)),MIN(N$412:N423)-1,"NC") -> NC
N425: =IF(ISNUMBER(MATCH(D425,Clubs,0)),MIN(N$412:N424)-1,"NC") -> NC
C428: ORANGE
C429: Name | D429: Club | E429: Class | N429: Galoppen Score
N430: 100
...

Sheet 10
B2: Results for
C4: BROWN
C5: Name | D5: Club | E5: Class | O5: Galoppen Score | T5: BL | U5: =COUNTIF(C:D,T5) -> 0
O6: 100 | T6: LOC | U6: =COUNTIF(C:D,T6) -> 0
O7: =IF(ISNUMBER(MATCH(D7,Clubs,0)),MIN(O$6:O6)-1,"NC") -> NC | T7: SROC | U7: =COUNTIF(C:D,T7) -> 0
O8: =IF(ISNUMBER(MATCH(D8,Clubs,0)),MIN(O$6:O7)-1,"NC") -> NC | T8: WAROC | U8: =COUNTIF(C:D,T8) -> 0
O9: =IF(ISNUMBER(MATCH(D9,Clubs,0)),MIN(O$6:O8)-1,"NC") -> NC | T9: WCOC | U9: =COUNTIF(C:D,T9) -> 0
O10: =IF(ISNUMBER(MATCH(D10,Clubs,0)),MIN(O$6:O9)-1,"NC") -> NC
O11: =IF(ISNUMBER(MATCH(D11,Clubs,0)),MIN(O$6:O10)-1,"NC") -> NC
O12: =IF(ISNUMBER(MATCH(D12,Clubs,0)),MIN(O$6:O11)-1,"NC") -> NC
O13: =IF(ISNUMBER(MATCH(D13,Clubs,0)),MIN(O$6:O12)-1,"NC") -> NC
O14: =IF(ISNUMBER(MATCH(D14,Clubs,0)),MIN(O$6:O13)-1,"NC") -> NC
O15: =IF(ISNUMBER(MATCH(D15,Clubs,0)),MIN(O$6:O14)-1,"NC") -> NC
O16: =IF(ISNUMBER(MATCH(D16,Clubs,0)),MIN(O$6:O15)-1,"NC") -> NC
O17: =IF(ISNUMBER(MATCH(D17,Clubs,0)),MIN(O$6:O16)-1,"NC") -> NC
O18: =IF(ISNUMBER(MATCH(D18,Clubs,0)),MIN(O$6:O17)-1,"NC") -> NC
O19: =IF(ISNUMBER(MATCH(D19,Clubs,0)),MIN(O$6:O18)-1,"NC") -> NC
O20: =IF(ISNUMBER(MATCH(D20,Clubs,0)),MIN(O$6:O19)-1,"NC") -> NC
O21: =IF(ISNUMBER(MATCH(D21,Clubs,0)),MIN(O$6:O20)-1,"NC") -> NC
... O107: =IF(ISNUMBER(MATCH(D107,Clubs,0)),MIN(O$6:O106)-1,"NC") -> NC
C110: BLUE
C111: Name | D111: Club | E111: Class | O111: Galoppen Score
O112: 100
O113: =IF(ISNUMBER(MATCH(D113,Clubs,0)),MIN(O$112:O112)-1,"NC") -> NC
O114: =IF(ISNUMBER(MATCH(D114,Clubs,0)),MIN(O$112:O113)-1,"NC") -> NC
O115: =IF(ISNUMBER(MATCH(D115,Clubs,0)),MIN(O$112:O114)-1,"NC") -> NC
O116: =IF(ISNUMBER(MATCH(D116,Clubs,0)),MIN(O$112:O115)-1,"NC") -> NC
O117: =IF(ISNUMBER(MATCH(D117,Clubs,0)),MIN(O$112:O116)-1,"NC") -> NC
O118: =IF(ISNUMBER(MATCH(D118,Clubs,0)),MIN(O$112:O117)-1,"NC") -> NC
O119: =IF(ISNUMBER(MATCH(D119,Clubs,0)),MIN(O$112:O118)-1,"NC") -> NC
O120: =IF(ISNUMBER(MATCH(D120,Clubs,0)),MIN(O$112:O119)-1,"NC") -> NC
O121: =IF(ISNUMBER(MATCH(D121,Clubs,0)),MIN(O$112:O120)-1,"NC") -> NC
O122: =IF(ISNUMBER(MATCH(D122,Clubs,0)),MIN(O$112:O121)-1,"NC") -> NC
O123: =IF(ISNUMBER(MATCH(D123,Clubs,0)),MIN(O$112:O122)-1,"NC") -> NC
O124: =IF(ISNUMBER(MATCH(D124,Clubs,0)),MIN(O$112:O123)-1,"NC") -> NC
... O209: =IF(ISNUMBER(MATCH(D209,Clubs,0)),MIN(O$112:O208)-1,"NC") -> NC
C212: GREEN
C213: Name | D213: Club | E213: Class | O213: Galoppen Score
O214: 100
O215: =IF(ISNUMBER(MATCH(D215,Clubs,0)),MIN(O214:O$214)-1,"NC") -> NC
O216: =IF(ISNUMBER(MATCH(D216,Clubs,0)),MIN(O$214:O215)-1,"NC") -> NC
O217: =IF(ISNUMBER(MATCH(D217,Clubs,0)),MIN(O$214:O216)-1,"NC") -> NC
O218: =IF(ISNUMBER(MATCH(D218,Clubs,0)),MIN(O$214:O217)-1,"NC") -> NC
O219: =IF(ISNUMBER(MATCH(D219,Clubs,0)),MIN(O$214:O218)-1,"NC") -> NC
O220: =IF(ISNUMBER(MATCH(D220,Clubs,0)),MIN(O$214:O219)-1,"NC") -> NC
O221: =IF(ISNUMBER(MATCH(D221,Clubs,0)),MIN(O$214:O220)-1,"NC") -> NC
O222: =IF(ISNUMBER(MATCH(D222,Clubs,0)),MIN(O$214:O221)-1,"NC") -> NC
O223: =IF(ISNUMBER(MATCH(D223,Clubs,0)),MIN(O$214:O222)-1,"NC") -> NC
O224: =IF(ISNUMBER(MATCH(D224,Clubs,0)),MIN(O$214:O223)-1,"NC") -> NC
O225: =IF(ISNUMBER(MATCH(D225,Clubs,0)),MIN(O$214:O224)-1,"NC") -> NC
O226: =IF(ISNUMBER(MATCH(D226,Clubs,0)),MIN(O$214:O225)-1,"NC") -> NC
O227: =IF(ISNUMBER(MATCH(D227,Clubs,0)),MIN(O$214:O226)-1,"NC") -> NC
... O329: =IF(ISNUMBER(MATCH(D329,Clubs,0)),MIN(O$214:O328)-1,"NC") -> NC
C331: SHORT GREEN
C332: Name | D332: Club | E332: Class | O332: Galoppen Score
O333: 100
O334: =IF(ISNUMBER(MATCH(D334,Clubs,0)),MIN(O333:O$333)-1,"NC") -> NC
O335: =IF(ISNUMBER(MATCH(D335,Clubs,0)),MIN(O$333:O334)-1,"NC") -> NC
O336: =IF(ISNUMBER(MATCH(D336,Clubs,0)),MIN(O$333:O335)-1,"NC") -> NC
O337: =IF(ISNUMBER(MATCH(D337,Clubs,0)),MIN(O$333:O336)-1,"NC") -> NC
O338: =IF(ISNUMBER(MATCH(D338,Clubs,0)),MIN(O$333:O337)-1,"NC") -> NC
O339: =IF(ISNUMBER(MATCH(D339,Clubs,0)),MIN(O$333:O338)-1,"NC") -> NC
O340: =IF(ISNUMBER(MATCH(D340,Clubs,0)),MIN(O$333:O339)-1,"NC") -> NC
O341: =IF(ISNUMBER(MATCH(D341,Clubs,0)),MIN(O$333:O340)-1,"NC") -> NC
O342: =IF(ISNUMBER(MATCH(D342,Clubs,0)),MIN(O$333:O341)-1,"NC") -> NC
O343: =IF(ISNUMBER(MATCH(D343,Clubs,0)),MIN(O$333:O342)-1,"NC") -> NC
O344: =IF(ISNUMBER(MATCH(D344,Clubs,0)),MIN(O$333:O343)-1,"NC") -> NC
O345: =IF(ISNUMBER(MATCH(D345,Clubs,0)),MIN(O$333:O344)-1,"NC") -> NC
O346: =IF(ISNUMBER(MATCH(D346,Clubs,0)),MIN(O$333:O345)-1,"NC") -> NC
... O387: =IF(ISNUMBER(MATCH(D387,Clubs,0)),MIN(O$333:O386)-1,"NC") -> NC
C394: VERY SHORT GREEN
C395: Name | D395: Club | E395: Class | O395: Galoppen Score
O396: 100
O397: =IF(ISNUMBER(MATCH(D397,Clubs,0)),MIN(O396:O$396)-1,"NC") -> NC
O398: =IF(ISNUMBER(MATCH(D398,Clubs,0)),MIN(O$396:O397)-1,"NC") -> NC
O399: =IF(ISNUMBER(MATCH(D399,Clubs,0)),MIN(O$396:O398)-1,"NC") -> NC
O400: =IF(ISNUMBER(MATCH(D400,Clubs,0)),MIN(O$396:O399)-1,"NC") -> NC
O401: =IF(ISNUMBER(MATCH(D401,Clubs,0)),MIN(O$396:O400)-1,"NC") -> NC
O402: =IF(ISNUMBER(MATCH(D402,Clubs,0)),MIN(O$396:O401)-1,"NC") -> NC
O403: =IF(ISNUMBER(MATCH(D403,Clubs,0)),MIN(O$396:O402)-1,"NC") -> NC
O404: =IF(ISNUMBER(MATCH(D404,Clubs,0)),MIN(O$396:O403)-1,"NC") -> NC
C410: LIGHT GREEN
C411: Name | D411: Club | E411: Class | O411: Galoppen Score
O412: 100
O413: =IF(ISNUMBER(MATCH(D413,Clubs,0)),MIN(O412:O$412)-1,"NC") -> NC
O414: =IF(ISNUMBER(MATCH(D414,Clubs,0)),MIN(O$412:O413)-1,"NC") -> NC
O415: =IF(ISNUMBER(MATCH(D415,Clubs,0)),MIN(O$412:O414)-1,"NC") -> NC
O416: =IF(ISNUMBER(MATCH(D416,Clubs,0)),MIN(O$412:O415)-1,"NC") -> NC
O417: =IF(ISNUMBER(MATCH(D417,Clubs,0)),MIN(O$412:O416)-1,"NC") -> NC
O418: =IF(ISNUMBER(MATCH(D418,Clubs,0)),MIN(O$412:O417)-1,"NC") -> NC
O419: =IF(ISNUMBER(MATCH(D419,Clubs,0)),MIN(O$412:O418)-1,"NC") -> NC
O420: =IF(ISNUMBER(MATCH(D420,Clubs,0)),MIN(O$412:O419)-1,"NC") -> NC
O421: =IF(ISNUMBER(MATCH(D421,Clubs,0)),MIN(O$412:O420)-1,"NC") -> NC
O422: =IF(ISNUMBER(MATCH(D422,Clubs,0)),MIN(O$412:O421)-1,"NC") -> NC
O423: =IF(ISNUMBER(MATCH(D423,Clubs,0)),MIN(O$412:O422)-1,"NC") -> NC
O424: =IF(ISNUMBER(MATCH(D424,Clubs,0)),MIN(O$412:O423)-1,"NC") -> NC
O425: =IF(ISNUMBER(MATCH(D425,Clubs,0)),MIN(O$412:O424)-1,"NC") -> NC
C428: ORANGE
C429: Name | D429: Club | E429: Class | O429: Galoppen Score
O430: 100
...

Sheet Yellow
B1: Yellow
B2: Name | C2: Club | D2: Age Class | E2: Hawse End WCOC | F2: Silver How LOC | G2: Bea Tarn WCOC | H2: Bampton Common BL | I2: Troutal Fell LOC | O2: Galoppen Score | P2: Number of Counting Scores | Q2: Average of Counting Scores
B3: Sophie Arnold | C3: BL | D3: W10 | H3: 95 | O3: =IFERROR(LARGE($E3:$N3,1),0)+IFERROR(LARGE($E3:$N3,2),0)+IFERROR(LARGE($E3:$N3,3),0)+IFERROR(LARGE($E3:$N3,4),0)+IFERROR(LARGE($E3:$N3,5),0) -> 95 | P3: =IF(COUNT(E3:N3)>5,5,COUNT(E3:N3)) -> 1 | Q3: =O3/P3 -> 95
B4: Harriet Rooke | C4: LOC | D4: W10 | E4: 99 | F4: 98 | G4: 99 | H4: 99 | O4: =IFERROR(LARGE($E4:$N4,1),0)+IFERROR(LARGE($E4:$N4,2),0)+IFERROR(LARGE($E4:$N4,3),0)+IFERROR(LARGE($E4:$N4,4),0)+IFERROR(LARGE($E4:$N4,5),0) -> 395 | P4: =IF(COUNT(E4:N4)>5,5,COUNT(E4:N4)) -> 4 | Q4: =O4/P4 -> 98.75
B5: Cecily Rooke | C5: LOC | D5: W10 | E5: 98 | F5: 99 | G5: 98 | H5: 98 | O5: =IFERROR(LARGE($E5:$N5,1),0)+IFERROR(LARGE($E5:$N5,2),0)+IFERROR(LARGE($E5:$N5,3),0)+IFERROR(LARGE($E5:$N5,4),0)+IFERROR(LARGE($E5:$N5,5),0) -> 393 | P5: =IF(COUNT(E5:N5)>5,5,COUNT(E5:N5)) -> 4 | Q5: =O5/P5 -> 98.25
B6: Kit Wilson | C6: LOC | D6: M10 | H6: 96 | I6: 98 | O6: =IFERROR(LARGE($E6:$N6,1),0)+IFERROR(LARGE($E6:$N6,2),0)+IFERROR(LARGE($E6:$N6,3),0)+IFERROR(LARGE($E6:$N6,4),0)+IFERROR(LARGE($E6:$N6,5),0) -> 194 | P6: =IF(COUNT(E6:N6)>5,5,COUNT(E6:N6)) -> 2 | Q6: =O6/P6 -> 97
B7: Finn Wilson | C7: LOC | D7: M16 | I7: 99 | O7: =IFERROR(LARGE($E7:$N7,1),0)+IFERROR(LARGE($E7:$N7,2),0)+IFERROR(LARGE($E7:$N7,3),0)+IFERROR(LARGE($E7:$N7,4),0)+IFERROR(LARGE($E7:$N7,5),0) -> 99 | P7: =IF(COUNT(E7:N7)>5,5,COUNT(E7:N7)) -> 1 | Q7: =O7/P7 -> 99
B8: Aila Browne | C8: LOC | D8: W10 | F8: 96 | O8: =IFERROR(LARGE($E8:$N8,1),0)+IFERROR(LARGE($E8:$N8,2),0)+IFERROR(LARGE($E8:$N8,3),0)+IFERROR(LARGE($E8:$N8,4),0)+IFERROR(LARGE($E8:$N8,5),0) -> 96 | P8: =IF(COUNT(E8:N8)>5,5,COUNT(E8:N8)) -> 1 | Q8: =O8/P8 -> 96
B9: Jack Browne | C9: LOC | D9: M10 | F9: 95 | O9: =IFERROR(LARGE($E9:$N9,1),0)+IFERROR(LARGE($E9:$N9,2),0)+IFERROR(LARGE($E9:$N9,3),0)+IFERROR(LARGE($E9:$N9,4),0)+IFERROR(LARGE($E9:$N9,5),0) -> 95 | P9: =IF(COUNT(E9:N9)>5,5,COUNT(E9:N9)) -> 1 | Q9: =O9/P9 -> 95
B10: Marcus Heaton | C10: LOC | D10: M10 | H10: 92 | O10: =IFERROR(LARGE($E10:$N10,1),0)+IFERROR(LARGE($E10:$N10,2),0)+IFERROR(LARGE($E10:$N10,3),0)+IFERROR(LARGE($E10:$N10,4),0)+IFERROR(LARGE($E10:$N10,5),0) -> 92 | P10: =IF(COUNT(E10:N10)>5,5,COUNT(E10:N10)) -> 1 | Q10: =O10/P10 -> 92
B11: Ivy Graham | C11: LOC | D11: W10 | H11: 91 | O11: =IFERROR(LARGE($E11:$N11,1),0)+IFERROR(LARGE($E11:$N11,2),0)+IFERROR(LARGE($E11:$N11,3),0)+IFERROR(LARGE($E11:$N11,4),0)+IFERROR(LARGE($E11:$N11,5),0) -> 91 | P11: =IF(COUNT(E11:N11)>5,5,COUNT(E11:N11)) -> 1 | Q11: =O11/P11 -> 91
B12: Murray Page | C12: SROC | D12: M14 | F12: 97 | O12: =IFERROR(LARGE($E12:$N12,1),0)+IFERROR(LARGE($E12:$N12,2),0)+IFERROR(LARGE($E12:$N12,3),0)+IFERROR(LARGE($E12:$N12,4),0)+IFERROR(LARGE($E12:$N12,5),0) -> 97 | P12: =IF(COUNT(E12:N12)>5,5,COUNT(E12:N12)) -> 1 | Q12: =O12/P12 -> 97
B13: Daniel Hendry | C13: SROC | D13: M12 | E13: 95 | O13: =IFERROR(LARGE($E13:$N13,1),0)+IFERROR(LARGE($E13:$N13,2),0)+IFERROR(LARGE($E13:$N13,3),0)+IFERROR(LARGE($E13:$N13,4),0)+IFERROR(LARGE($E13:$N13,5),0) -> 95 | P13: =IF(COUNT(E13:N13)>5,5,COUNT(E13:N13)) -> 1 | Q13: =O13/P13 -> 95
B14: Rowen Stephens | C14: WCOC | D14: W10 | E14: 94 | G14: 97 | H14: 94 | O14: =IFERROR(LARGE($E14:$N14,1),0)+IFERROR(LARGE($E14:$N14,2),0)+IFERROR(LARGE($E14:$N14,3),0)+IFERROR(LARGE($E14:$N14,4),0)+IFERROR(LARGE($E14:$N14,5),0) -> 285 | P14: =IF(COUNT(E14:N14)>5,5,COUNT(E14:N14)) -> 3 | Q14: =O14/P14 -> 95
B15: Jessica Stephens | C15: WCOC | D15: W10 | G15: 96 | H15: 93 | O15: =IFERROR(LARGE($E15:$N15,1),0)+IFERROR(LARGE($E15:$N15,2),0)+IFERROR(LARGE($E15:$N15,3),0)+IFERROR(LARGE($E15:$N15,4),0)+IFERROR(LARGE($E15:$N15,5),0) -> 189 | P15: =IF(COUNT(E15:N15)>5,5,COUNT(E15:N15)) -> 2 | Q15: =O15/P15 -> 94.5
B16: Cerys Naylor | C16: WCOC | D16: W12 | E16: 97 | O16: =IFERROR(LARGE($E16:$N16,1),0)+IFERROR(LARGE($E16:$N16,2),0)+IFERROR(LARGE($E16:$N16,3),0)+IFERROR(LARGE($E16:$N16,4),0)+IFERROR(LARGE($E16:$N16,5),0) -> 97 | P16: =IF(COUNT(E16:N16)>5,5,COUNT(E16:N16)) -> 1 | Q16: =O16/P16 -> 97
B17: Sophia Rennie | C17: WCOC | D17: W14 | H17: 97 | O17: =IFERROR(LARGE($E17:$N17,1),0)+IFERROR(LARGE($E17:$N17,2),0)+IFERROR(LARGE($E17:$N17,3),0)+IFERROR(LARGE($E17:$N17,4),0)+IFERROR(LARGE($E17:$N17,5),0) -> 97 | P17: =IF(COUNT(E17:N17)>5,5,COUNT(E17:N17)) -> 1 | Q17: =O17/P17 -> 97
B18: Owen Naylor | C18: WCOC | D18: M10 | E18: 96 | O18: =IFERROR(LARGE($E18:$N18,1),0)+IFERROR(LARGE($E18:$N18,2),0)+IFERROR(LARGE($E18:$N18,3),0)+IFERROR(LARGE($E18:$N18,4),0)+IFERROR(LARGE($E18:$N18,5),0) -> 96 | P18: =IF(COUNT(E18:N18)>5,5,COUNT(E18:N18)) -> 1 | Q18: =O18/P18 -> 96
B19: Charlotte Henderson | C19: WCOC | D19: W12 | E19: 93 | O19: =IFERROR(LARGE($E19:$N19,1),0)+IFERROR(LARGE($E19:$N19,2),0)+IFERROR(LARGE($E19:$N19,3),0)+IFERROR(LARGE($E19:$N19,4),0)+IFERROR(LARGE($E19:$N19,5),0) -> 93 | P19: =IF(COUNT(E19:N19)>5,5,COUNT(E19:N19)) -> 1 | Q19: =O19/P19 -> 93

Sheet Orange
B1: Orange
B2: Name | C2: Club | D2: Age Class | E2: =Yellow!E2 -> Hawse End WCOC | F2: =Yellow!F2 -> Silver How LOC | G2: =Yellow!G2 -> Bea Tarn WCOC | H2: =Yellow!H2 -> Bampton Common BL | I2: =Yellow!I2 -> Troutal Fell LOC | J2: =Yellow!J2 -> 0 | K2: =Yellow!K2 -> 0 | L2: =Yellow!L2 -> 0 | ... N2: =Yellow!N2 -> 0 | O2: Galoppen Score | P2: Number of Counting Scores | Q2: Average of Counting Scores
B3: Thomas Hartley | C3: BL | D3: M14 | E3: 98 | G3: 98 | H3: 99 | O3: =IFERROR(LARGE($E3:$N3,1),0)+IFERROR(LARGE($E3:$N3,2),0)+IFERROR(LARGE($E3:$N3,3),0)+IFERROR(LARGE($E3:$N3,4),0)+IFERROR(LARGE($E3:$N3,5),0) -> 295 | P3: =IF(COUNT(E3:N3)>5,5,COUNT(E3:N3)) -> 3 | Q3: =O3/P3 -> 98.333333
B4: Elizabeth Ann Losh Hore | C4: BL | D4: W40 | H4: 96 | O4: =IFERROR(LARGE($E4:$N4,1),0)+IFERROR(LARGE($E4:$N4,2),0)+IFERROR(LARGE($E4:$N4,3),0)+IFERROR(LARGE($E4:$N4,4),0)+IFERROR(LARGE($E4:$N4,5),0) -> 96 | P4: =IF(COUNT(E4:N4)>5,5,COUNT(E4:N4)) -> 1 | Q4: =O4/P4 -> 96
B5: Charlie Hird | C5: BL | D5: M65 | F5: 95 | O5: =IFERROR(LARGE($E5:$N5,1),0)+IFERROR(LARGE($E5:$N5,2),0)+IFERROR(LARGE($E5:$N5,3),0)+IFERROR(LARGE($E5:$N5,4),0)+IFERROR(LARGE($E5:$N5,5),0) -> 95 | P5: =IF(COUNT(E5:N5)>5,5,COUNT(E5:N5)) -> 1 | Q5: =O5/P5 -> 95
B6: Kathryn Pinder | C6: BL | D6: W60 | H6: 95 | O6: =IFERROR(LARGE($E6:$N6,1),0)+IFERROR(LARGE($E6:$N6,2),0)+IFERROR(LARGE($E6:$N6,3),0)+IFERROR(LARGE($E6:$N6,4),0)+IFERROR(LARGE($E6:$N6,5),0) -> 95 | P6: =IF(COUNT(E6:N6)>5,5,COUNT(E6:N6)) -> 1 | Q6: =O6/P6 -> 95
B7: Martin Keegan | C7: BL | D7: M65 | E7: 94 | O7: =IFERROR(LARGE($E7:$N7,1),0)+IFERROR(LARGE($E7:$N7,2),0)+IFERROR(LARGE($E7:$N7,3),0)+IFERROR(LARGE($E7:$N7,4),0)+IFERROR(LARGE($E7:$N7,5),0) -> 94 | P7: =IF(COUNT(E7:N7)>5,5,COUNT(E7:N7)) -> 1 | Q7: =O7/P7 -> 94
B8: Angela Whitworth | C8: BL | D8: W80 | H8: 94 | O8: =IFERROR(LARGE($E8:$N8,1),0)+IFERROR(LARGE($E8:$N8,2),0)+IFERROR(LARGE($E8:$N8,3),0)+IFERROR(LARGE($E8:$N8,4),0)+IFERROR(LARGE($E8:$N8,5),0) -> 94 | P8: =IF(COUNT(E8:N8)>5,5,COUNT(E8:N8)) -> 1 | Q8: =O8/P8 -> 94
B9: Matthew Hartley | C9: BL | D9: M12 | E9: 92 | O9: =IFERROR(LARGE($E9:$N9,1),0)+IFERROR(LARGE($E9:$N9,2),0)+IFERROR(LARGE($E9:$N9,3),0)+IFERROR(LARGE($E9:$N9,4),0)+IFERROR(LARGE($E9:$N9,5),0) -> 92 | P9: =IF(COUNT(E9:N9)>5,5,COUNT(E9:N9)) -> 1 | Q9: =O9/P9 -> 92
B10: Jess Hinkins | C10: LOC | D10: W14 | E10: 97 | H10: 97 | I10: 98 | O10: =IFERROR(LARGE($E10:$N10,1),0)+IFERROR(LARGE($E10:$N10,2),0)+IFERROR(LARGE($E10:$N10,3),0)+IFERROR(LARGE($E10:$N10,4),0)+IFERROR(LARGE($E10:$N10,5),0) -> 292 | P10: =IF(COUNT(E10:N10)>5,5,COUNT(E10:N10)) -> 3 | Q10: =O10/P10 -> 97.333333
B11: Alex Hinkins | C11: LOC | D11: M12 | E11: 95 | G11: 99 | I11: 97 | O11: =IFERROR(LARGE($E11:$N11,1),0)+IFERROR(LARGE($E11:$N11,2),0)+IFERROR(LARGE($E11:$N11,3),0)+IFERROR(LARGE($E11:$N11,4),0)+IFERROR(LARGE($E11:$N11,5),0) -> 291 | P11: =IF(COUNT(E11:N11)>5,5,COUNT(E11:N11)) -> 3 | Q11: =O11/P11 -> 97
B12: Sarah Hodgson-Jones | C12: LOC | D12: W50 | E12: 93 | G12: 97 | O12: =IFERROR(LARGE($E12:$N12,1),0)+IFERROR(LARGE($E12:$N12,2),0)+IFERROR(LARGE($E12:$N12,3),0)+IFERROR(LARGE($E12:$N12,4),0)+IFERROR(LARGE($E12:$N12,5),0) -> 190 | P12: =IF(COUNT(E12:N12)>5,5,COUNT(E12:N12)) -> 2 | Q12: =O12/P12 -> 95
B13: Harry Atkinson | C13: LOC | D13: M12 | F13: 99 | O13: =IFERROR(LARGE($E13:$N13,1),0)+IFERROR(LARGE($E13:$N13,2),0)+IFERROR(LARGE($E13:$N13,3),0)+IFERROR(LARGE($E13:$N13,4),0)+IFERROR(LARGE($E13:$N13,5),0) -> 99 | P13: =IF(COUNT(E13:N13)>5,5,COUNT(E13:N13)) -> 1 | Q13: =O13/P13 -> 99
B14: Harriet Rooke | C14: LOC | D14: W10 | I14: 99 | O14: =IFERROR(LARGE($E14:$N14,1),0)+IFERROR(LARGE($E14:$N14,2),0)+IFERROR(LARGE($E14:$N14,3),0)+IFERROR(LARGE($E14:$N14,4),0)+IFERROR(LARGE($E14:$N14,5),0) -> 99 | P14: =IF(COUNT(E14:N14)>5,5,COUNT(E14:N14)) -> 1 | Q14: =O14/P14 -> 99
B15: Maya Nield | C15: LOC | D15: W14 | F15: 96 | O15: =IFERROR(LARGE($E15:$N15,1),0)+IFERROR(LARGE($E15:$N15,2),0)+IFERROR(LARGE($E15:$N15,3),0)+IFERROR(LARGE($E15:$N15,4),0)+IFERROR(LARGE($E15:$N15,5),0) -> 96 | P15: =IF(COUNT(E15:N15)>5,5,COUNT(E15:N15)) -> 1 | Q15: =O15/P15 -> 96
B16: Sally Buckley | C16: LOC | D16: W75 | G16: 95 | O16: =IFERROR(LARGE($E16:$N16,1),0)+IFERROR(LARGE($E16:$N16,2),0)+IFERROR(LARGE($E16:$N16,3),0)+IFERROR(LARGE($E16:$N16,4),0)+IFERROR(LARGE($E16:$N16,5),0) -> 95 | P16: =IF(COUNT(E16:N16)>5,5,COUNT(E16:N16)) -> 1 | Q16: =O16/P16 -> 95
B17: Noah Hendry | C17: SROC | D17: M12 | E17: 96 | F17: 98 | H17: 98 | O17: =IFERROR(LARGE($E17:$N17,1),0)+IFERROR(LARGE($E17:$N17,2),0)+IFERROR(LARGE($E17:$N17,3),0)+IFERROR(LARGE($E17:$N17,4),0)+IFERROR(LARGE($E17:$N17,5),0) -> 292 | P17: =IF(COUNT(E17:N17)>5,5,COUNT(E17:N17)) -> 3 | Q17: =O17/P17 -> 97.333333
B18: Nicky Graves | C18: SROC | D18: W60 | F18: 97 | O18: =IFERROR(LARGE($E18:$N18,1),0)+IFERROR(LARGE($E18:$N18,2),0)+IFERROR(LARGE($E18:$N18,3),0)+IFERROR(LARGE($E18:$N18,4),0)+IFERROR(LARGE($E18:$N18,5),0) -> 97 | P18: =IF(COUNT(E18:N18)>5,5,COUNT(E18:N18)) -> 1 | Q18: =O18/P18 -> 97
B19: Jane Hunter | C19: WCOC | D19: W55 | E19: 91 | G19: 96 | O19: =IFERROR(LARGE($E19:$N19,1),0)+IFERROR(LARGE($E19:$N19,2),0)+IFERROR(LARGE($E19:$N19,3),0)+IFERROR(LARGE($E19:$N19,4),0)+IFERROR(LARGE($E19:$N19,5),0) -> 187 | P19: =IF(COUNT(E19:N19)>5,5,COUNT(E19:N19)) -> 2 | Q19: =O19/P19 -> 93.5
B20: James Henderson | C20: WCOC | D20: M14 | E20: 99 | O20: =IFERROR(LARGE($E20:$N20,1),0)+IFERROR(LARGE($E20:$N20,2),0)+IFERROR(LARGE($E20:$N20,3),0)+IFERROR(LARGE($E20:$N20,4),0)+IFERROR(LARGE($E20:$N20,5),0) -> 99 | P20: =IF(COUNT(E20:N20)>5,5,COUNT(E20:N20)) -> 1 | Q20: =O20/P20 -> 99

Sheet L Green
B1: Light Green | E1: =Yellow!E2 -> Hawse End WCOC | F1: =Yellow!F2 -> Silver How LOC | G1: =Yellow!G2 -> Bea Tarn WCOC | H1: =Yellow!H2 -> Bampton Common BL | I1: =Yellow!I2 -> Troutal Fell LOC | J1: =Yellow!J2 -> 0 | K1: =Yellow!K2 -> 0 | L1: =Yellow!L2 -> 0 | ... N1: =Yellow!N2 -> 0 | O1: Galoppen Score | P1: Number of Counting Scores | Q1: Average of Counting Scores
B2: Name | C2: Club | D2: Age Class | O2: Galoppen Score
B3: Freya Hodgson-Jones | C3: LOC | D3: W14 | E3: 99 | G3: 99 | O3: =IFERROR(LARGE($E3:$N3,1),0)+IFERROR(LARGE($E3:$N3,2),0)+IFERROR(LARGE($E3:$N3,3),0)+IFERROR(LARGE($E3:$N3,4),0)+IFERROR(LARGE($E3:$N3,5),0) -> 198 | P3: =IF(COUNT(E3:N3)>5,5,COUNT(E3:N3)) -> 2 | Q3: =O3/P3 -> 99
B4: Jessica Atkinson | C4: LOC | D4: W14 | F4: 99 | O4: =IFERROR(LARGE($E4:$N4,1),0)+IFERROR(LARGE($E4:$N4,2),0)+IFERROR(LARGE($E4:$N4,3),0)+IFERROR(LARGE($E4:$N4,4),0)+IFERROR(LARGE($E4:$N4,5),0) -> 99 | P4: =IF(COUNT(E4:N4)>5,5,COUNT(E4:N4)) -> 1 | Q4: =O4/P4 -> 99
B5: Finn Wilson | C5: LOC | D5: M16 | H5: 97 | O5: =IFERROR(LARGE($E5:$N5,1),0)+IFERROR(LARGE($E5:$N5,2),0)+IFERROR(LARGE($E5:$N5,3),0)+IFERROR(LARGE($E5:$N5,4),0)+IFERROR(LARGE($E5:$N5,5),0) -> 97 | P5: =IF(COUNT(E5:N5)>5,5,COUNT(E5:N5)) -> 1 | Q5: =O5/P5 -> 97
B6: Kit (Mary) Saunders | C6: LOC | D6: W45 | F6: 96 | O6: =IFERROR(LARGE($E6:$N6,1),0)+IFERROR(LARGE($E6:$N6,2),0)+IFERROR(LARGE($E6:$N6,3),0)+IFERROR(LARGE($E6:$N6,4),0)+IFERROR(LARGE($E6:$N6,5),0) -> 96 | P6: =IF(COUNT(E6:N6)>5,5,COUNT(E6:N6)) -> 1 | Q6: =O6/P6 -> 96
B7: Rosie Law | C7: LOC | D7: W70 | H7: 96 | O7: =IFERROR(LARGE($E7:$N7,1),0)+IFERROR(LARGE($E7:$N7,2),0)+IFERROR(LARGE($E7:$N7,3),0)+IFERROR(LARGE($E7:$N7,4),0)+IFERROR(LARGE($E7:$N7,5),0) -> 96 | P7: =IF(COUNT(E7:N7)>5,5,COUNT(E7:N7)) -> 1 | Q7: =O7/P7 -> 96
B8: Murray Page | C8: SROC | D8: M14 | I8: 98 | O8: =IFERROR(LARGE($E8:$N8,1),0)+IFERROR(LARGE($E8:$N8,2),0)+IFERROR(LARGE($E8:$N8,3),0)+IFERROR(LARGE($E8:$N8,4),0)+IFERROR(LARGE($E8:$N8,5),0) -> 98 | P8: =IF(COUNT(E8:N8)>5,5,COUNT(E8:N8)) -> 1 | Q8: =O8/P8 -> 98
B9: Emma Hayden | C9: SROC | D9: W50 | G9: 95 | O9: =IFERROR(LARGE($E9:$N9,1),0)+IFERROR(LARGE($E9:$N9,2),0)+IFERROR(LARGE($E9:$N9,3),0)+IFERROR(LARGE($E9:$N9,4),0)+IFERROR(LARGE($E9:$N9,5),0) -> 95 | P9: =IF(COUNT(E9:N9)>5,5,COUNT(E9:N9)) -> 1 | Q9: =O9/P9 -> 95
B10: Lynne Hume | C10: WCOC | D10: W45 | F10: 98 | G10: 96 | H10: 99 | I10: 99 | O10: =IFERROR(LARGE($E10:$N10,1),0)+IFERROR(LARGE($E10:$N10,2),0)+IFERROR(LARGE($E10:$N10,3),0)+IFERROR(LARGE($E10:$N10,4),0)+IFERROR(LARGE($E10:$N10,5),0) -> 392 | P10: =IF(COUNT(E10:N10)>5,5,COUNT(E10:N10)) -> 4 | Q10: =O10/P10 -> 98
B11: Flora Ballester | C11: WCOC | D11: W40 | F11: 97 | G11: 98 | H11: 98 | O11: =IFERROR(LARGE($E11:$N11,1),0)+IFERROR(LARGE($E11:$N11,2),0)+IFERROR(LARGE($E11:$N11,3),0)+IFERROR(LARGE($E11:$N11,4),0)+IFERROR(LARGE($E11:$N11,5),0) -> 293 | P11: =IF(COUNT(E11:N11)>5,5,COUNT(E11:N11)) -> 3 | Q11: =O11/P11 -> 97.666667
B12: Clare Crout | C12: WCOC | D12: W60 | E12: 98 | F12: 95 | G12: 93 | O12: =IFERROR(LARGE($E12:$N12,1),0)+IFERROR(LARGE($E12:$N12,2),0)+IFERROR(LARGE($E12:$N12,3),0)+IFERROR(LARGE($E12:$N12,4),0)+IFERROR(LARGE($E12:$N12,5),0) -> 286 | P12: =IF(COUNT(E12:N12)>5,5,COUNT(E12:N12)) -> 3 | Q12: =O12/P12 -> 95.333333
B13: Ray Johnstone | C13: WCOC | D13: M75 | G13: 97 | O13: =IFERROR(LARGE($E13:$N13,1),0)+IFERROR(LARGE($E13:$N13,2),0)+IFERROR(LARGE($E13:$N13,3),0)+IFERROR(LARGE($E13:$N13,4),0)+IFERROR(LARGE($E13:$N13,5),0) -> 97 | P13: =IF(COUNT(E13:N13)>5,5,COUNT(E13:N13)) -> 1 | Q13: =O13/P13 -> 97
B14: Jane Hunter | C14: WCOC | D14: W55 | H14: 95 | O14: =IFERROR(LARGE($E14:$N14,1),0)+IFERROR(LARGE($E14:$N14,2),0)+IFERROR(LARGE($E14:$N14,3),0)+IFERROR(LARGE($E14:$N14,4),0)+IFERROR(LARGE($E14:$N14,5),0) -> 95 | P14: =IF(COUNT(E14:N14)>5,5,COUNT(E14:N14)) -> 1 | Q14: =O14/P14 -> 95
B15: Stacy Ness | C15: WCOC | D15: W21 | F15: 94 | O15: =IFERROR(LARGE($E15:$N15,1),0)+IFERROR(LARGE($E15:$N15,2),0)+IFERROR(LARGE($E15:$N15,3),0)+IFERROR(LARGE($E15:$N15,4),0)+IFERROR(LARGE($E15:$N15,5),0) -> 94 | P15: =IF(COUNT(E15:N15)>5,5,COUNT(E15:N15)) -> 1 | Q15: =O15/P15 -> 94
B16: James Henderson | C16: WCOC | D16: M14 | G16: 94 | O16: =IFERROR(LARGE($E16:$N16,1),0)+IFERROR(LARGE($E16:$N16,2),0)+IFERROR(LARGE($E16:$N16,3),0)+IFERROR(LARGE($E16:$N16,4),0)+IFERROR(LARGE($E16:$N16,5),0) -> 94 | P16: =IF(COUNT(E16:N16)>5,5,COUNT(E16:N16)) -> 1 | Q16: =O16/P16 -> 94

Sheet VSG
B1: Very Short Green | E1: =Yellow!E2 -> Hawse End WCOC | F1: =Yellow!F2 -> Silver How LOC | G1: =Yellow!G2 -> Bea Tarn WCOC | H1: =Yellow!H2 -> Bampton Common BL | I1: =Yellow!I2 -> Troutal Fell LOC | J1: =Yellow!J2 -> 0 | K1: =Yellow!K2 -> 0 | L1: =Yellow!L2 -> 0 | ... N1: =Yellow!N2 -> 0 | O1: Galoppen Score | P1: Number of Counting Scores | Q1: Average of Counting Scores
B2: Name | C2: Club | D2: Age Class | O2: Galoppen Score
B3: Andrew Bell | C3: BL | D3: M75 | H3: 99 | O3: =IFERROR(LARGE($E3:$N3,1),0)+IFERROR(LARGE($E3:$N3,2),0)+IFERROR(LARGE($E3:$N3,3),0)+IFERROR(LARGE($E3:$N3,4),0)+IFERROR(LARGE($E3:$N3,5),0) -> 99 | P3: =IF(COUNT(E3:N3)>5,5,COUNT(E3:N3)) -> 1 | Q3: =O3/P3 -> 99
B4: Ivor Norman | C4: BL | D4: M70 | H4: 98 | O4: =IFERROR(LARGE($E4:$N4,1),0)+IFERROR(LARGE($E4:$N4,2),0)+IFERROR(LARGE($E4:$N4,3),0)+IFERROR(LARGE($E4:$N4,4),0)+IFERROR(LARGE($E4:$N4,5),0) -> 98 | P4: =IF(COUNT(E4:N4)>5,5,COUNT(E4:N4)) -> 1 | Q4: =O4/P4 -> 98
B5: Nancy Powell Davies | C5: BL | D5: W75 | I5: 98 | O5: =IFERROR(LARGE($E5:$N5,1),0)+IFERROR(LARGE($E5:$N5,2),0)+IFERROR(LARGE($E5:$N5,3),0)+IFERROR(LARGE($E5:$N5,4),0)+IFERROR(LARGE($E5:$N5,5),0) -> 98 | P5: =IF(COUNT(E5:N5)>5,5,COUNT(E5:N5)) -> 1 | Q5: =O5/P5 -> 98
B6: Richard Moss | C6: BL | D6: M80 | H6: 97 | O6: =IFERROR(LARGE($E6:$N6,1),0)+IFERROR(LARGE($E6:$N6,2),0)+IFERROR(LARGE($E6:$N6,3),0)+IFERROR(LARGE($E6:$N6,4),0)+IFERROR(LARGE($E6:$N6,5),0) -> 97 | P6: =IF(COUNT(E6:N6)>5,5,COUNT(E6:N6)) -> 1 | Q6: =O6/P6 -> 97
B7: Amanda Ratcliffe | C7: LOC | D7: W65 | F7: 97 | G7: 99 | O7: =IFERROR(LARGE($E7:$N7,1),0)+IFERROR(LARGE($E7:$N7,2),0)+IFERROR(LARGE($E7:$N7,3),0)+IFERROR(LARGE($E7:$N7,4),0)+IFERROR(LARGE($E7:$N7,5),0) -> 196 | P7: =IF(COUNT(E7:N7)>5,5,COUNT(E7:N7)) -> 2 | Q7: =O7/P7 -> 98
B8: Matthew Rooke | C8: LOC | D8: M35 | F8: 99 | O8: =IFERROR(LARGE($E8:$N8,1),0)+IFERROR(LARGE($E8:$N8,2),0)+IFERROR(LARGE($E8:$N8,3),0)+IFERROR(LARGE($E8:$N8,4),0)+IFERROR(LARGE($E8:$N8,5),0) -> 99 | P8: =IF(COUNT(E8:N8)>5,5,COUNT(E8:N8)) -> 1 | Q8: =O8/P8 -> 99
B9: Ann Smith | C9: LOC | D9: W75 | E9: 98 | O9: =IFERROR(LARGE($E9:$N9,1),0)+IFERROR(LARGE($E9:$N9,2),0)+IFERROR(LARGE($E9:$N9,3),0)+IFERROR(LARGE($E9:$N9,4),0)+IFERROR(LARGE($E9:$N9,5),0) -> 98 | P9: =IF(COUNT(E9:N9)>5,5,COUNT(E9:N9)) -> 1 | Q9: =O9/P9 -> 98
B10: Carol McNeill | C10: LOC | D10: W80 | F10: 98 | O10: =IFERROR(LARGE($E10:$N10,1),0)+IFERROR(LARGE($E10:$N10,2),0)+IFERROR(LARGE($E10:$N10,3),0)+IFERROR(LARGE($E10:$N10,4),0)+IFERROR(LARGE($E10:$N10,5),0) -> 98 | P10: =IF(COUNT(E10:N10)>5,5,COUNT(E10:N10)) -> 1 | Q10: =O10/P10 -> 98
B11: Mike Atherton | C11: LOC | D11: M80 | G11: 98 | O11: =IFERROR(LARGE($E11:$N11,1),0)+IFERROR(LARGE($E11:$N11,2),0)+IFERROR(LARGE($E11:$N11,3),0)+IFERROR(LARGE($E11:$N11,4),0)+IFERROR(LARGE($E11:$N11,5),0) -> 98 | P11: =IF(COUNT(E11:N11)>5,5,COUNT(E11:N11)) -> 1 | Q11: =O11/P11 -> 98
B12: Jo Taylor | C12: SROC | D12: W60 | I12: 99 | O12: =IFERROR(LARGE($E12:$N12,1),0)+IFERROR(LARGE($E12:$N12,2),0)+IFERROR(LARGE($E12:$N12,3),0)+IFERROR(LARGE($E12:$N12,4),0)+IFERROR(LARGE($E12:$N12,5),0) -> 99 | P12: =IF(COUNT(E12:N12)>5,5,COUNT(E12:N12)) -> 1 | Q12: =O12/P12 -> 99
B13: Ula Bronkowska | C13: WCOC | D13: W35 | E13: 99 | O13: =IFERROR(LARGE($E13:$N13,1),0)+IFERROR(LARGE($E13:$N13,2),0)+IFERROR(LARGE($E13:$N13,3),0)+IFERROR(LARGE($E13:$N13,4),0)+IFERROR(LARGE($E13:$N13,5),0) -> 99 | P13: =IF(COUNT(E13:N13)>5,5,COUNT(E13:N13)) -> 1 | Q13: =O13/P13 -> 99
B14: Richard Goodwin | C14: WCOC | D14: M65 | I14: 97 | O14: =IFERROR(LARGE($E14:$N14,1),0)+IFERROR(LARGE($E14:$N14,2),0)+IFERROR(LARGE($E14:$N14,3),0)+IFERROR(LARGE($E14:$N14,4),0)+IFERROR(LARGE($E14:$N14,5),0) -> 97 | P14: =IF(COUNT(E14:N14)>5,5,COUNT(E14:N14)) -> 1 | Q14: =O14/P14 -> 97

Sheet SG
B1: Short Green | E1: =Yellow!E2 -> Hawse End WCOC | F1: =Yellow!F2 -> Silver How LOC | G1: =Yellow!G2 -> Bea Tarn WCOC | H1: =Yellow!H2 -> Bampton Common BL | I1: =Yellow!I2 -> Troutal Fell LOC | J1: =Yellow!J2 -> 0 | K1: =Yellow!K2 -> 0 | L1: =Yellow!L2 -> 0 | ... N1: =Yellow!N2 -> 0 | O1: Galoppen Score | P1: Number of Counting Scores | Q1: Average of Counting Scores
B2: Name | C2: Club | D2: Age Class | O2: Galoppen Score
B3: Jenny Wren | C3: BL | D3: W75 | E3: 81 | F3: 83 | G3: 93 | I3: 90 | O3: =IFERROR(LARGE($E3:$N3,1),0)+IFERROR(LARGE($E3:$N3,2),0)+IFERROR(LARGE($E3:$N3,3),0)+IFERROR(LARGE($E3:$N3,4),0)+IFERROR(LARGE($E3:$N3,5),0) -> 347 | P3: =IF(COUNT(E3:N3)>5,5,COUNT(E3:N3)) -> 4 | Q3: =O3/P3 -> 86.75
B4: Joan Cumpstey | C4: BL | D4: W75 | E4: 80 | F4: 78 | H4: 77 | O4: =IFERROR(LARGE($E4:$N4,1),0)+IFERROR(LARGE($E4:$N4,2),0)+IFERROR(LARGE($E4:$N4,3),0)+IFERROR(LARGE($E4:$N4,4),0)+IFERROR(LARGE($E4:$N4,5),0) -> 235 | P4: =IF(COUNT(E4:N4)>5,5,COUNT(E4:N4)) -> 3 | Q4: =O4/P4 -> 78.333333
B5: Patricia Davies | C5: BL | D5: W70 | E5: 94 | F5: 95 | O5: =IFERROR(LARGE($E5:$N5,1),0)+IFERROR(LARGE($E5:$N5,2),0)+IFERROR(LARGE($E5:$N5,3),0)+IFERROR(LARGE($E5:$N5,4),0)+IFERROR(LARGE($E5:$N5,5),0) -> 189 | P5: =IF(COUNT(E5:N5)>5,5,COUNT(E5:N5)) -> 2 | Q5: =O5/P5 -> 94.5
B6: Chris Lates | C6: BL | D6: M85 | H6: 88 | O6: =IFERROR(LARGE($E6:$N6,1),0)+IFERROR(LARGE($E6:$N6,2),0)+IFERROR(LARGE($E6:$N6,3),0)+IFERROR(LARGE($E6:$N6,4),0)+IFERROR(LARGE($E6:$N6,5),0) -> 88 | P6: =IF(COUNT(E6:N6)>5,5,COUNT(E6:N6)) -> 1 | Q6: =O6/P6 -> 88
B7: Janice Nichols | C7: BL | D7: W65 | E7: 86 | O7: =IFERROR(LARGE($E7:$N7,1),0)+IFERROR(LARGE($E7:$N7,2),0)+IFERROR(LARGE($E7:$N7,3),0)+IFERROR(LARGE($E7:$N7,4),0)+IFERROR(LARGE($E7:$N7,5),0) -> 86 | P7: =IF(COUNT(E7:N7)>5,5,COUNT(E7:N7)) -> 1 | Q7: =O7/P7 -> 86
B8: Christine Kiddier | C8: BL | D8: W70 | H8: 82 | O8: =IFERROR(LARGE($E8:$N8,1),0)+IFERROR(LARGE($E8:$N8,2),0)+IFERROR(LARGE($E8:$N8,3),0)+IFERROR(LARGE($E8:$N8,4),0)+IFERROR(LARGE($E8:$N8,5),0) -> 82 | P8: =IF(COUNT(E8:N8)>5,5,COUNT(E8:N8)) -> 1 | Q8: =O8/P8 -> 82
B9: Sarah Hiscoke | C9: BL | D9: W65 | H9: 76 | O9: =IFERROR(LARGE($E9:$N9,1),0)+IFERROR(LARGE($E9:$N9,2),0)+IFERROR(LARGE($E9:$N9,3),0)+IFERROR(LARGE($E9:$N9,4),0)+IFERROR(LARGE($E9:$N9,5),0) -> 76 | P9: =IF(COUNT(E9:N9)>5,5,COUNT(E9:N9)) -> 1 | Q9: =O9/P9 -> 76
B10: David Lloyd | C10: LOC | D10: M75 | E10: 93 | F10: 91 | H10: 97 | I10: 98 | O10: =IFERROR(LARGE($E10:$N10,1),0)+IFERROR(LARGE($E10:$N10,2),0)+IFERROR(LARGE($E10:$N10,3),0)+IFERROR(LARGE($E10:$N10,4),0)+IFERROR(LARGE($E10:$N10,5),0) -> 379 | P10: =IF(COUNT(E10:N10)>5,5,COUNT(E10:N10)) -> 4 | Q10: =O10/P10 -> 94.75
B11: Steve Burge | C11: LOC | D11: M80 | F11: 82 | G11: 90 | H11: 87 | I11: 89 | O11: =IFERROR(LARGE($E11:$N11,1),0)+IFERROR(LARGE($E11:$N11,2),0)+IFERROR(LARGE($E11:$N11,3),0)+IFERROR(LARGE($E11:$N11,4),0)+IFERROR(LARGE($E11:$N11,5),0) -> 348 | P11: =IF(COUNT(E11:N11)>5,5,COUNT(E11:N11)) -> 4 | Q11: =O11/P11 -> 87
B12: Mary Adams | C12: LOC | D12: W65 | F12: 89 | G12: 95 | H12: 96 | O12: =IFERROR(LARGE($E12:$N12,1),0)+IFERROR(LARGE($E12:$N12,2),0)+IFERROR(LARGE($E12:$N12,3),0)+IFERROR(LARGE($E12:$N12,4),0)+IFERROR(LARGE($E12:$N12,5),0) -> 280 | P12: =IF(COUNT(E12:N12)>5,5,COUNT(E12:N12)) -> 3 | Q12: =O12/P12 -> 93.333333
B13: Alan Heppenstall | C13: LOC | D13: M80 | E13: 82 | F13: 80 | I13: 87 | O13: =IFERROR(LARGE($E13:$N13,1),0)+IFERROR(LARGE($E13:$N13,2),0)+IFERROR(LARGE($E13:$N13,3),0)+IFERROR(LARGE($E13:$N13,4),0)+IFERROR(LARGE($E13:$N13,5),0) -> 249 | P13: =IF(COUNT(E13:N13)>5,5,COUNT(E13:N13)) -> 3 | Q13: =O13/P13 -> 83
B14: Rebecca Rooke | C14: LOC | D14: W35 | F14: 99 | I14: 99 | O14: =IFERROR(LARGE($E14:$N14,1),0)+IFERROR(LARGE($E14:$N14,2),0)+IFERROR(LARGE($E14:$N14,3),0)+IFERROR(LARGE($E14:$N14,4),0)+IFERROR(LARGE($E14:$N14,5),0) -> 198 | P14: =IF(COUNT(E14:N14)>5,5,COUNT(E14:N14)) -> 2 | Q14: =O14/P14 -> 99
B15: Hannah Cleary-Hughes | C15: LOC | D15: W21 | G15: 99 | H15: 95 | O15: =IFERROR(LARGE($E15:$N15,1),0)+IFERROR(LARGE($E15:$N15,2),0)+IFERROR(LARGE($E15:$N15,3),0)+IFERROR(LARGE($E15:$N15,4),0)+IFERROR(LARGE($E15:$N15,5),0) -> 194 | P15: =IF(COUNT(E15:N15)>5,5,COUNT(E15:N15)) -> 2 | Q15: =O15/P15 -> 97
B16: Gill Browne | C16: LOC | D16: W70 | F16: 94 | H16: 99 | O16: =IFERROR(LARGE($E16:$N16,1),0)+IFERROR(LARGE($E16:$N16,2),0)+IFERROR(LARGE($E16:$N16,3),0)+IFERROR(LARGE($E16:$N16,4),0)+IFERROR(LARGE($E16:$N16,5),0) -> 193 | P16: =IF(COUNT(E16:N16)>5,5,COUNT(E16:N16)) -> 2 | Q16: =O16/P16 -> 96.5
B17: Janet Nash | C17: LOC | D17: W75 | G17: 97 | H17: 94 | O17: =IFERROR(LARGE($E17:$N17,1),0)+IFERROR(LARGE($E17:$N17,2),0)+IFERROR(LARGE($E17:$N17,3),0)+IFERROR(LARGE($E17:$N17,4),0)+IFERROR(LARGE($E17:$N17,5),0) -> 191 | P17: =IF(COUNT(E17:N17)>5,5,COUNT(E17:N17)) -> 2 | Q17: =O17/P17 -> 95.5
B18: Martin Powell | C18: LOC | D18: M75 | E18: 87 | F18: 90 | O18: =IFERROR(LARGE($E18:$N18,1),0)+IFERROR(LARGE($E18:$N18,2),0)+IFERROR(LARGE($E18:$N18,3),0)+IFERROR(LARGE($E18:$N18,4),0)+IFERROR(LARGE($E18:$N18,5),0) -> 177 | P18: =IF(COUNT(E18:N18)>5,5,COUNT(E18:N18)) -> 2 | Q18: =O18/P18 -> 88.5
B19: Steve Brockbank | C19: LOC | D19: M75 | F19: 84 | I19: 93 | O19: =IFERROR(LARGE($E19:$N19,1),0)+IFERROR(LARGE($E19:$N19,2),0)+IFERROR(LARGE($E19:$N19,3),0)+IFERROR(LARGE($E19:$N19,4),0)+IFERROR(LARGE($E19:$N19,5),0) -> 177 | P19: =IF(COUNT(E19:N19)>5,5,COUNT(E19:N19)) -> 2 | Q19: =O19/P19 -> 88.5
B20: Judith Filmore | C20: LOC | D20: W65 | F20: 87 | G20: 84 | O20: =IFERROR(LARGE($E20:$N20,1),0)+IFERROR(LARGE($E20:$N20,2),0)+IFERROR(LARGE($E20:$N20,3),0)+IFERROR(LARGE($E20:$N20,4),0)+IFERROR(LARGE($E20:$N20,5),0) -> 171 | P20: =IF(COUNT(E20:N20)>5,5,COUNT(E20:N20)) -> 2 | Q20: =O20/P20 -> 85.5
B21: Mike Atherton | C21: LOC | D21: M80 | F21: 81 | H21: 78 | O21: =IFERROR(LARGE($E21:$N21,1),0)+IFERROR(LARGE($E21:$N21,2),0)+IFERROR(LARGE($E21:$N21,3),0)+IFERROR(LARGE($E21:$N21,4),0)+IFERROR(LARGE($E21:$N21,5),0) -> 159 | P21: =IF(COUNT(E21:N21)>5,5,COUNT(E21:N21)) -> 2 | Q21: =O21/P21 -> 79.5
B22: Carol McNeill | C22: LOC | D22: W80 | G22: 98 | O22: =IFERROR(LARGE($E22:$N22,1),0)+IFERROR(LARGE($E22:$N22,2),0)+IFERROR(LARGE($E22:$N22,3),0)+IFERROR(LARGE($E22:$N22,4),0)+IFERROR(LARGE($E22:$N22,5),0) -> 98 | P22: =IF(COUNT(E22:N22)>5,5,COUNT(E22:N22)) -> 1 | Q22: =O22/P22 -> 98
B23: Catherine Taylor | C23: LOC | D23: W35 | F23: 98 | O23: =IFERROR(LARGE($E23:$N23,1),0)+IFERROR(LARGE($E23:$N23,2),0)+IFERROR(LARGE($E23:$N23,3),0)+IFERROR(LARGE($E23:$N23,4),0)+IFERROR(LARGE($E23:$N23,5),0) -> 98 | P23: =IF(COUNT(E23:N23)>5,5,COUNT(E23:N23)) -> 1 | Q23: =O23/P23 -> 98
B24: Judy Burge | C24: LOC | D24: W65 | I24: 97 | O24: =IFERROR(LARGE($E24:$N24,1),0)+IFERROR(LARGE($E24:$N24,2),0)+IFERROR(LARGE($E24:$N24,3),0)+IFERROR(LARGE($E24:$N24,4),0)+IFERROR(LARGE($E24:$N24,5),0) -> 97 | P24: =IF(COUNT(E24:N24)>5,5,COUNT(E24:N24)) -> 1 | Q24: =O24/P24 -> 97
B25: Richard Towler | C25: LOC | D25: M75 | F25: 97 | O25: =IFERROR(LARGE($E25:$N25,1),0)+IFERROR(LARGE($E25:$N25,2),0)+IFERROR(LARGE($E25:$N25,3),0)+IFERROR(LARGE($E25:$N25,4),0)+IFERROR(LARGE($E25:$N25,5),0) -> 97 | P25: =IF(COUNT(E25:N25)>5,5,COUNT(E25:N25)) -> 1 | Q25: =O25/P25 -> 97
B26: Jane Ligema | C26: LOC | D26: W60 | G26: 96 | O26: =IFERROR(LARGE($E26:$N26,1),0)+IFERROR(LARGE($E26:$N26,2),0)+IFERROR(LARGE($E26:$N26,3),0)+IFERROR(LARGE($E26:$N26,4),0)+IFERROR(LARGE($E26:$N26,5),0) -> 96 | P26: =IF(COUNT(E26:N26)>5,5,COUNT(E26:N26)) -> 1 | Q26: =O26/P26 -> 96
B27: Rowan Ranner | C27: LOC | D27: W45 | F27: 96 | O27: =IFERROR(LARGE($E27:$N27,1),0)+IFERROR(LARGE($E27:$N27,2),0)+IFERROR(LARGE($E27:$N27,3),0)+IFERROR(LARGE($E27:$N27,4),0)+IFERROR(LARGE($E27:$N27,5),0) -> 96 | P27: =IF(COUNT(E27:N27)>5,5,COUNT(E27:N27)) -> 1 | Q27: =O27/P27 -> 96
B28: Sandy Turner | C28: LOC | D28: W60 | I28: 95 | O28: =IFERROR(LARGE($E28:$N28,1),0)+IFERROR(LARGE($E28:$N28,2),0)+IFERROR(LARGE($E28:$N28,3),0)+IFERROR(LARGE($E28:$N28,4),0)+IFERROR(LARGE($E28:$N28,5),0) -> 95 | P28: =IF(COUNT(E28:N28)>5,5,COUNT(E28:N28)) -> 1 | Q28: =O28/P28 -> 95
B29: John Evans | C29: LOC | D29: M75 | I29: 94 | O29: =IFERROR(LARGE($E29:$N29,1),0)+IFERROR(LARGE($E29:$N29,2),0)+IFERROR(LARGE($E29:$N29,3),0)+IFERROR(LARGE($E29:$N29,4),0)+IFERROR(LARGE($E29:$N29,5),0) -> 94 | P29: =IF(COUNT(E29:N29)>5,5,COUNT(E29:N29)) -> 1 | Q29: =O29/P29 -> 94
B30: Cathy Hinkins | C30: LOC | D30: W40 | E30: 92 | O30: =IFERROR(LARGE($E30:$N30,1),0)+IFERROR(LARGE($E30:$N30,2),0)+IFERROR(LARGE($E30:$N30,3),0)+IFERROR(LARGE($E30:$N30,4),0)+IFERROR(LARGE($E30:$N30,5),0) -> 92 | P30: =IF(COUNT(E30:N30)>5,5,COUNT(E30:N30)) -> 1 | Q30: =O30/P30 -> 92
B31: John Nash | C31: LOC | D31: M75 | F31: 92 | O31: =IFERROR(LARGE($E31:$N31,1),0)+IFERROR(LARGE($E31:$N31,2),0)+IFERROR(LARGE($E31:$N31,3),0)+IFERROR(LARGE($E31:$N31,4),0)+IFERROR(LARGE($E31:$N31,5),0) -> 92 | P31: =IF(COUNT(E31:N31)>5,5,COUNT(E31:N31)) -> 1 | Q31: =O31/P31 -> 92
B32: Richard Browne | C32: LOC | D32: M70 | G32: 92 | O32: =IFERROR(LARGE($E32:$N32,1),0)+IFERROR(LARGE($E32:$N32,2),0)+IFERROR(LARGE($E32:$N32,3),0)+IFERROR(LARGE($E32:$N32,4),0)+IFERROR(LARGE($E32:$N32,5),0) -> 92 | P32: =IF(COUNT(E32:N32)>5,5,COUNT(E32:N32)) -> 1 | Q32: =O32/P32 -> 92
B33: Elizabeth Rocke | C33: LOC | D33: W70 | I33: 91 | O33: =IFERROR(LARGE($E33:$N33,1),0)+IFERROR(LARGE($E33:$N33,2),0)+IFERROR(LARGE($E33:$N33,3),0)+IFERROR(LARGE($E33:$N33,4),0)+IFERROR(LARGE($E33:$N33,5),0) -> 91 | P33: =IF(COUNT(E33:N33)>5,5,COUNT(E33:N33)) -> 1 | Q33: =O33/P33 -> 91
B34: Richard Tiley | C34: LOC | D34: M65 | H34: 89 | O34: =IFERROR(LARGE($E34:$N34,1),0)+IFERROR(LARGE($E34:$N34,2),0)+IFERROR(LARGE($E34:$N34,3),0)+IFERROR(LARGE($E34:$N34,4),0)+IFERROR(LARGE($E34:$N34,5),0) -> 89 | P34: =IF(COUNT(E34:N34)>5,5,COUNT(E34:N34)) -> 1 | Q34: =O34/P34 -> 89
B35: Alison Richards | C35: LOC | D35: W50 | F35: 86 | O35: =IFERROR(LARGE($E35:$N35,1),0)+IFERROR(LARGE($E35:$N35,2),0)+IFERROR(LARGE($E35:$N35,3),0)+IFERROR(LARGE($E35:$N35,4),0)+IFERROR(LARGE($E35:$N35,5),0) -> 86 | P35: =IF(COUNT(E35:N35)>5,5,COUNT(E35:N35)) -> 1 | Q35: =O35/P35 -> 86
B36: Helen Neild | C36: LOC | D36: W75 | H36: 86 | O36: =IFERROR(LARGE($E36:$N36,1),0)+IFERROR(LARGE($E36:$N36,2),0)+IFERROR(LARGE($E36:$N36,3),0)+IFERROR(LARGE($E36:$N36,4),0)+IFERROR(LARGE($E36:$N36,5),0) -> 86 | P36: =IF(COUNT(E36:N36)>5,5,COUNT(E36:N36)) -> 1 | Q36: =O36/P36 -> 86
B37: Megan Owens | C37: LOC | D37: W65 | F37: 85 | O37: =IFERROR(LARGE($E37:$N37,1),0)+IFERROR(LARGE($E37:$N37,2),0)+IFERROR(LARGE($E37:$N37,3),0)+IFERROR(LARGE($E37:$N37,4),0)+IFERROR(LARGE($E37:$N37,5),0) -> 85 | P37: =IF(COUNT(E37:N37)>5,5,COUNT(E37:N37)) -> 1 | Q37: =O37/P37 -> 85
B38: Christine Robinson | C38: LOC | D38: W70 | E38: 84 | O38: =IFERROR(LARGE($E38:$N38,1),0)+IFERROR(LARGE($E38:$N38,2),0)+IFERROR(LARGE($E38:$N38,3),0)+IFERROR(LARGE($E38:$N38,4),0)+IFERROR(LARGE($E38:$N38,5),0) -> 84 | P38: =IF(COUNT(E38:N38)>5,5,COUNT(E38:N38)) -> 1 | Q38: =O38/P38 -> 84
B39: Simon Cane | C39: LOC | D39: M75 | H39: 81 | O39: =IFERROR(LARGE($E39:$N39,1),0)+IFERROR(LARGE($E39:$N39,2),0)+IFERROR(LARGE($E39:$N39,3),0)+IFERROR(LARGE($E39:$N39,4),0)+IFERROR(LARGE($E39:$N39,5),0) -> 81 | P39: =IF(COUNT(E39:N39)>5,5,COUNT(E39:N39)) -> 1 | Q39: =O39/P39 -> 81
B40: Isobel Williamson | C40: LOC | D40: W75 | F40: 79 | O40: =IFERROR(LARGE($E40:$N40,1),0)+IFERROR(LARGE($E40:$N40,2),0)+IFERROR(LARGE($E40:$N40,3),0)+IFERROR(LARGE($E40:$N40,4),0)+IFERROR(LARGE($E40:$N40,5),0) -> 79 | P40: =IF(COUNT(E40:N40)>5,5,COUNT(E40:N40)) -> 1 | Q40: =O40/P40 -> 79
B41: Miriam Rosen | C41: SROC | D41: W75 | G41: 89 | H41: 83 | O41: =IFERROR(LARGE($E41:$N41,1),0)+IFERROR(LARGE($E41:$N41,2),0)+IFERROR(LARGE($E41:$N41,3),0)+IFERROR(LARGE($E41:$N41,4),0)+IFERROR(LARGE($E41:$N41,5),0) -> 172 | P41: =IF(COUNT(E41:N41)>5,5,COUNT(E41:N41)) -> 2 | Q41: =O41/P41 -> 86
B42: Maisie Todhunter | C42: SROC | D42: W14 | E42: 99 | O42: =IFERROR(LARGE($E42:$N42,1),0)+IFERROR(LARGE($E42:$N42,2),0)+IFERROR(LARGE($E42:$N42,3),0)+IFERROR(LARGE($E42:$N42,4),0)+IFERROR(LARGE($E42:$N42,5),0) -> 99 | P42: =IF(COUNT(E42:N42)>5,5,COUNT(E42:N42)) -> 1 | Q42: =O42/P42 -> 99
B43: Susan Roome | C43: SROC | D43: W70 | H43: 98 | O43: =IFERROR(LARGE($E43:$N43,1),0)+IFERROR(LARGE($E43:$N43,2),0)+IFERROR(LARGE($E43:$N43,3),0)+IFERROR(LARGE($E43:$N43,4),0)+IFERROR(LARGE($E43:$N43,5),0) -> 98 | P43: =IF(COUNT(E43:N43)>5,5,COUNT(E43:N43)) -> 1 | Q43: =O43/P43 -> 98
B44: Annette Smith | C44: WAROC | D44: W45 | I44: 88 | O44: =IFERROR(LARGE($E44:$N44,1),0)+IFERROR(LARGE($E44:$N44,2),0)+IFERROR(LARGE($E44:$N44,3),0)+IFERROR(LARGE($E44:$N44,4),0)+IFERROR(LARGE($E44:$N44,5),0) -> 88 | P44: =IF(COUNT(E44:N44)>5,5,COUNT(E44:N44)) -> 1 | Q44: =O44/P44 -> 88
B45: Elizabeth Elliott | C45: WCOC | D45: W75 | E45: 90 | F45: 88 | G45: 91 | H45: 90 | I45: 96 | O45: =IFERROR(LARGE($E45:$N45,1),0)+IFERROR(LARGE($E45:$N45,2),0)+IFERROR(LARGE($E45:$N45,3),0)+IFERROR(LARGE($E45:$N45,4),0)+IFERROR(LARGE($E45:$N45,5),0) -> 455 | P45: =IF(COUNT(E45:N45)>5,5,COUNT(E45:N45)) -> 5 | Q45: =O45/P45 -> 91
B46: Tony Duncan | C46: WCOC | D46: M80 | E46: 88 | H46: 91 | I46: 92 | O46: =IFERROR(LARGE($E46:$N46,1),0)+IFERROR(LARGE($E46:$N46,2),0)+IFERROR(LARGE($E46:$N46,3),0)+IFERROR(LARGE($E46:$N46,4),0)+IFERROR(LARGE($E46:$N46,5),0) -> 271 | P46: =IF(COUNT(E46:N46)>5,5,COUNT(E46:N46)) -> 3 | Q46: =O46/P46 -> 90.333333
B47: Jonathan Eaton | C47: WCOC | D47: M65 | E47: 85 | G47: 94 | H47: 84 | O47: =IFERROR(LARGE($E47:$N47,1),0)+IFERROR(LARGE($E47:$N47,2),0)+IFERROR(LARGE($E47:$N47,3),0)+IFERROR(LARGE($E47:$N47,4),0)+IFERROR(LARGE($E47:$N47,5),0) -> 263 | P47: =IF(COUNT(E47:N47)>5,5,COUNT(E47:N47)) -> 3 | Q47: =O47/P47 -> 87.666667
B48: Kim Leslie | C48: WCOC | D48: W60 | E48: 95 | F48: 93 | O48: =IFERROR(LARGE($E48:$N48,1),0)+IFERROR(LARGE($E48:$N48,2),0)+IFERROR(LARGE($E48:$N48,3),0)+IFERROR(LARGE($E48:$N48,4),0)+IFERROR(LARGE($E48:$N48,5),0) -> 188 | P48: =IF(COUNT(E48:N48)>5,5,COUNT(E48:N48)) -> 2 | Q48: =O48/P48 -> 94
B49: Ian Teasdale | C49: WCOC | D49: M65 | E49: 89 | H49: 92 | O49: =IFERROR(LARGE($E49:$N49,1),0)+IFERROR(LARGE($E49:$N49,2),0)+IFERROR(LARGE($E49:$N49,3),0)+IFERROR(LARGE($E49:$N49,4),0)+IFERROR(LARGE($E49:$N49,5),0) -> 181 | P49: =IF(COUNT(E49:N49)>5,5,COUNT(E49:N49)) -> 2 | Q49: =O49/P49 -> 90.5
B50: Stacy Ness | C50: WCOC | D50: W21 | G50: 85 | H50: 93 | O50: =IFERROR(LARGE($E50:$N50,1),0)+IFERROR(LARGE($E50:$N50,2),0)+IFERROR(LARGE($E50:$N50,3),0)+IFERROR(LARGE($E50:$N50,4),0)+IFERROR(LARGE($E50:$N50,5),0) -> 178 | P50: =IF(COUNT(E50:N50)>5,5,COUNT(E50:N50)) -> 2 | Q50: =O50/P50 -> 89
B51: Matthew Farrell | C51: WCOC | D51: M16 | G51: 88 | H51: 79 | O51: =IFERROR(LARGE($E51:$N51,1),0)+IFERROR(LARGE($E51:$N51,2),0)+IFERROR(LARGE($E51:$N51,3),0)+IFERROR(LARGE($E51:$N51,4),0)+IFERROR(LARGE($E51:$N51,5),0) -> 167 | P51: =IF(COUNT(E51:N51)>5,5,COUNT(E51:N51)) -> 2 | Q51: =O51/P51 -> 83.5
B52: Malcolm Ruckledge | C52: WCOC | D52: M80 | G52: 86 | H52: 80 | O52: =IFERROR(LARGE($E52:$N52,1),0)+IFERROR(LARGE($E52:$N52,2),0)+IFERROR(LARGE($E52:$N52,3),0)+IFERROR(LARGE($E52:$N52,4),0)+IFERROR(LARGE($E52:$N52,5),0) -> 166 | P52: =IF(COUNT(E52:N52)>5,5,COUNT(E52:N52)) -> 2 | Q52: =O52/P52 -> 83
B53: Catherine Henderson | C53: WCOC | D53: W45 | E53: 98 | O53: =IFERROR(LARGE($E53:$N53,1),0)+IFERROR(LARGE($E53:$N53,2),0)+IFERROR(LARGE($E53:$N53,3),0)+IFERROR(LARGE($E53:$N53,4),0)+IFERROR(LARGE($E53:$N53,5),0) -> 98 | P53: =IF(COUNT(E53:N53)>5,5,COUNT(E53:N53)) -> 1 | Q53: =O53/P53 -> 98
B54: Roger Jackson | C54: WCOC | D54: M75 | E54: 97 | O54: =IFERROR(LARGE($E54:$N54,1),0)+IFERROR(LARGE($E54:$N54,2),0)+IFERROR(LARGE($E54:$N54,3),0)+IFERROR(LARGE($E54:$N54,4),0)+IFERROR(LARGE($E54:$N54,5),0) -> 97 | P54: =IF(COUNT(E54:N54)>5,5,COUNT(E54:N54)) -> 1 | Q54: =O54/P54 -> 97
B55: Margaret Mackenzie | C55: WCOC | D55: W65 | E55: 96 | O55: =IFERROR(LARGE($E55:$N55,1),0)+IFERROR(LARGE($E55:$N55,2),0)+IFERROR(LARGE($E55:$N55,3),0)+IFERROR(LARGE($E55:$N55,4),0)+IFERROR(LARGE($E55:$N55,5),0) -> 96 | P55: =IF(COUNT(E55:N55)>5,5,COUNT(E55:N55)) -> 1 | Q55: =O55/P55 -> 96
B56: Scott Henderson | C56: WCOC | D56: M50 | E56: 91 | O56: =IFERROR(LARGE($E56:$N56,1),0)+IFERROR(LARGE($E56:$N56,2),0)+IFERROR(LARGE($E56:$N56,3),0)+IFERROR(LARGE($E56:$N56,4),0)+IFERROR(LARGE($E56:$N56,5),0) -> 91 | P56: =IF(COUNT(E56:N56)>5,5,COUNT(E56:N56)) -> 1 | Q56: =O56/P56 -> 91
B57: Simon Farrell | C57: WCOC | D57: M45 | G57: 87 | O57: =IFERROR(LARGE($E57:$N57,1),0)+IFERROR(LARGE($E57:$N57,2),0)+IFERROR(LARGE($E57:$N57,3),0)+IFERROR(LARGE($E57:$N57,4),0)+IFERROR(LARGE($E57:$N57,5),0) -> 87 | P57: =IF(COUNT(E57:N57)>5,5,COUNT(E57:N57)) -> 1 | Q57: =O57/P57 -> 87
B58: Paul Tickner | C58: WCOC | D58: M70 | H58: 85 | O58: =IFERROR(LARGE($E58:$N58,1),0)+IFERROR(LARGE($E58:$N58,2),0)+IFERROR(LARGE($E58:$N58,3),0)+IFERROR(LARGE($E58:$N58,4),0)+IFERROR(LARGE($E58:$N58,5),0) -> 85 | P58: =IF(COUNT(E58:N58)>5,5,COUNT(E58:N58)) -> 1 | Q58: =O58/P58 -> 85
B59: Ray Johnstone | C59: WCOC | D59: M75 | E59: 83 | O59: =IFERROR(LARGE($E59:$N59,1),0)+IFERROR(LARGE($E59:$N59,2),0)+IFERROR(LARGE($E59:$N59,3),0)+IFERROR(LARGE($E59:$N59,4),0)+IFERROR(LARGE($E59:$N59,5),0) -> 83 | P59: =IF(COUNT(E59:N59)>5,5,COUNT(E59:N59)) -> 1 | Q59: =O59/P59 -> 83

Sheet Green
B1: Green | E1: =Yellow!E2 -> Hawse End WCOC | F1: =Yellow!F2 -> Silver How LOC | G1: =Yellow!G2 -> Bea Tarn WCOC | H1: =Yellow!H2 -> Bampton Common BL | I1: =Yellow!I2 -> Troutal Fell LOC | J1: =Yellow!J2 -> 0 | K1: =Yellow!K2 -> 0 | L1: =Yellow!L2 -> 0 | ... N1: =Yellow!N2 -> 0 | O1: Galoppen Score | P1: Number of Counting Scores | Q1: Average of Counting Scores
B2: Name | C2: Club | D2: Age Class | O2: Galoppen Score
B3: Mark Peplow | C3: BL | D3: M50 | E3: 73 | F3: 71 | G3: 84 | H3: 87 | I3: 84 | O3: =IFERROR(LARGE($E3:$N3,1),0)+IFERROR(LARGE($E3:$N3,2),0)+IFERROR(LARGE($E3:$N3,3),0)+IFERROR(LARGE($E3:$N3,4),0)+IFERROR(LARGE($E3:$N3,5),0) -> 399 | P3: =IF(COUNT(E3:N3)>5,5,COUNT(E3:N3)) -> 5 | Q3: =O3/P3 -> 79.8
B4: Natalie Hawkrigg | C4: BL | D4: W50 | E4: 97 | F4: 96 | H4: 83 | I4: 99 | O4: =IFERROR(LARGE($E4:$N4,1),0)+IFERROR(LARGE($E4:$N4,2),0)+IFERROR(LARGE($E4:$N4,3),0)+IFERROR(LARGE($E4:$N4,4),0)+IFERROR(LARGE($E4:$N4,5),0) -> 375 | P4: =IF(COUNT(E4:N4)>5,5,COUNT(E4:N4)) -> 4 | Q4: =O4/P4 -> 93.75
B5: Raymond Wren | C5: BL | D5: M80 | E5: 70 | F5: 70 | G5: 91 | H5: 54 | I5: 75 | O5: =IFERROR(LARGE($E5:$N5,1),0)+IFERROR(LARGE($E5:$N5,2),0)+IFERROR(LARGE($E5:$N5,3),0)+IFERROR(LARGE($E5:$N5,4),0)+IFERROR(LARGE($E5:$N5,5),0) -> 360 | P5: =IF(COUNT(E5:N5)>5,5,COUNT(E5:N5)) -> 5 | Q5: =O5/P5 -> 72
B6: Mike Cumpstey | C6: BL | D6: M80 | E6: 61 | F6: 62 | H6: 64 | O6: =IFERROR(LARGE($E6:$N6,1),0)+IFERROR(LARGE($E6:$N6,2),0)+IFERROR(LARGE($E6:$N6,3),0)+IFERROR(LARGE($E6:$N6,4),0)+IFERROR(LARGE($E6:$N6,5),0) -> 187 | P6: =IF(COUNT(E6:N6)>5,5,COUNT(E6:N6)) -> 3 | Q6: =O6/P6 -> 62.333333
B7: Stella Lewsley | C7: BL | D7: W70 | F7: 93 | H7: 93 | O7: =IFERROR(LARGE($E7:$N7,1),0)+IFERROR(LARGE($E7:$N7,2),0)+IFERROR(LARGE($E7:$N7,3),0)+IFERROR(LARGE($E7:$N7,4),0)+IFERROR(LARGE($E7:$N7,5),0) -> 186 | P7: =IF(COUNT(E7:N7)>5,5,COUNT(E7:N7)) -> 2 | Q7: =O7/P7 -> 93
B8: David Mainwaring | C8: BL | D8: M60 | E8: 90 | F8: 92 | O8: =IFERROR(LARGE($E8:$N8,1),0)+IFERROR(LARGE($E8:$N8,2),0)+IFERROR(LARGE($E8:$N8,3),0)+IFERROR(LARGE($E8:$N8,4),0)+IFERROR(LARGE($E8:$N8,5),0) -> 182 | P8: =IF(COUNT(E8:N8)>5,5,COUNT(E8:N8)) -> 2 | Q8: =O8/P8 -> 91
B9: Christine Kiddier | C9: BL | D9: W70 | F9: 79 | I9: 89 | O9: =IFERROR(LARGE($E9:$N9,1),0)+IFERROR(LARGE($E9:$N9,2),0)+IFERROR(LARGE($E9:$N9,3),0)+IFERROR(LARGE($E9:$N9,4),0)+IFERROR(LARGE($E9:$N9,5),0) -> 168 | P9: =IF(COUNT(E9:N9)>5,5,COUNT(E9:N9)) -> 2 | Q9: =O9/P9 -> 84
B10: Paul Watson | C10: BL | D10: M65 | E10: 68 | H10: 76 | O10: =IFERROR(LARGE($E10:$N10,1),0)+IFERROR(LARGE($E10:$N10,2),0)+IFERROR(LARGE($E10:$N10,3),0)+IFERROR(LARGE($E10:$N10,4),0)+IFERROR(LARGE($E10:$N10,5),0) -> 144 | P10: =IF(COUNT(E10:N10)>5,5,COUNT(E10:N10)) -> 2 | Q10: =O10/P10 -> 72
B11: Jane Yates | C11: BL | D11: W55 | E11: 55 | H11: 61 | O11: =IFERROR(LARGE($E11:$N11,1),0)+IFERROR(LARGE($E11:$N11,2),0)+IFERROR(LARGE($E11:$N11,3),0)+IFERROR(LARGE($E11:$N11,4),0)+IFERROR(LARGE($E11:$N11,5),0) -> 116 | P11: =IF(COUNT(E11:N11)>5,5,COUNT(E11:N11)) -> 2 | Q11: =O11/P11 -> 58
B12: Jo Rodham | C12: BL | D12: W45 | H12: 97 | O12: =IFERROR(LARGE($E12:$N12,1),0)+IFERROR(LARGE($E12:$N12,2),0)+IFERROR(LARGE($E12:$N12,3),0)+IFERROR(LARGE($E12:$N12,4),0)+IFERROR(LARGE($E12:$N12,5),0) -> 97 | P12: =IF(COUNT(E12:N12)>5,5,COUNT(E12:N12)) -> 1 | Q12: =O12/P12 -> 97
B13: Christine Goulding | C13: BL | D13: W60 | E13: 94 | O13: =IFERROR(LARGE($E13:$N13,1),0)+IFERROR(LARGE($E13:$N13,2),0)+IFERROR(LARGE($E13:$N13,3),0)+IFERROR(LARGE($E13:$N13,4),0)+IFERROR(LARGE($E13:$N13,5),0) -> 94 | P13: =IF(COUNT(E13:N13)>5,5,COUNT(E13:N13)) -> 1 | Q13: =O13/P13 -> 94
B14: Ali Lea | C14: BL | D14: W50 | G14: 67 | O14: =IFERROR(LARGE($E14:$N14,1),0)+IFERROR(LARGE($E14:$N14,2),0)+IFERROR(LARGE($E14:$N14,3),0)+IFERROR(LARGE($E14:$N14,4),0)+IFERROR(LARGE($E14:$N14,5),0) -> 67 | P14: =IF(COUNT(E14:N14)>5,5,COUNT(E14:N14)) -> 1 | Q14: =O14/P14 -> 67
B15: Philip Nichols | C15: BL | D15: M65 | E15: 60 | O15: =IFERROR(LARGE($E15:$N15,1),0)+IFERROR(LARGE($E15:$N15,2),0)+IFERROR(LARGE($E15:$N15,3),0)+IFERROR(LARGE($E15:$N15,4),0)+IFERROR(LARGE($E15:$N15,5),0) -> 60 | P15: =IF(COUNT(E15:N15)>5,5,COUNT(E15:N15)) -> 1 | Q15: =O15/P15 -> 60
B16: Richard Sewell | C16: BL | D16: M70 | H16: 58 | O16: =IFERROR(LARGE($E16:$N16,1),0)+IFERROR(LARGE($E16:$N16,2),0)+IFERROR(LARGE($E16:$N16,3),0)+IFERROR(LARGE($E16:$N16,4),0)+IFERROR(LARGE($E16:$N16,5),0) -> 58 | P16: =IF(COUNT(E16:N16)>5,5,COUNT(E16:N16)) -> 1 | Q16: =O16/P16 -> 58
B17: Andy Robinson | C17: LOC | D17: M70 | E17: 76 | F17: 77 | G17: 80 | H17: 80 | O17: =IFERROR(LARGE($E17:$N17,1),0)+IFERROR(LARGE($E17:$N17,2),0)+IFERROR(LARGE($E17:$N17,3),0)+IFERROR(LARGE($E17:$N17,4),0)+IFERROR(LARGE($E17:$N17,5),0) -> 313 | P17: =IF(COUNT(E17:N17)>5,5,COUNT(E17:N17)) -> 4 | Q17: =O17/P17 -> 78.25
B18: Rebecca Rooke | C18: LOC | D18: W35 | E18: 99 | G18: 99 | H18: 99 | O18: =IFERROR(LARGE($E18:$N18,1),0)+IFERROR(LARGE($E18:$N18,2),0)+IFERROR(LARGE($E18:$N18,3),0)+IFERROR(LARGE($E18:$N18,4),0)+IFERROR(LARGE($E18:$N18,5),0) -> 297 | P18: =IF(COUNT(E18:N18)>5,5,COUNT(E18:N18)) -> 3 | Q18: =O18/P18 -> 99
B19: Cathy Hinkins | C19: LOC | D19: W40 | F19: 59 | G19: 65 | H19: 66 | I19: 76 | O19: =IFERROR(LARGE($E19:$N19,1),0)+IFERROR(LARGE($E19:$N19,2),0)+IFERROR(LARGE($E19:$N19,3),0)+IFERROR(LARGE($E19:$N19,4),0)+IFERROR(LARGE($E19:$N19,5),0) -> 266 | P19: =IF(COUNT(E19:N19)>5,5,COUNT(E19:N19)) -> 4 | Q19: =O19/P19 -> 66.5
B20: Steve Kruger | C20: LOC | D20: M65 | F20: 81 | G20: 87 | H20: 90 | O20: =IFERROR(LARGE($E20:$N20,1),0)+IFERROR(LARGE($E20:$N20,2),0)+IFERROR(LARGE($E20:$N20,3),0)+IFERROR(LARGE($E20:$N20,4),0)+IFERROR(LARGE($E20:$N20,5),0) -> 258 | P20: =IF(COUNT(E20:N20)>5,5,COUNT(E20:N20)) -> 3 | Q20: =O20/P20 -> 86
B21: Pete Owens | C21: LOC | D21: M65 | F21: 68 | G21: 94 | I21: 91 | O21: =IFERROR(LARGE($E21:$N21,1),0)+IFERROR(LARGE($E21:$N21,2),0)+IFERROR(LARGE($E21:$N21,3),0)+IFERROR(LARGE($E21:$N21,4),0)+IFERROR(LARGE($E21:$N21,5),0) -> 253 | P21: =IF(COUNT(E21:N21)>5,5,COUNT(E21:N21)) -> 3 | Q21: =O21/P21 -> 84.333333
B22: Zach Hughes | C22: LOC | D22: M16 | F22: 63 | G22: 78 | H22: 92 | O22: =IFERROR(LARGE($E22:$N22,1),0)+IFERROR(LARGE($E22:$N22,2),0)+IFERROR(LARGE($E22:$N22,3),0)+IFERROR(LARGE($E22:$N22,4),0)+IFERROR(LARGE($E22:$N22,5),0) -> 233 | P22: =IF(COUNT(E22:N22)>5,5,COUNT(E22:N22)) -> 3 | Q22: =O22/P22 -> 77.666667
B23: Judy Burge | C23: LOC | D23: W65 | F23: 76 | G23: 79 | H23: 75 | O23: =IFERROR(LARGE($E23:$N23,1),0)+IFERROR(LARGE($E23:$N23,2),0)+IFERROR(LARGE($E23:$N23,3),0)+IFERROR(LARGE($E23:$N23,4),0)+IFERROR(LARGE($E23:$N23,5),0) -> 230 | P23: =IF(COUNT(E23:N23)>5,5,COUNT(E23:N23)) -> 3 | Q23: =O23/P23 -> 76.666667
B24: Michael Napier | C24: LOC | D24: M70 | F24: 95 | I24: 97 | O24: =IFERROR(LARGE($E24:$N24,1),0)+IFERROR(LARGE($E24:$N24,2),0)+IFERROR(LARGE($E24:$N24,3),0)+IFERROR(LARGE($E24:$N24,4),0)+IFERROR(LARGE($E24:$N24,5),0) -> 192 | P24: =IF(COUNT(E24:N24)>5,5,COUNT(E24:N24)) -> 2 | Q24: =O24/P24 -> 96
B25: Derek Allison | C25: LOC | D25: M65 | F25: 89 | G25: 92 | O25: =IFERROR(LARGE($E25:$N25,1),0)+IFERROR(LARGE($E25:$N25,2),0)+IFERROR(LARGE($E25:$N25,3),0)+IFERROR(LARGE($E25:$N25,4),0)+IFERROR(LARGE($E25:$N25,5),0) -> 181 | P25: =IF(COUNT(E25:N25)>5,5,COUNT(E25:N25)) -> 2 | Q25: =O25/P25 -> 90.5
B26: Kevan Latham | C26: LOC | D26: M70 | F26: 74 | I26: 79 | O26: =IFERROR(LARGE($E26:$N26,1),0)+IFERROR(LARGE($E26:$N26,2),0)+IFERROR(LARGE($E26:$N26,3),0)+IFERROR(LARGE($E26:$N26,4),0)+IFERROR(LARGE($E26:$N26,5),0) -> 153 | P26: =IF(COUNT(E26:N26)>5,5,COUNT(E26:N26)) -> 2 | Q26: =O26/P26 -> 76.5
B27: Rachel Powell | C27: LOC | D27: W55 | E27: 77 | F27: 75 | O27: =IFERROR(LARGE($E27:$N27,1),0)+IFERROR(LARGE($E27:$N27,2),0)+IFERROR(LARGE($E27:$N27,3),0)+IFERROR(LARGE($E27:$N27,4),0)+IFERROR(LARGE($E27:$N27,5),0) -> 152 | P27: =IF(COUNT(E27:N27)>5,5,COUNT(E27:N27)) -> 2 | Q27: =O27/P27 -> 76
B28: Cath Lee | C28: LOC | D28: W60 | F28: 69 | H28: 71 | O28: =IFERROR(LARGE($E28:$N28,1),0)+IFERROR(LARGE($E28:$N28,2),0)+IFERROR(LARGE($E28:$N28,3),0)+IFERROR(LARGE($E28:$N28,4),0)+IFERROR(LARGE($E28:$N28,5),0) -> 140 | P28: =IF(COUNT(E28:N28)>5,5,COUNT(E28:N28)) -> 2 | Q28: =O28/P28 -> 70
B29: John Nash | C29: LOC | D29: M75 | G29: 75 | H29: 56 | O29: =IFERROR(LARGE($E29:$N29,1),0)+IFERROR(LARGE($E29:$N29,2),0)+IFERROR(LARGE($E29:$N29,3),0)+IFERROR(LARGE($E29:$N29,4),0)+IFERROR(LARGE($E29:$N29,5),0) -> 131 | P29: =IF(COUNT(E29:N29)>5,5,COUNT(E29:N29)) -> 2 | Q29: =O29/P29 -> 65.5
B30: Andrew Leedham | C30: LOC | D30: M60 | F30: 72 | H30: 57 | O30: =IFERROR(LARGE($E30:$N30,1),0)+IFERROR(LARGE($E30:$N30,2),0)+IFERROR(LARGE($E30:$N30,3),0)+IFERROR(LARGE($E30:$N30,4),0)+IFERROR(LARGE($E30:$N30,5),0) -> 129 | P30: =IF(COUNT(E30:N30)>5,5,COUNT(E30:N30)) -> 2 | Q30: =O30/P30 -> 64.5
B31: Neil Adams | C31: LOC | D31: M65 | G31: 64 | H31: 63 | O31: =IFERROR(LARGE($E31:$N31,1),0)+IFERROR(LARGE($E31:$N31,2),0)+IFERROR(LARGE($E31:$N31,3),0)+IFERROR(LARGE($E31:$N31,4),0)+IFERROR(LARGE($E31:$N31,5),0) -> 127 | P31: =IF(COUNT(E31:N31)>5,5,COUNT(E31:N31)) -> 2 | Q31: =O31/P31 -> 63.5
B32: RIck Stuart | C32: LOC | D32: M60 | F32: 94 | O32: =IFERROR(LARGE($E32:$N32,1),0)+IFERROR(LARGE($E32:$N32,2),0)+IFERROR(LARGE($E32:$N32,3),0)+IFERROR(LARGE($E32:$N32,4),0)+IFERROR(LARGE($E32:$N32,5),0) -> 94 | P32: =IF(COUNT(E32:N32)>5,5,COUNT(E32:N32)) -> 1 | Q32: =O32/P32 -> 94
B33: Richard Tiley | C33: LOC | D33: M65 | I33: 90 | O33: =IFERROR(LARGE($E33:$N33,1),0)+IFERROR(LARGE($E33:$N33,2),0)+IFERROR(LARGE($E33:$N33,3),0)+IFERROR(LARGE($E33:$N33,4),0)+IFERROR(LARGE($E33:$N33,5),0) -> 90 | P33: =IF(COUNT(E33:N33)>5,5,COUNT(E33:N33)) -> 1 | Q33: =O33/P33 -> 90
B34: Richard Towler | C34: LOC | D34: M75 | G34: 89 | O34: =IFERROR(LARGE($E34:$N34,1),0)+IFERROR(LARGE($E34:$N34,2),0)+IFERROR(LARGE($E34:$N34,3),0)+IFERROR(LARGE($E34:$N34,4),0)+IFERROR(LARGE($E34:$N34,5),0) -> 89 | P34: =IF(COUNT(E34:N34)>5,5,COUNT(E34:N34)) -> 1 | Q34: =O34/P34 -> 89
B35: Gill Browne | C35: LOC | D35: W70 | G35: 88 | O35: =IFERROR(LARGE($E35:$N35,1),0)+IFERROR(LARGE($E35:$N35,2),0)+IFERROR(LARGE($E35:$N35,3),0)+IFERROR(LARGE($E35:$N35,4),0)+IFERROR(LARGE($E35:$N35,5),0) -> 88 | P35: =IF(COUNT(E35:N35)>5,5,COUNT(E35:N35)) -> 1 | Q35: =O35/P35 -> 88
B36: Lindsey Bayles | C36: LOC | D36: W65 | I36: 88 | O36: =IFERROR(LARGE($E36:$N36,1),0)+IFERROR(LARGE($E36:$N36,2),0)+IFERROR(LARGE($E36:$N36,3),0)+IFERROR(LARGE($E36:$N36,4),0)+IFERROR(LARGE($E36:$N36,5),0) -> 88 | P36: =IF(COUNT(E36:N36)>5,5,COUNT(E36:N36)) -> 1 | Q36: =O36/P36 -> 88
B37: Jackie Chapman | C37: LOC | D37: W65 | H37: 86 | O37: =IFERROR(LARGE($E37:$N37,1),0)+IFERROR(LARGE($E37:$N37,2),0)+IFERROR(LARGE($E37:$N37,3),0)+IFERROR(LARGE($E37:$N37,4),0)+IFERROR(LARGE($E37:$N37,5),0) -> 86 | P37: =IF(COUNT(E37:N37)>5,5,COUNT(E37:N37)) -> 1 | Q37: =O37/P37 -> 86
B38: Simon Filmore | C38: LOC | D38: M70 | G38: 86 | O38: =IFERROR(LARGE($E38:$N38,1),0)+IFERROR(LARGE($E38:$N38,2),0)+IFERROR(LARGE($E38:$N38,3),0)+IFERROR(LARGE($E38:$N38,4),0)+IFERROR(LARGE($E38:$N38,5),0) -> 86 | P38: =IF(COUNT(E38:N38)>5,5,COUNT(E38:N38)) -> 1 | Q38: =O38/P38 -> 86
B39: Rach Stavert | C39: LOC | D39: W60 | H39: 82 | O39: =IFERROR(LARGE($E39:$N39,1),0)+IFERROR(LARGE($E39:$N39,2),0)+IFERROR(LARGE($E39:$N39,3),0)+IFERROR(LARGE($E39:$N39,4),0)+IFERROR(LARGE($E39:$N39,5),0) -> 82 | P39: =IF(COUNT(E39:N39)>5,5,COUNT(E39:N39)) -> 1 | Q39: =O39/P39 -> 82
B40: Alison Richards | C40: LOC | D40: W50 | H40: 79 | O40: =IFERROR(LARGE($E40:$N40,1),0)+IFERROR(LARGE($E40:$N40,2),0)+IFERROR(LARGE($E40:$N40,3),0)+IFERROR(LARGE($E40:$N40,4),0)+IFERROR(LARGE($E40:$N40,5),0) -> 79 | P40: =IF(COUNT(E40:N40)>5,5,COUNT(E40:N40)) -> 1 | Q40: =O40/P40 -> 79
B41: Katie Sandham | C41: LOC | D41: W20 | F41: 78 | O41: =IFERROR(LARGE($E41:$N41,1),0)+IFERROR(LARGE($E41:$N41,2),0)+IFERROR(LARGE($E41:$N41,3),0)+IFERROR(LARGE($E41:$N41,4),0)+IFERROR(LARGE($E41:$N41,5),0) -> 78 | P41: =IF(COUNT(E41:N41)>5,5,COUNT(E41:N41)) -> 1 | Q41: =O41/P41 -> 78
B42: Selwyn Wright | C42: LOC | D42: M70 | I42: 78 | O42: =IFERROR(LARGE($E42:$N42,1),0)+IFERROR(LARGE($E42:$N42,2),0)+IFERROR(LARGE($E42:$N42,3),0)+IFERROR(LARGE($E42:$N42,4),0)+IFERROR(LARGE($E42:$N42,5),0) -> 78 | P42: =IF(COUNT(E42:N42)>5,5,COUNT(E42:N42)) -> 1 | Q42: =O42/P42 -> 78
B43: Dave Neild | C43: LOC | D43: M75 | H43: 67 | O43: =IFERROR(LARGE($E43:$N43,1),0)+IFERROR(LARGE($E43:$N43,2),0)+IFERROR(LARGE($E43:$N43,3),0)+IFERROR(LARGE($E43:$N43,4),0)+IFERROR(LARGE($E43:$N43,5),0) -> 67 | P43: =IF(COUNT(E43:N43)>5,5,COUNT(E43:N43)) -> 1 | Q43: =O43/P43 -> 67
B44: John Evans | C44: LOC | D44: M75 | E44: 64 | O44: =IFERROR(LARGE($E44:$N44,1),0)+IFERROR(LARGE($E44:$N44,2),0)+IFERROR(LARGE($E44:$N44,3),0)+IFERROR(LARGE($E44:$N44,4),0)+IFERROR(LARGE($E44:$N44,5),0) -> 64 | P44: =IF(COUNT(E44:N44)>5,5,COUNT(E44:N44)) -> 1 | Q44: =O44/P44 -> 64
B45: Stephen Fellbaum | C45: LOC | D45: M65 | E45: 63 | O45: =IFERROR(LARGE($E45:$N45,1),0)+IFERROR(LARGE($E45:$N45,2),0)+IFERROR(LARGE($E45:$N45,3),0)+IFERROR(LARGE($E45:$N45,4),0)+IFERROR(LARGE($E45:$N45,5),0) -> 63 | P45: =IF(COUNT(E45:N45)>5,5,COUNT(E45:N45)) -> 1 | Q45: =O45/P45 -> 63
B46: Noah Nield | C46: LOC | D46: M16 | F46: 61 | O46: =IFERROR(LARGE($E46:$N46,1),0)+IFERROR(LARGE($E46:$N46,2),0)+IFERROR(LARGE($E46:$N46,3),0)+IFERROR(LARGE($E46:$N46,4),0)+IFERROR(LARGE($E46:$N46,5),0) -> 61 | P46: =IF(COUNT(E46:N46)>5,5,COUNT(E46:N46)) -> 1 | Q46: =O46/P46 -> 61
B47: Tony Walker | C47: LOC | D47: M80 | H47: 60 | O47: =IFERROR(LARGE($E47:$N47,1),0)+IFERROR(LARGE($E47:$N47,2),0)+IFERROR(LARGE($E47:$N47,3),0)+IFERROR(LARGE($E47:$N47,4),0)+IFERROR(LARGE($E47:$N47,5),0) -> 60 | P47: =IF(COUNT(E47:N47)>5,5,COUNT(E47:N47)) -> 1 | Q47: =O47/P47 -> 60
B48: Kingsley Jones | C48: LOC | D48: M50 | E48: 59 | O48: =IFERROR(LARGE($E48:$N48,1),0)+IFERROR(LARGE($E48:$N48,2),0)+IFERROR(LARGE($E48:$N48,3),0)+IFERROR(LARGE($E48:$N48,4),0)+IFERROR(LARGE($E48:$N48,5),0) -> 59 | P48: =IF(COUNT(E48:N48)>5,5,COUNT(E48:N48)) -> 1 | Q48: =O48/P48 -> 59
B49: Don Kershaw | C49: LOC | D49: M70 | E49: 56 | O49: =IFERROR(LARGE($E49:$N49,1),0)+IFERROR(LARGE($E49:$N49,2),0)+IFERROR(LARGE($E49:$N49,3),0)+IFERROR(LARGE($E49:$N49,4),0)+IFERROR(LARGE($E49:$N49,5),0) -> 56 | P49: =IF(COUNT(E49:N49)>5,5,COUNT(E49:N49)) -> 1 | Q49: =O49/P49 -> 56
B50: Julian Lailey | C50: SROC | D50: M80 | E50: 79 | F50: 65 | G50: 74 | H50: 65 | I50: 77 | O50: =IFERROR(LARGE($E50:$N50,1),0)+IFERROR(LARGE($E50:$N50,2),0)+IFERROR(LARGE($E50:$N50,3),0)+IFERROR(LARGE($E50:$N50,4),0)+IFERROR(LARGE($E50:$N50,5),0) -> 360 | P50: =IF(COUNT(E50:N50)>5,5,COUNT(E50:N50)) -> 5 | Q50: =O50/P50 -> 72
B51: Fay Thomas | C51: SROC | D51: W16 | E51: 87 | F51: 90 | G51: 77 | H51: 81 | O51: =IFERROR(LARGE($E51:$N51,1),0)+IFERROR(LARGE($E51:$N51,2),0)+IFERROR(LARGE($E51:$N51,3),0)+IFERROR(LARGE($E51:$N51,4),0)+IFERROR(LARGE($E51:$N51,5),0) -> 335 | P51: =IF(COUNT(E51:N51)>5,5,COUNT(E51:N51)) -> 4 | Q51: =O51/P51 -> 83.75
B52: Sam Roberts | C52: SROC | D52: M16 | E52: 92 | F52: 97 | I52: 98 | O52: =IFERROR(LARGE($E52:$N52,1),0)+IFERROR(LARGE($E52:$N52,2),0)+IFERROR(LARGE($E52:$N52,3),0)+IFERROR(LARGE($E52:$N52,4),0)+IFERROR(LARGE($E52:$N52,5),0) -> 287 | P52: =IF(COUNT(E52:N52)>5,5,COUNT(E52:N52)) -> 3 | Q52: =O52/P52 -> 95.666667
B53: Fiona Roberts | C53: SROC | D53: W50 | E53: 72 | F53: 88 | I53: 96 | O53: =IFERROR(LARGE($E53:$N53,1),0)+IFERROR(LARGE($E53:$N53,2),0)+IFERROR(LARGE($E53:$N53,3),0)+IFERROR(LARGE($E53:$N53,4),0)+IFERROR(LARGE($E53:$N53,5),0) -> 256 | P53: =IF(COUNT(E53:N53)>5,5,COUNT(E53:N53)) -> 3 | Q53: =O53/P53 -> 85.333333
B54: Jo Taylor | C54: SROC | D54: W60 | F54: 86 | G54: 70 | H54: 85 | O54: =IFERROR(LARGE($E54:$N54,1),0)+IFERROR(LARGE($E54:$N54,2),0)+IFERROR(LARGE($E54:$N54,3),0)+IFERROR(LARGE($E54:$N54,4),0)+IFERROR(LARGE($E54:$N54,5),0) -> 241 | P54: =IF(COUNT(E54:N54)>5,5,COUNT(E54:N54)) -> 3 | Q54: =O54/P54 -> 80.333333
B55: David Rosen | C55: SROC | D55: M70 | G55: 69 | H55: 62 | I55: 80 | O55: =IFERROR(LARGE($E55:$N55,1),0)+IFERROR(LARGE($E55:$N55,2),0)+IFERROR(LARGE($E55:$N55,3),0)+IFERROR(LARGE($E55:$N55,4),0)+IFERROR(LARGE($E55:$N55,5),0) -> 211 | P55: =IF(COUNT(E55:N55)>5,5,COUNT(E55:N55)) -> 3 | Q55: =O55/P55 -> 70.333333
B56: Katharine Shrine | C56: SROC | D56: W50 | E56: 78 | G56: 72 | O56: =IFERROR(LARGE($E56:$N56,1),0)+IFERROR(LARGE($E56:$N56,2),0)+IFERROR(LARGE($E56:$N56,3),0)+IFERROR(LARGE($E56:$N56,4),0)+IFERROR(LARGE($E56:$N56,5),0) -> 150 | P56: =IF(COUNT(E56:N56)>5,5,COUNT(E56:N56)) -> 2 | Q56: =O56/P56 -> 75
B57: Sian Calow | C57: SROC | D57: W65 | F57: 66 | I57: 81 | O57: =IFERROR(LARGE($E57:$N57,1),0)+IFERROR(LARGE($E57:$N57,2),0)+IFERROR(LARGE($E57:$N57,3),0)+IFERROR(LARGE($E57:$N57,4),0)+IFERROR(LARGE($E57:$N57,5),0) -> 147 | P57: =IF(COUNT(E57:N57)>5,5,COUNT(E57:N57)) -> 2 | Q57: =O57/P57 -> 73.5
B58: Tim Stallard | C58: SROC | D58: M45 | F58: 98 | O58: =IFERROR(LARGE($E58:$N58,1),0)+IFERROR(LARGE($E58:$N58,2),0)+IFERROR(LARGE($E58:$N58,3),0)+IFERROR(LARGE($E58:$N58,4),0)+IFERROR(LARGE($E58:$N58,5),0) -> 98 | P58: =IF(COUNT(E58:N58)>5,5,COUNT(E58:N58)) -> 1 | Q58: =O58/P58 -> 98
B59: Martyn Roome | C59: SROC | D59: M70 | H59: 94 | O59: =IFERROR(LARGE($E59:$N59,1),0)+IFERROR(LARGE($E59:$N59,2),0)+IFERROR(LARGE($E59:$N59,3),0)+IFERROR(LARGE($E59:$N59,4),0)+IFERROR(LARGE($E59:$N59,5),0) -> 94 | P59: =IF(COUNT(E59:N59)>5,5,COUNT(E59:N59)) -> 1 | Q59: =O59/P59 -> 94
B60: Ian Thomas | C60: SROC | D60: M55 | E60: 84 | O60: =IFERROR(LARGE($E60:$N60,1),0)+IFERROR(LARGE($E60:$N60,2),0)+IFERROR(LARGE($E60:$N60,3),0)+IFERROR(LARGE($E60:$N60,4),0)+IFERROR(LARGE($E60:$N60,5),0) -> 84 | P60: =IF(COUNT(E60:N60)>5,5,COUNT(E60:N60)) -> 1 | Q60: =O60/P60 -> 84
B61: Deb Murrell | C61: SROC | D61: W60 | F61: 80 | O61: =IFERROR(LARGE($E61:$N61,1),0)+IFERROR(LARGE($E61:$N61,2),0)+IFERROR(LARGE($E61:$N61,3),0)+IFERROR(LARGE($E61:$N61,4),0)+IFERROR(LARGE($E61:$N61,5),0) -> 80 | P61: =IF(COUNT(E61:N61)>5,5,COUNT(E61:N61)) -> 1 | Q61: =O61/P61 -> 80
B62: Maisie Todhunter | C62: SROC | D62: W14 | H62: 77 | O62: =IFERROR(LARGE($E62:$N62,1),0)+IFERROR(LARGE($E62:$N62,2),0)+IFERROR(LARGE($E62:$N62,3),0)+IFERROR(LARGE($E62:$N62,4),0)+IFERROR(LARGE($E62:$N62,5),0) -> 77 | P62: =IF(COUNT(E62:N62)>5,5,COUNT(E62:N62)) -> 1 | Q62: =O62/P62 -> 77
B63: Julia Laverack | C63: WAROC | D63: W60 | F63: 73 | I63: 92 | O63: =IFERROR(LARGE($E63:$N63,1),0)+IFERROR(LARGE($E63:$N63,2),0)+IFERROR(LARGE($E63:$N63,3),0)+IFERROR(LARGE($E63:$N63,4),0)+IFERROR(LARGE($E63:$N63,5),0) -> 165 | P63: =IF(COUNT(E63:N63)>5,5,COUNT(E63:N63)) -> 2 | Q63: =O63/P63 -> 82.5
B64: Dave Hewitt | C64: WAROC | D64: M65 | E64: 67 | H64: 72 | O64: =IFERROR(LARGE($E64:$N64,1),0)+IFERROR(LARGE($E64:$N64,2),0)+IFERROR(LARGE($E64:$N64,3),0)+IFERROR(LARGE($E64:$N64,4),0)+IFERROR(LARGE($E64:$N64,5),0) -> 139 | P64: =IF(COUNT(E64:N64)>5,5,COUNT(E64:N64)) -> 2 | Q64: =O64/P64 -> 69.5
B65: Lorna Hewitt | C65: WAROC | D65: W55 | E65: 66 | H65: 59 | O65: =IFERROR(LARGE($E65:$N65,1),0)+IFERROR(LARGE($E65:$N65,2),0)+IFERROR(LARGE($E65:$N65,3),0)+IFERROR(LARGE($E65:$N65,4),0)+IFERROR(LARGE($E65:$N65,5),0) -> 125 | P65: =IF(COUNT(E65:N65)>5,5,COUNT(E65:N65)) -> 2 | Q65: =O65/P65 -> 62.5
B66: Annette Smith | C66: WAROC | D66: W45 | F66: 67 | O66: =IFERROR(LARGE($E66:$N66,1),0)+IFERROR(LARGE($E66:$N66,2),0)+IFERROR(LARGE($E66:$N66,3),0)+IFERROR(LARGE($E66:$N66,4),0)+IFERROR(LARGE($E66:$N66,5),0) -> 67 | P66: =IF(COUNT(E66:N66)>5,5,COUNT(E66:N66)) -> 1 | Q66: =O66/P66 -> 67
B67: Lucie Kelly | C67: WAROC | D67: W45 | F67: 56 | O67: =IFERROR(LARGE($E67:$N67,1),0)+IFERROR(LARGE($E67:$N67,2),0)+IFERROR(LARGE($E67:$N67,3),0)+IFERROR(LARGE($E67:$N67,4),0)+IFERROR(LARGE($E67:$N67,5),0) -> 56 | P67: =IF(COUNT(E67:N67)>5,5,COUNT(E67:N67)) -> 1 | Q67: =O67/P67 -> 56
B68: Roger Thomas | C68: WCOC | D68: M65 | E68: 83 | F68: 85 | G68: 95 | H68: 88 | I68: 94 | O68: =IFERROR(LARGE($E68:$N68,1),0)+IFERROR(LARGE($E68:$N68,2),0)+IFERROR(LARGE($E68:$N68,3),0)+IFERROR(LARGE($E68:$N68,4),0)+IFERROR(LARGE($E68:$N68,5),0) -> 445 | P68: =IF(COUNT(E68:N68)>5,5,COUNT(E68:N68)) -> 5 | Q68: =O68/P68 -> 89
B69: Howard Leslie | C69: WCOC | D69: M60 | E69: 91 | F69: 87 | G69: 97 | H69: 95 | O69: =IFERROR(LARGE($E69:$N69,1),0)+IFERROR(LARGE($E69:$N69,2),0)+IFERROR(LARGE($E69:$N69,3),0)+IFERROR(LARGE($E69:$N69,4),0)+IFERROR(LARGE($E69:$N69,5),0) -> 370 | P69: =IF(COUNT(E69:N69)>5,5,COUNT(E69:N69)) -> 4 | Q69: =O69/P69 -> 92.5
B70: Susan Skinner | C70: WCOC | D70: W60 | E70: 89 | F70: 91 | G70: 93 | H70: 84 | O70: =IFERROR(LARGE($E70:$N70,1),0)+IFERROR(LARGE($E70:$N70,2),0)+IFERROR(LARGE($E70:$N70,3),0)+IFERROR(LARGE($E70:$N70,4),0)+IFERROR(LARGE($E70:$N70,5),0) -> 357 | P70: =IF(COUNT(E70:N70)>5,5,COUNT(E70:N70)) -> 4 | Q70: =O70/P70 -> 89.25
B71: Janette McHendry | C71: WCOC | D71: W55 | E71: 65 | F71: 58 | G71: 71 | H71: 73 | I71: 85 | O71: =IFERROR(LARGE($E71:$N71,1),0)+IFERROR(LARGE($E71:$N71,2),0)+IFERROR(LARGE($E71:$N71,3),0)+IFERROR(LARGE($E71:$N71,4),0)+IFERROR(LARGE($E71:$N71,5),0) -> 352 | P71: =IF(COUNT(E71:N71)>5,5,COUNT(E71:N71)) -> 5 | Q71: =O71/P71 -> 70.4
B72: David Downes | C72: WCOC | D72: M70 | E72: 74 | F72: 64 | G72: 76 | I72: 82 | O72: =IFERROR(LARGE($E72:$N72,1),0)+IFERROR(LARGE($E72:$N72,2),0)+IFERROR(LARGE($E72:$N72,3),0)+IFERROR(LARGE($E72:$N72,4),0)+IFERROR(LARGE($E72:$N72,5),0) -> 296 | P72: =IF(COUNT(E72:N72)>5,5,COUNT(E72:N72)) -> 4 | Q72: =O72/P72 -> 74
B73: Chris Pollitt | C73: WCOC | D73: M65 | E73: 96 | H73: 98 | I73: 95 | O73: =IFERROR(LARGE($E73:$N73,1),0)+IFERROR(LARGE($E73:$N73,2),0)+IFERROR(LARGE($E73:$N73,3),0)+IFERROR(LARGE($E73:$N73,4),0)+IFERROR(LARGE($E73:$N73,5),0) -> 289 | P73: =IF(COUNT(E73:N73)>5,5,COUNT(E73:N73)) -> 3 | Q73: =O73/P73 -> 96.333333
B74: Deborah Goodwin | C74: WCOC | D74: W65 | E74: 62 | F74: 60 | G74: 66 | I74: 74 | O74: =IFERROR(LARGE($E74:$N74,1),0)+IFERROR(LARGE($E74:$N74,2),0)+IFERROR(LARGE($E74:$N74,3),0)+IFERROR(LARGE($E74:$N74,4),0)+IFERROR(LARGE($E74:$N74,5),0) -> 262 | P74: =IF(COUNT(E74:N74)>5,5,COUNT(E74:N74)) -> 4 | Q74: =O74/P74 -> 65.5
B75: Lynne Thomas | C75: WCOC | D75: W55 | E75: 88 | F75: 84 | H75: 89 | O75: =IFERROR(LARGE($E75:$N75,1),0)+IFERROR(LARGE($E75:$N75,2),0)+IFERROR(LARGE($E75:$N75,3),0)+IFERROR(LARGE($E75:$N75,4),0)+IFERROR(LARGE($E75:$N75,5),0) -> 261 | P75: =IF(COUNT(E75:N75)>5,5,COUNT(E75:N75)) -> 3 | Q75: =O75/P75 -> 87
B76: Bob Barnby | C76: WCOC | D76: M75 | E76: 86 | G76: 83 | H76: 74 | O76: =IFERROR(LARGE($E76:$N76,1),0)+IFERROR(LARGE($E76:$N76,2),0)+IFERROR(LARGE($E76:$N76,3),0)+IFERROR(LARGE($E76:$N76,4),0)+IFERROR(LARGE($E76:$N76,5),0) -> 243 | P76: =IF(COUNT(E76:N76)>5,5,COUNT(E76:N76)) -> 3 | Q76: =O76/P76 -> 81
B77: Kim Leslie | C77: WCOC | D77: W60 | G77: 81 | H77: 69 | I77: 93 | O77: =IFERROR(LARGE($E77:$N77,1),0)+IFERROR(LARGE($E77:$N77,2),0)+IFERROR(LARGE($E77:$N77,3),0)+IFERROR(LARGE($E77:$N77,4),0)+IFERROR(LARGE($E77:$N77,5),0) -> 243 | P77: =IF(COUNT(E77:N77)>5,5,COUNT(E77:N77)) -> 3 | Q77: =O77/P77 -> 81
B78: Anne Burbidge | C78: WCOC | D78: W65 | E78: 69 | F78: 83 | G78: 90 | O78: =IFERROR(LARGE($E78:$N78,1),0)+IFERROR(LARGE($E78:$N78,2),0)+IFERROR(LARGE($E78:$N78,3),0)+IFERROR(LARGE($E78:$N78,4),0)+IFERROR(LARGE($E78:$N78,5),0) -> 242 | P78: =IF(COUNT(E78:N78)>5,5,COUNT(E78:N78)) -> 3 | Q78: =O78/P78 -> 80.666667
B79: Sally Heppell | C79: WCOC | D79: W45 | E79: 57 | H79: 91 | I79: 83 | O79: =IFERROR(LARGE($E79:$N79,1),0)+IFERROR(LARGE($E79:$N79,2),0)+IFERROR(LARGE($E79:$N79,3),0)+IFERROR(LARGE($E79:$N79,4),0)+IFERROR(LARGE($E79:$N79,5),0) -> 231 | P79: =IF(COUNT(E79:N79)>5,5,COUNT(E79:N79)) -> 3 | Q79: =O79/P79 -> 77
B80: Emma Trott | C80: WCOC | D80: W21 | E80: 80 | G80: 68 | H80: 70 | O80: =IFERROR(LARGE($E80:$N80,1),0)+IFERROR(LARGE($E80:$N80,2),0)+IFERROR(LARGE($E80:$N80,3),0)+IFERROR(LARGE($E80:$N80,4),0)+IFERROR(LARGE($E80:$N80,5),0) -> 218 | P80: =IF(COUNT(E80:N80)>5,5,COUNT(E80:N80)) -> 3 | Q80: =O80/P80 -> 72.666667
B81: John Ferris-Worth | C81: WCOC | D81: M60 | G81: 82 | H81: 96 | O81: =IFERROR(LARGE($E81:$N81,1),0)+IFERROR(LARGE($E81:$N81,2),0)+IFERROR(LARGE($E81:$N81,3),0)+IFERROR(LARGE($E81:$N81,4),0)+IFERROR(LARGE($E81:$N81,5),0) -> 178 | P81: =IF(COUNT(E81:N81)>5,5,COUNT(E81:N81)) -> 2 | Q81: =O81/P81 -> 89
B82: Graham Watson | C82: WCOC | D82: M60 | E82: 75 | G82: 98 | O82: =IFERROR(LARGE($E82:$N82,1),0)+IFERROR(LARGE($E82:$N82,2),0)+IFERROR(LARGE($E82:$N82,3),0)+IFERROR(LARGE($E82:$N82,4),0)+IFERROR(LARGE($E82:$N82,5),0) -> 173 | P82: =IF(COUNT(E82:N82)>5,5,COUNT(E82:N82)) -> 2 | Q82: =O82/P82 -> 86.5
B83: Helen Rennie | C83: WCOC | D83: W50 | E83: 82 | F83: 82 | O83: =IFERROR(LARGE($E83:$N83,1),0)+IFERROR(LARGE($E83:$N83,2),0)+IFERROR(LARGE($E83:$N83,3),0)+IFERROR(LARGE($E83:$N83,4),0)+IFERROR(LARGE($E83:$N83,5),0) -> 164 | P83: =IF(COUNT(E83:N83)>5,5,COUNT(E83:N83)) -> 2 | Q83: =O83/P83 -> 82
B84: Pete Nelson | C84: WCOC | D84: M70 | H84: 78 | I84: 86 | O84: =IFERROR(LARGE($E84:$N84,1),0)+IFERROR(LARGE($E84:$N84,2),0)+IFERROR(LARGE($E84:$N84,3),0)+IFERROR(LARGE($E84:$N84,4),0)+IFERROR(LARGE($E84:$N84,5),0) -> 164 | P84: =IF(COUNT(E84:N84)>5,5,COUNT(E84:N84)) -> 2 | Q84: =O84/P84 -> 82
B85: Adele Newall | C85: WCOC | D85: W65 | F85: 57 | H85: 68 | O85: =IFERROR(LARGE($E85:$N85,1),0)+IFERROR(LARGE($E85:$N85,2),0)+IFERROR(LARGE($E85:$N85,3),0)+IFERROR(LARGE($E85:$N85,4),0)+IFERROR(LARGE($E85:$N85,5),0) -> 125 | P85: =IF(COUNT(E85:N85)>5,5,COUNT(E85:N85)) -> 2 | Q85: =O85/P85 -> 62.5
B86: Graham Patten | C86: WCOC | D86: M60 | F86: 99 | O86: =IFERROR(LARGE($E86:$N86,1),0)+IFERROR(LARGE($E86:$N86,2),0)+IFERROR(LARGE($E86:$N86,3),0)+IFERROR(LARGE($E86:$N86,4),0)+IFERROR(LARGE($E86:$N86,5),0) -> 99 | P86: =IF(COUNT(E86:N86)>5,5,COUNT(E86:N86)) -> 1 | Q86: =O86/P86 -> 99
B87: Isaac Hunter | C87: WCOC | D87: M20 | E87: 98 | O87: =IFERROR(LARGE($E87:$N87,1),0)+IFERROR(LARGE($E87:$N87,2),0)+IFERROR(LARGE($E87:$N87,3),0)+IFERROR(LARGE($E87:$N87,4),0)+IFERROR(LARGE($E87:$N87,5),0) -> 98 | P87: =IF(COUNT(E87:N87)>5,5,COUNT(E87:N87)) -> 1 | Q87: =O87/P87 -> 98
B88: Catherine Henderson | C88: WCOC | D88: W45 | G88: 96 | O88: =IFERROR(LARGE($E88:$N88,1),0)+IFERROR(LARGE($E88:$N88,2),0)+IFERROR(LARGE($E88:$N88,3),0)+IFERROR(LARGE($E88:$N88,4),0)+IFERROR(LARGE($E88:$N88,5),0) -> 96 | P88: =IF(COUNT(E88:N88)>5,5,COUNT(E88:N88)) -> 1 | Q88: =O88/P88 -> 96
B89: Carys Thomas | C89: WCOC | D89: W21 | E89: 95 | O89: =IFERROR(LARGE($E89:$N89,1),0)+IFERROR(LARGE($E89:$N89,2),0)+IFERROR(LARGE($E89:$N89,3),0)+IFERROR(LARGE($E89:$N89,4),0)+IFERROR(LARGE($E89:$N89,5),0) -> 95 | P89: =IF(COUNT(E89:N89)>5,5,COUNT(E89:N89)) -> 1 | Q89: =O89/P89 -> 95
B90: Samuel Morris | C90: WCOC | D90: M16 | E90: 93 | O90: =IFERROR(LARGE($E90:$N90,1),0)+IFERROR(LARGE($E90:$N90,2),0)+IFERROR(LARGE($E90:$N90,3),0)+IFERROR(LARGE($E90:$N90,4),0)+IFERROR(LARGE($E90:$N90,5),0) -> 93 | P90: =IF(COUNT(E90:N90)>5,5,COUNT(E90:N90)) -> 1 | Q90: =O90/P90 -> 93
B91: Richard Cummings | C91: WCOC | D91: M65 | I91: 87 | O91: =IFERROR(LARGE($E91:$N91,1),0)+IFERROR(LARGE($E91:$N91,2),0)+IFERROR(LARGE($E91:$N91,3),0)+IFERROR(LARGE($E91:$N91,4),0)+IFERROR(LARGE($E91:$N91,5),0) -> 87 | P91: =IF(COUNT(E91:N91)>5,5,COUNT(E91:N91)) -> 1 | Q91: =O91/P91 -> 87
B92: Emma Moody | C92: WCOC | D92: W55 | E92: 85 | O92: =IFERROR(LARGE($E92:$N92,1),0)+IFERROR(LARGE($E92:$N92,2),0)+IFERROR(LARGE($E92:$N92,3),0)+IFERROR(LARGE($E92:$N92,4),0)+IFERROR(LARGE($E92:$N92,5),0) -> 85 | P92: =IF(COUNT(E92:N92)>5,5,COUNT(E92:N92)) -> 1 | Q92: =O92/P92 -> 85
B93: Nick Evans | C93: WCOC | D93: M65 | G93: 85 | O93: =IFERROR(LARGE($E93:$N93,1),0)+IFERROR(LARGE($E93:$N93,2),0)+IFERROR(LARGE($E93:$N93,3),0)+IFERROR(LARGE($E93:$N93,4),0)+IFERROR(LARGE($E93:$N93,5),0) -> 85 | P93: =IF(COUNT(E93:N93)>5,5,COUNT(E93:N93)) -> 1 | Q93: =O93/P93 -> 85
B94: Simon Franklin | C94: WCOC | D94: M60 | E94: 81 | O94: =IFERROR(LARGE($E94:$N94,1),0)+IFERROR(LARGE($E94:$N94,2),0)+IFERROR(LARGE($E94:$N94,3),0)+IFERROR(LARGE($E94:$N94,4),0)+IFERROR(LARGE($E94:$N94,5),0) -> 81 | P94: =IF(COUNT(E94:N94)>5,5,COUNT(E94:N94)) -> 1 | Q94: =O94/P94 -> 81
B95: Nick Moore | C95: WCOC | D95: M65 | G95: 73 | O95: =IFERROR(LARGE($E95:$N95,1),0)+IFERROR(LARGE($E95:$N95,2),0)+IFERROR(LARGE($E95:$N95,3),0)+IFERROR(LARGE($E95:$N95,4),0)+IFERROR(LARGE($E95:$N95,5),0) -> 73 | P95: =IF(COUNT(E95:N95)>5,5,COUNT(E95:N95)) -> 1 | Q95: =O95/P95 -> 73
B96: Alex Crawford | C96: WCOC | D96: W55 | E96: 71 | O96: =IFERROR(LARGE($E96:$N96,1),0)+IFERROR(LARGE($E96:$N96,2),0)+IFERROR(LARGE($E96:$N96,3),0)+IFERROR(LARGE($E96:$N96,4),0)+IFERROR(LARGE($E96:$N96,5),0) -> 71 | P96: =IF(COUNT(E96:N96)>5,5,COUNT(E96:N96)) -> 1 | Q96: =O96/P96 -> 71
B97: Paul Tickner | C97: WCOC | D97: M70 | E97: 58 | O97: =IFERROR(LARGE($E97:$N97,1),0)+IFERROR(LARGE($E97:$N97,2),0)+IFERROR(LARGE($E97:$N97,3),0)+IFERROR(LARGE($E97:$N97,4),0)+IFERROR(LARGE($E97:$N97,5),0) -> 58 | P97: =IF(COUNT(E97:N97)>5,5,COUNT(E97:N97)) -> 1 | Q97: =O97/P97 -> 58
B98: Aaron Rennie | C98: WCOC | D98: M40 | H98: 55 | O98: =IFERROR(LARGE($E98:$N98,1),0)+IFERROR(LARGE($E98:$N98,2),0)+IFERROR(LARGE($E98:$N98,3),0)+IFERROR(LARGE($E98:$N98,4),0)+IFERROR(LARGE($E98:$N98,5),0) -> 55 | P98: =IF(COUNT(E98:N98)>5,5,COUNT(E98:N98)) -> 1 | Q98: =O98/P98 -> 55

Sheet Blue
B1: Blue | E1: =Yellow!E2 -> Hawse End WCOC | F1: =Yellow!F2 -> Silver How LOC | G1: =Yellow!G2 -> Bea Tarn WCOC | H1: =Yellow!H2 -> Bampton Common BL | I1: =Yellow!I2 -> Troutal Fell LOC | J1: =Yellow!J2 -> 0 | K1: =Yellow!K2 -> 0 | L1: =Yellow!L2 -> 0 | ... N1: =Yellow!N2 -> 0 | O1: Galoppen Score | P1: Number of Counting Scores | Q1: Average of Counting Scores
B2: Name | C2: Club | D2: Age Class | O2: Galoppen Score
B3: Isabel Berry | C3: BL | D3: W45 | F3: 91 | G3: 90 | H3: 93 | I3: 94 | O3: =IFERROR(LARGE($E3:$N3,1),0)+IFERROR(LARGE($E3:$N3,2),0)+IFERROR(LARGE($E3:$N3,3),0)+IFERROR(LARGE($E3:$N3,4),0)+IFERROR(LARGE($E3:$N3,5),0) -> 368 | P3: =IF(COUNT(E3:N3)>5,5,COUNT(E3:N3)) -> 4 | Q3: =O3/P3 -> 92
B4: Jill Libby | C4: BL | D4: W65 | E4: 80 | F4: 74 | G4: 92 | O4: =IFERROR(LARGE($E4:$N4,1),0)+IFERROR(LARGE($E4:$N4,2),0)+IFERROR(LARGE($E4:$N4,3),0)+IFERROR(LARGE($E4:$N4,4),0)+IFERROR(LARGE($E4:$N4,5),0) -> 246 | P4: =IF(COUNT(E4:N4)>5,5,COUNT(E4:N4)) -> 3 | Q4: =O4/P4 -> 82
B5: Owain Rice | C5: BL | D5: M35 | E5: 89 | F5: 90 | O5: =IFERROR(LARGE($E5:$N5,1),0)+IFERROR(LARGE($E5:$N5,2),0)+IFERROR(LARGE($E5:$N5,3),0)+IFERROR(LARGE($E5:$N5,4),0)+IFERROR(LARGE($E5:$N5,5),0) -> 179 | P5: =IF(COUNT(E5:N5)>5,5,COUNT(E5:N5)) -> 2 | Q5: =O5/P5 -> 89.5
B6: Keith Tonkin | C6: BL | D6: M65 | F6: 97 | O6: =IFERROR(LARGE($E6:$N6,1),0)+IFERROR(LARGE($E6:$N6,2),0)+IFERROR(LARGE($E6:$N6,3),0)+IFERROR(LARGE($E6:$N6,4),0)+IFERROR(LARGE($E6:$N6,5),0) -> 97 | P6: =IF(COUNT(E6:N6)>5,5,COUNT(E6:N6)) -> 1 | Q6: =O6/P6 -> 97
B7: Paul Gaines | C7: BL | D7: M55 | E7: 90 | O7: =IFERROR(LARGE($E7:$N7,1),0)+IFERROR(LARGE($E7:$N7,2),0)+IFERROR(LARGE($E7:$N7,3),0)+IFERROR(LARGE($E7:$N7,4),0)+IFERROR(LARGE($E7:$N7,5),0) -> 90 | P7: =IF(COUNT(E7:N7)>5,5,COUNT(E7:N7)) -> 1 | Q7: =O7/P7 -> 90
B8: Christine Goulding | C8: BL | D8: W60 | H8: 82 | O8: =IFERROR(LARGE($E8:$N8,1),0)+IFERROR(LARGE($E8:$N8,2),0)+IFERROR(LARGE($E8:$N8,3),0)+IFERROR(LARGE($E8:$N8,4),0)+IFERROR(LARGE($E8:$N8,5),0) -> 82 | P8: =IF(COUNT(E8:N8)>5,5,COUNT(E8:N8)) -> 1 | Q8: =O8/P8 -> 82
B9: Matthew Rooke | C9: LOC | D9: M35 | E9: 99 | G9: 99 | H9: 99 | I9: 99 | O9: =IFERROR(LARGE($E9:$N9,1),0)+IFERROR(LARGE($E9:$N9,2),0)+IFERROR(LARGE($E9:$N9,3),0)+IFERROR(LARGE($E9:$N9,4),0)+IFERROR(LARGE($E9:$N9,5),0) -> 396 | P9: =IF(COUNT(E9:N9)>5,5,COUNT(E9:N9)) -> 4 | Q9: =O9/P9 -> 99
B10: Derek Ratcliffe | C10: LOC | D10: M70 | F10: 88 | G10: 91 | H10: 91 | I10: 90 | O10: =IFERROR(LARGE($E10:$N10,1),0)+IFERROR(LARGE($E10:$N10,2),0)+IFERROR(LARGE($E10:$N10,3),0)+IFERROR(LARGE($E10:$N10,4),0)+IFERROR(LARGE($E10:$N10,5),0) -> 360 | P10: =IF(COUNT(E10:N10)>5,5,COUNT(E10:N10)) -> 4 | Q10: =O10/P10 -> 90
B11: Nick Howlett | C11: LOC | D11: M55 | E11: 94 | F11: 95 | H11: 87 | O11: =IFERROR(LARGE($E11:$N11,1),0)+IFERROR(LARGE($E11:$N11,2),0)+IFERROR(LARGE($E11:$N11,3),0)+IFERROR(LARGE($E11:$N11,4),0)+IFERROR(LARGE($E11:$N11,5),0) -> 276 | P11: =IF(COUNT(E11:N11)>5,5,COUNT(E11:N11)) -> 3 | Q11: =O11/P11 -> 92
B12: Jo Cleary | C12: LOC | D12: W60 | F12: 87 | H12: 83 | I12: 89 | O12: =IFERROR(LARGE($E12:$N12,1),0)+IFERROR(LARGE($E12:$N12,2),0)+IFERROR(LARGE($E12:$N12,3),0)+IFERROR(LARGE($E12:$N12,4),0)+IFERROR(LARGE($E12:$N12,5),0) -> 259 | P12: =IF(COUNT(E12:N12)>5,5,COUNT(E12:N12)) -> 3 | Q12: =O12/P12 -> 86.333333
B13: Ian Haslett | C13: LOC | D13: M45 | E13: 87 | F13: 82 | H13: 85 | O13: =IFERROR(LARGE($E13:$N13,1),0)+IFERROR(LARGE($E13:$N13,2),0)+IFERROR(LARGE($E13:$N13,3),0)+IFERROR(LARGE($E13:$N13,4),0)+IFERROR(LARGE($E13:$N13,5),0) -> 254 | P13: =IF(COUNT(E13:N13)>5,5,COUNT(E13:N13)) -> 3 | Q13: =O13/P13 -> 84.666667
B14: Eleanor Osborne | C14: LOC | D14: W50 | F14: 71 | G14: 81 | H14: 89 | O14: =IFERROR(LARGE($E14:$N14,1),0)+IFERROR(LARGE($E14:$N14,2),0)+IFERROR(LARGE($E14:$N14,3),0)+IFERROR(LARGE($E14:$N14,4),0)+IFERROR(LARGE($E14:$N14,5),0) -> 241 | P14: =IF(COUNT(E14:N14)>5,5,COUNT(E14:N14)) -> 3 | Q14: =O14/P14 -> 80.333333
B15: Mike Hooper | C15: LOC | D15: M55 | F15: 86 | I15: 97 | O15: =IFERROR(LARGE($E15:$N15,1),0)+IFERROR(LARGE($E15:$N15,2),0)+IFERROR(LARGE($E15:$N15,3),0)+IFERROR(LARGE($E15:$N15,4),0)+IFERROR(LARGE($E15:$N15,5),0) -> 183 | P15: =IF(COUNT(E15:N15)>5,5,COUNT(E15:N15)) -> 2 | Q15: =O15/P15 -> 91.5
B16: Daniel Hughes | C16: LOC | D16: M50 | F16: 77 | G16: 97 | O16: =IFERROR(LARGE($E16:$N16,1),0)+IFERROR(LARGE($E16:$N16,2),0)+IFERROR(LARGE($E16:$N16,3),0)+IFERROR(LARGE($E16:$N16,4),0)+IFERROR(LARGE($E16:$N16,5),0) -> 174 | P16: =IF(COUNT(E16:N16)>5,5,COUNT(E16:N16)) -> 2 | Q16: =O16/P16 -> 87
B17: Richard Tiley | C17: LOC | D17: M65 | E17: 77 | F17: 76 | O17: =IFERROR(LARGE($E17:$N17,1),0)+IFERROR(LARGE($E17:$N17,2),0)+IFERROR(LARGE($E17:$N17,3),0)+IFERROR(LARGE($E17:$N17,4),0)+IFERROR(LARGE($E17:$N17,5),0) -> 153 | P17: =IF(COUNT(E17:N17)>5,5,COUNT(E17:N17)) -> 2 | Q17: =O17/P17 -> 76.5
B18: Derek Fryer | C18: LOC | D18: M70 | E18: 79 | G18: 71 | O18: =IFERROR(LARGE($E18:$N18,1),0)+IFERROR(LARGE($E18:$N18,2),0)+IFERROR(LARGE($E18:$N18,3),0)+IFERROR(LARGE($E18:$N18,4),0)+IFERROR(LARGE($E18:$N18,5),0) -> 150 | P18: =IF(COUNT(E18:N18)>5,5,COUNT(E18:N18)) -> 2 | Q18: =O18/P18 -> 75
B19: Robert Browne | C19: LOC | D19: M35 | F19: 99 | O19: =IFERROR(LARGE($E19:$N19,1),0)+IFERROR(LARGE($E19:$N19,2),0)+IFERROR(LARGE($E19:$N19,3),0)+IFERROR(LARGE($E19:$N19,4),0)+IFERROR(LARGE($E19:$N19,5),0) -> 99 | P19: =IF(COUNT(E19:N19)>5,5,COUNT(E19:N19)) -> 1 | Q19: =O19/P19 -> 99
B20: Gary Lingard | C20: LOC | D20: M55 | I20: 92 | O20: =IFERROR(LARGE($E20:$N20,1),0)+IFERROR(LARGE($E20:$N20,2),0)+IFERROR(LARGE($E20:$N20,3),0)+IFERROR(LARGE($E20:$N20,4),0)+IFERROR(LARGE($E20:$N20,5),0) -> 92 | P20: =IF(COUNT(E20:N20)>5,5,COUNT(E20:N20)) -> 1 | Q20: =O20/P20 -> 92
B21: Amelia Thompson | C21: LOC | D21: W20 | I21: 88 | O21: =IFERROR(LARGE($E21:$N21,1),0)+IFERROR(LARGE($E21:$N21,2),0)+IFERROR(LARGE($E21:$N21,3),0)+IFERROR(LARGE($E21:$N21,4),0)+IFERROR(LARGE($E21:$N21,5),0) -> 88 | P21: =IF(COUNT(E21:N21)>5,5,COUNT(E21:N21)) -> 1 | Q21: =O21/P21 -> 88
B22: Rebekah Beadle | C22: LOC | D22: W60 | G22: 79 | O22: =IFERROR(LARGE($E22:$N22,1),0)+IFERROR(LARGE($E22:$N22,2),0)+IFERROR(LARGE($E22:$N22,3),0)+IFERROR(LARGE($E22:$N22,4),0)+IFERROR(LARGE($E22:$N22,5),0) -> 79 | P22: =IF(COUNT(E22:N22)>5,5,COUNT(E22:N22)) -> 1 | Q22: =O22/P22 -> 79
B23: Duncan Conway | C23: LOC | D23: M55 | F23: 70 | O23: =IFERROR(LARGE($E23:$N23,1),0)+IFERROR(LARGE($E23:$N23,2),0)+IFERROR(LARGE($E23:$N23,3),0)+IFERROR(LARGE($E23:$N23,4),0)+IFERROR(LARGE($E23:$N23,5),0) -> 70 | P23: =IF(COUNT(E23:N23)>5,5,COUNT(E23:N23)) -> 1 | Q23: =O23/P23 -> 70
B24: Nigel Hulley | C24: LOC | D24: M65 | F24: 67 | O24: =IFERROR(LARGE($E24:$N24,1),0)+IFERROR(LARGE($E24:$N24,2),0)+IFERROR(LARGE($E24:$N24,3),0)+IFERROR(LARGE($E24:$N24,4),0)+IFERROR(LARGE($E24:$N24,5),0) -> 67 | P24: =IF(COUNT(E24:N24)>5,5,COUNT(E24:N24)) -> 1 | Q24: =O24/P24 -> 67
B25: Edward Shawcross | C25: SROC | D25: M16 | E25: 98 | F25: 98 | G25: 89 | I25: 93 | O25: =IFERROR(LARGE($E25:$N25,1),0)+IFERROR(LARGE($E25:$N25,2),0)+IFERROR(LARGE($E25:$N25,3),0)+IFERROR(LARGE($E25:$N25,4),0)+IFERROR(LARGE($E25:$N25,5),0) -> 378 | P25: =IF(COUNT(E25:N25)>5,5,COUNT(E25:N25)) -> 4 | Q25: =O25/P25 -> 94.5
B26: Rebecca Rowe | C26: SROC | D26: W45 | E26: 85 | G26: 83 | H26: 84 | I26: 87 | O26: =IFERROR(LARGE($E26:$N26,1),0)+IFERROR(LARGE($E26:$N26,2),0)+IFERROR(LARGE($E26:$N26,3),0)+IFERROR(LARGE($E26:$N26,4),0)+IFERROR(LARGE($E26:$N26,5),0) -> 339 | P26: =IF(COUNT(E26:N26)>5,5,COUNT(E26:N26)) -> 4 | Q26: =O26/P26 -> 84.75
B27: Tania Milnes | C27: SROC | D27: W50 | E27: 83 | F27: 79 | G27: 73 | I27: 85 | O27: =IFERROR(LARGE($E27:$N27,1),0)+IFERROR(LARGE($E27:$N27,2),0)+IFERROR(LARGE($E27:$N27,3),0)+IFERROR(LARGE($E27:$N27,4),0)+IFERROR(LARGE($E27:$N27,5),0) -> 320 | P27: =IF(COUNT(E27:N27)>5,5,COUNT(E27:N27)) -> 4 | Q27: =O27/P27 -> 80
B28: Jo Matthew | C28: SROC | D28: W50 | F28: 69 | G28: 86 | H28: 80 | I28: 83 | O28: =IFERROR(LARGE($E28:$N28,1),0)+IFERROR(LARGE($E28:$N28,2),0)+IFERROR(LARGE($E28:$N28,3),0)+IFERROR(LARGE($E28:$N28,4),0)+IFERROR(LARGE($E28:$N28,5),0) -> 318 | P28: =IF(COUNT(E28:N28)>5,5,COUNT(E28:N28)) -> 4 | Q28: =O28/P28 -> 79.5
B29: Ian Thomas | C29: SROC | D29: M55 | G29: 80 | H29: 92 | I29: 98 | O29: =IFERROR(LARGE($E29:$N29,1),0)+IFERROR(LARGE($E29:$N29,2),0)+IFERROR(LARGE($E29:$N29,3),0)+IFERROR(LARGE($E29:$N29,4),0)+IFERROR(LARGE($E29:$N29,5),0) -> 270 | P29: =IF(COUNT(E29:N29)>5,5,COUNT(E29:N29)) -> 3 | Q29: =O29/P29 -> 90
B30: John Taylor | C30: SROC | D30: M75 | F30: 80 | G30: 82 | H30: 78 | O30: =IFERROR(LARGE($E30:$N30,1),0)+IFERROR(LARGE($E30:$N30,2),0)+IFERROR(LARGE($E30:$N30,3),0)+IFERROR(LARGE($E30:$N30,4),0)+IFERROR(LARGE($E30:$N30,5),0) -> 240 | P30: =IF(COUNT(E30:N30)>5,5,COUNT(E30:N30)) -> 3 | Q30: =O30/P30 -> 80
B31: Ewan Killilea | C31: SROC | D31: M16 | E31: 95 | F31: 83 | O31: =IFERROR(LARGE($E31:$N31,1),0)+IFERROR(LARGE($E31:$N31,2),0)+IFERROR(LARGE($E31:$N31,3),0)+IFERROR(LARGE($E31:$N31,4),0)+IFERROR(LARGE($E31:$N31,5),0) -> 178 | P31: =IF(COUNT(E31:N31)>5,5,COUNT(E31:N31)) -> 2 | Q31: =O31/P31 -> 89
B32: James Todhunter | C32: SROC | D32: M45 | H32: 98 | O32: =IFERROR(LARGE($E32:$N32,1),0)+IFERROR(LARGE($E32:$N32,2),0)+IFERROR(LARGE($E32:$N32,3),0)+IFERROR(LARGE($E32:$N32,4),0)+IFERROR(LARGE($E32:$N32,5),0) -> 98 | P32: =IF(COUNT(E32:N32)>5,5,COUNT(E32:N32)) -> 1 | Q32: =O32/P32 -> 98
B33: Tim Stallard | C33: SROC | D33: M45 | H33: 94 | O33: =IFERROR(LARGE($E33:$N33,1),0)+IFERROR(LARGE($E33:$N33,2),0)+IFERROR(LARGE($E33:$N33,3),0)+IFERROR(LARGE($E33:$N33,4),0)+IFERROR(LARGE($E33:$N33,5),0) -> 94 | P33: =IF(COUNT(E33:N33)>5,5,COUNT(E33:N33)) -> 1 | Q33: =O33/P33 -> 94
B34: Ellie Todhunter | C34: SROC | D34: W18 | F34: 93 | O34: =IFERROR(LARGE($E34:$N34,1),0)+IFERROR(LARGE($E34:$N34,2),0)+IFERROR(LARGE($E34:$N34,3),0)+IFERROR(LARGE($E34:$N34,4),0)+IFERROR(LARGE($E34:$N34,5),0) -> 93 | P34: =IF(COUNT(E34:N34)>5,5,COUNT(E34:N34)) -> 1 | Q34: =O34/P34 -> 93
B35: Lucie Todhunter | C35: SROC | D35: W45 | F35: 92 | O35: =IFERROR(LARGE($E35:$N35,1),0)+IFERROR(LARGE($E35:$N35,2),0)+IFERROR(LARGE($E35:$N35,3),0)+IFERROR(LARGE($E35:$N35,4),0)+IFERROR(LARGE($E35:$N35,5),0) -> 92 | P35: =IF(COUNT(E35:N35)>5,5,COUNT(E35:N35)) -> 1 | Q35: =O35/P35 -> 92
B36: Thomas Chapman | C36: SROC | D36: M16 | E36: 91 | O36: =IFERROR(LARGE($E36:$N36,1),0)+IFERROR(LARGE($E36:$N36,2),0)+IFERROR(LARGE($E36:$N36,3),0)+IFERROR(LARGE($E36:$N36,4),0)+IFERROR(LARGE($E36:$N36,5),0) -> 91 | P36: =IF(COUNT(E36:N36)>5,5,COUNT(E36:N36)) -> 1 | Q36: =O36/P36 -> 91
B37: Mary Ockenden | C37: SROC | D37: W65 | G37: 77 | O37: =IFERROR(LARGE($E37:$N37,1),0)+IFERROR(LARGE($E37:$N37,2),0)+IFERROR(LARGE($E37:$N37,3),0)+IFERROR(LARGE($E37:$N37,4),0)+IFERROR(LARGE($E37:$N37,5),0) -> 77 | P37: =IF(COUNT(E37:N37)>5,5,COUNT(E37:N37)) -> 1 | Q37: =O37/P37 -> 77
B38: Julia Preston | C38: SROC | D38: W40 | F38: 73 | O38: =IFERROR(LARGE($E38:$N38,1),0)+IFERROR(LARGE($E38:$N38,2),0)+IFERROR(LARGE($E38:$N38,3),0)+IFERROR(LARGE($E38:$N38,4),0)+IFERROR(LARGE($E38:$N38,5),0) -> 73 | P38: =IF(COUNT(E38:N38)>5,5,COUNT(E38:N38)) -> 1 | Q38: =O38/P38 -> 73
B39: Simon Thomas | C39: WCOC | D39: M45 | E39: 84 | F39: 78 | G39: 76 | H39: 79 | I39: 84 | O39: =IFERROR(LARGE($E39:$N39,1),0)+IFERROR(LARGE($E39:$N39,2),0)+IFERROR(LARGE($E39:$N39,3),0)+IFERROR(LARGE($E39:$N39,4),0)+IFERROR(LARGE($E39:$N39,5),0) -> 401 | P39: =IF(COUNT(E39:N39)>5,5,COUNT(E39:N39)) -> 5 | Q39: =O39/P39 -> 80.2
B40: Michael Billinghurst | C40: WCOC | D40: M65 | E40: 97 | F40: 96 | H40: 95 | I40: 96 | O40: =IFERROR(LARGE($E40:$N40,1),0)+IFERROR(LARGE($E40:$N40,2),0)+IFERROR(LARGE($E40:$N40,3),0)+IFERROR(LARGE($E40:$N40,4),0)+IFERROR(LARGE($E40:$N40,5),0) -> 384 | P40: =IF(COUNT(E40:N40)>5,5,COUNT(E40:N40)) -> 4 | Q40: =O40/P40 -> 96
B41: Martin Skinner | C41: WCOC | D41: M60 | E41: 86 | F41: 72 | G41: 88 | H41: 88 | O41: =IFERROR(LARGE($E41:$N41,1),0)+IFERROR(LARGE($E41:$N41,2),0)+IFERROR(LARGE($E41:$N41,3),0)+IFERROR(LARGE($E41:$N41,4),0)+IFERROR(LARGE($E41:$N41,5),0) -> 334 | P41: =IF(COUNT(E41:N41)>5,5,COUNT(E41:N41)) -> 4 | Q41: =O41/P41 -> 83.5
B42: Emma Moody | C42: WCOC | D42: W55 | F42: 75 | G42: 84 | H42: 81 | I42: 86 | O42: =IFERROR(LARGE($E42:$N42,1),0)+IFERROR(LARGE($E42:$N42,2),0)+IFERROR(LARGE($E42:$N42,3),0)+IFERROR(LARGE($E42:$N42,4),0)+IFERROR(LARGE($E42:$N42,5),0) -> 326 | P42: =IF(COUNT(E42:N42)>5,5,COUNT(E42:N42)) -> 4 | Q42: =O42/P42 -> 81.5
B43: David Crout | C43: WCOC | D43: M55 | E43: 88 | F43: 89 | G43: 93 | O43: =IFERROR(LARGE($E43:$N43,1),0)+IFERROR(LARGE($E43:$N43,2),0)+IFERROR(LARGE($E43:$N43,3),0)+IFERROR(LARGE($E43:$N43,4),0)+IFERROR(LARGE($E43:$N43,5),0) -> 270 | P43: =IF(COUNT(E43:N43)>5,5,COUNT(E43:N43)) -> 3 | Q43: =O43/P43 -> 90
B44: Steven Breeze | C44: WCOC | D44: M55 | E44: 82 | H44: 90 | I44: 95 | O44: =IFERROR(LARGE($E44:$N44,1),0)+IFERROR(LARGE($E44:$N44,2),0)+IFERROR(LARGE($E44:$N44,3),0)+IFERROR(LARGE($E44:$N44,4),0)+IFERROR(LARGE($E44:$N44,5),0) -> 267 | P44: =IF(COUNT(E44:N44)>5,5,COUNT(E44:N44)) -> 3 | Q44: =O44/P44 -> 89
B45: Steve Holmes | C45: WCOC | D45: M55 | E45: 96 | G45: 96 | O45: =IFERROR(LARGE($E45:$N45,1),0)+IFERROR(LARGE($E45:$N45,2),0)+IFERROR(LARGE($E45:$N45,3),0)+IFERROR(LARGE($E45:$N45,4),0)+IFERROR(LARGE($E45:$N45,5),0) -> 192 | P45: =IF(COUNT(E45:N45)>5,5,COUNT(E45:N45)) -> 2 | Q45: =O45/P45 -> 96
B46: John Slater | C46: WCOC | D46: M55 | E46: 92 | H46: 97 | O46: =IFERROR(LARGE($E46:$N46,1),0)+IFERROR(LARGE($E46:$N46,2),0)+IFERROR(LARGE($E46:$N46,3),0)+IFERROR(LARGE($E46:$N46,4),0)+IFERROR(LARGE($E46:$N46,5),0) -> 189 | P46: =IF(COUNT(E46:N46)>5,5,COUNT(E46:N46)) -> 2 | Q46: =O46/P46 -> 94.5
B47: Sophie Crawford | C47: WCOC | D47: W18 | E47: 93 | F47: 94 | O47: =IFERROR(LARGE($E47:$N47,1),0)+IFERROR(LARGE($E47:$N47,2),0)+IFERROR(LARGE($E47:$N47,3),0)+IFERROR(LARGE($E47:$N47,4),0)+IFERROR(LARGE($E47:$N47,5),0) -> 187 | P47: =IF(COUNT(E47:N47)>5,5,COUNT(E47:N47)) -> 2 | Q47: =O47/P47 -> 93.5
B48: Matthew Stephens | C48: WCOC | D48: M45 | G48: 87 | H48: 96 | O48: =IFERROR(LARGE($E48:$N48,1),0)+IFERROR(LARGE($E48:$N48,2),0)+IFERROR(LARGE($E48:$N48,3),0)+IFERROR(LARGE($E48:$N48,4),0)+IFERROR(LARGE($E48:$N48,5),0) -> 183 | P48: =IF(COUNT(E48:N48)>5,5,COUNT(E48:N48)) -> 2 | Q48: =O48/P48 -> 91.5
B49: Jasmine Girdlestone | C49: WCOC | D49: W21 | G49: 95 | H49: 86 | O49: =IFERROR(LARGE($E49:$N49,1),0)+IFERROR(LARGE($E49:$N49,2),0)+IFERROR(LARGE($E49:$N49,3),0)+IFERROR(LARGE($E49:$N49,4),0)+IFERROR(LARGE($E49:$N49,5),0) -> 181 | P49: =IF(COUNT(E49:N49)>5,5,COUNT(E49:N49)) -> 2 | Q49: =O49/P49 -> 90.5
B50: James Morris | C50: WCOC | D50: M45 | F50: 84 | G50: 85 | O50: =IFERROR(LARGE($E50:$N50,1),0)+IFERROR(LARGE($E50:$N50,2),0)+IFERROR(LARGE($E50:$N50,3),0)+IFERROR(LARGE($E50:$N50,4),0)+IFERROR(LARGE($E50:$N50,5),0) -> 169 | P50: =IF(COUNT(E50:N50)>5,5,COUNT(E50:N50)) -> 2 | Q50: =O50/P50 -> 84.5
B51: Ange Jackson | C51: WCOC | D51: W50 | E51: 78 | G51: 72 | O51: =IFERROR(LARGE($E51:$N51,1),0)+IFERROR(LARGE($E51:$N51,2),0)+IFERROR(LARGE($E51:$N51,3),0)+IFERROR(LARGE($E51:$N51,4),0)+IFERROR(LARGE($E51:$N51,5),0) -> 150 | P51: =IF(COUNT(E51:N51)>5,5,COUNT(E51:N51)) -> 2 | Q51: =O51/P51 -> 75
B52: Graham Patten | C52: WCOC | D52: M60 | G52: 98 | O52: =IFERROR(LARGE($E52:$N52,1),0)+IFERROR(LARGE($E52:$N52,2),0)+IFERROR(LARGE($E52:$N52,3),0)+IFERROR(LARGE($E52:$N52,4),0)+IFERROR(LARGE($E52:$N52,5),0) -> 98 | P52: =IF(COUNT(E52:N52)>5,5,COUNT(E52:N52)) -> 1 | Q52: =O52/P52 -> 98
B53: John Taylor | C53: WCOC | D53: M60 | G53: 94 | O53: =IFERROR(LARGE($E53:$N53,1),0)+IFERROR(LARGE($E53:$N53,2),0)+IFERROR(LARGE($E53:$N53,3),0)+IFERROR(LARGE($E53:$N53,4),0)+IFERROR(LARGE($E53:$N53,5),0) -> 94 | P53: =IF(COUNT(E53:N53)>5,5,COUNT(E53:N53)) -> 1 | Q53: =O53/P53 -> 94
B54: Howard Leslie | C54: WCOC | D54: M60 | I54: 91 | O54: =IFERROR(LARGE($E54:$N54,1),0)+IFERROR(LARGE($E54:$N54,2),0)+IFERROR(LARGE($E54:$N54,3),0)+IFERROR(LARGE($E54:$N54,4),0)+IFERROR(LARGE($E54:$N54,5),0) -> 91 | P54: =IF(COUNT(E54:N54)>5,5,COUNT(E54:N54)) -> 1 | Q54: =O54/P54 -> 91
B55: Phil Newall | C55: WCOC | D55: M60 | F55: 85 | O55: =IFERROR(LARGE($E55:$N55,1),0)+IFERROR(LARGE($E55:$N55,2),0)+IFERROR(LARGE($E55:$N55,3),0)+IFERROR(LARGE($E55:$N55,4),0)+IFERROR(LARGE($E55:$N55,5),0) -> 85 | P55: =IF(COUNT(E55:N55)>5,5,COUNT(E55:N55)) -> 1 | Q55: =O55/P55 -> 85
B56: Richard Cummings | C56: WCOC | D56: M65 | E56: 81 | O56: =IFERROR(LARGE($E56:$N56,1),0)+IFERROR(LARGE($E56:$N56,2),0)+IFERROR(LARGE($E56:$N56,3),0)+IFERROR(LARGE($E56:$N56,4),0)+IFERROR(LARGE($E56:$N56,5),0) -> 81 | P56: =IF(COUNT(E56:N56)>5,5,COUNT(E56:N56)) -> 1 | Q56: =O56/P56 -> 81
B57: Samuel Morris | C57: WCOC | D57: M16 | F57: 81 | O57: =IFERROR(LARGE($E57:$N57,1),0)+IFERROR(LARGE($E57:$N57,2),0)+IFERROR(LARGE($E57:$N57,3),0)+IFERROR(LARGE($E57:$N57,4),0)+IFERROR(LARGE($E57:$N57,5),0) -> 81 | P57: =IF(COUNT(E57:N57)>5,5,COUNT(E57:N57)) -> 1 | Q57: =O57/P57 -> 81
B58: Sam Morris | C58: WCOC | D58: M16 | G58: 78 | O58: =IFERROR(LARGE($E58:$N58,1),0)+IFERROR(LARGE($E58:$N58,2),0)+IFERROR(LARGE($E58:$N58,3),0)+IFERROR(LARGE($E58:$N58,4),0)+IFERROR(LARGE($E58:$N58,5),0) -> 78 | P58: =IF(COUNT(E58:N58)>5,5,COUNT(E58:N58)) -> 1 | Q58: =O58/P58 -> 78
B59: Ann Cummings | C59: WCOC | D59: W65 | E59: 76 | O59: =IFERROR(LARGE($E59:$N59,1),0)+IFERROR(LARGE($E59:$N59,2),0)+IFERROR(LARGE($E59:$N59,3),0)+IFERROR(LARGE($E59:$N59,4),0)+IFERROR(LARGE($E59:$N59,5),0) -> 76 | P59: =IF(COUNT(E59:N59)>5,5,COUNT(E59:N59)) -> 1 | Q59: =O59/P59 -> 76
B60: Julie Ferris-Worth | C60: WCOC | D60: W55 | G60: 75 | O60: =IFERROR(LARGE($E60:$N60,1),0)+IFERROR(LARGE($E60:$N60,2),0)+IFERROR(LARGE($E60:$N60,3),0)+IFERROR(LARGE($E60:$N60,4),0)+IFERROR(LARGE($E60:$N60,5),0) -> 75 | P60: =IF(COUNT(E60:N60)>5,5,COUNT(E60:N60)) -> 1 | Q60: =O60/P60 -> 75
B61: Aaron Rennie | C61: WCOC | D61: M40 | G61: 74 | O61: =IFERROR(LARGE($E61:$N61,1),0)+IFERROR(LARGE($E61:$N61,2),0)+IFERROR(LARGE($E61:$N61,3),0)+IFERROR(LARGE($E61:$N61,4),0)+IFERROR(LARGE($E61:$N61,5),0) -> 74 | P61: =IF(COUNT(E61:N61)>5,5,COUNT(E61:N61)) -> 1 | Q61: =O61/P61 -> 74
B62: John Ferris-Worth | C62: WCOC | D62: M60 | F62: 68 | O62: =IFERROR(LARGE($E62:$N62,1),0)+IFERROR(LARGE($E62:$N62,2),0)+IFERROR(LARGE($E62:$N62,3),0)+IFERROR(LARGE($E62:$N62,4),0)+IFERROR(LARGE($E62:$N62,5),0) -> 68 | P62: =IF(COUNT(E62:N62)>5,5,COUNT(E62:N62)) -> 1 | Q62: =O62/P62 -> 68

Sheet Brown
B1: Brown | E1: =Yellow!E2 -> Hawse End WCOC | F1: =Yellow!F2 -> Silver How LOC | G1: =Yellow!G2 -> Bea Tarn WCOC | H1: =Yellow!H2 -> Bampton Common BL | I1: =Yellow!I2 -> Troutal Fell LOC | J1: =Yellow!J2 -> 0 | K1: =Yellow!K2 -> 0 | L1: =Yellow!L2 -> 0 | ... N1: =Yellow!N2 -> 0 | O1: Galoppen Score | P1: Number of Counting Scores | Q1: Average of Counting Scores
B2: Name | C2: Club | D2: Age Class | O2: Galoppen Score
B3: Alan Hartley | C3: BL | D3: M50 | G3: 86 | H3: 83 | O3: =IFERROR(LARGE($E3:$N3,1),0)+IFERROR(LARGE($E3:$N3,2),0)+IFERROR(LARGE($E3:$N3,3),0)+IFERROR(LARGE($E3:$N3,4),0)+IFERROR(LARGE($E3:$N3,5),0) -> 169 | P3: =IF(COUNT(E3:N3)>5,5,COUNT(E3:N3)) -> 2 | Q3: =O3/P3 -> 84.5
B4: Alistair Shawcross | C4: SROC | D4: M50 | G4: 83 | I4: 85 | O4: =IFERROR(LARGE($E4:$N4,1),0)+IFERROR(LARGE($E4:$N4,2),0)+IFERROR(LARGE($E4:$N4,3),0)+IFERROR(LARGE($E4:$N4,4),0)+IFERROR(LARGE($E4:$N4,5),0) -> 168 | P4: =IF(COUNT(E4:N4)>5,5,COUNT(E4:N4)) -> 2 | Q4: =O4/P4 -> 84
B5: Andrew Bradley | C5: WCOC | D5: M60 | F5: 75 | O5: =IFERROR(LARGE($E5:$N5,1),0)+IFERROR(LARGE($E5:$N5,2),0)+IFERROR(LARGE($E5:$N5,3),0)+IFERROR(LARGE($E5:$N5,4),0)+IFERROR(LARGE($E5:$N5,5),0) -> 75 | P5: =IF(COUNT(E5:N5)>5,5,COUNT(E5:N5)) -> 1 | Q5: =O5/P5 -> 75
B6: Anne Edwards | C6: LOC | D6: W35 | E6: 94 | F6: 90 | O6: =IFERROR(LARGE($E6:$N6,1),0)+IFERROR(LARGE($E6:$N6,2),0)+IFERROR(LARGE($E6:$N6,3),0)+IFERROR(LARGE($E6:$N6,4),0)+IFERROR(LARGE($E6:$N6,5),0) -> 184 | P6: =IF(COUNT(E6:N6)>5,5,COUNT(E6:N6)) -> 2 | Q6: =O6/P6 -> 92
B7: Ben Abdelnoor | C7: WCOC | D7: M45 | E7: 88 | O7: =IFERROR(LARGE($E7:$N7,1),0)+IFERROR(LARGE($E7:$N7,2),0)+IFERROR(LARGE($E7:$N7,3),0)+IFERROR(LARGE($E7:$N7,4),0)+IFERROR(LARGE($E7:$N7,5),0) -> 88 | P7: =IF(COUNT(E7:N7)>5,5,COUNT(E7:N7)) -> 1 | Q7: =O7/P7 -> 88
B8: Ben Simmonds | C8: WCOC | D8: M21 | F8: 72 | O8: =IFERROR(LARGE($E8:$N8,1),0)+IFERROR(LARGE($E8:$N8,2),0)+IFERROR(LARGE($E8:$N8,3),0)+IFERROR(LARGE($E8:$N8,4),0)+IFERROR(LARGE($E8:$N8,5),0) -> 72 | P8: =IF(COUNT(E8:N8)>5,5,COUNT(E8:N8)) -> 1 | Q8: =O8/P8 -> 72
B9: Bruce Duncan | C9: LOC | D9: M45 | G9: 98 | O9: =IFERROR(LARGE($E9:$N9,1),0)+IFERROR(LARGE($E9:$N9,2),0)+IFERROR(LARGE($E9:$N9,3),0)+IFERROR(LARGE($E9:$N9,4),0)+IFERROR(LARGE($E9:$N9,5),0) -> 98 | P9: =IF(COUNT(E9:N9)>5,5,COUNT(E9:N9)) -> 1 | Q9: =O9/P9 -> 98
B10: Christiaan Swanepoel | C10: WCOC | D10: M45 | E10: 85 | H10: 91 | O10: =IFERROR(LARGE($E10:$N10,1),0)+IFERROR(LARGE($E10:$N10,2),0)+IFERROR(LARGE($E10:$N10,3),0)+IFERROR(LARGE($E10:$N10,4),0)+IFERROR(LARGE($E10:$N10,5),0) -> 176 | P10: =IF(COUNT(E10:N10)>5,5,COUNT(E10:N10)) -> 2 | Q10: =O10/P10 -> 88
B11: Ciel Matthew | C11: SROC | D11: W20 | F11: 79 | O11: =IFERROR(LARGE($E11:$N11,1),0)+IFERROR(LARGE($E11:$N11,2),0)+IFERROR(LARGE($E11:$N11,3),0)+IFERROR(LARGE($E11:$N11,4),0)+IFERROR(LARGE($E11:$N11,5),0) -> 79 | P11: =IF(COUNT(E11:N11)>5,5,COUNT(E11:N11)) -> 1 | Q11: =O11/P11 -> 79
B12: Daisy Rennie | C12: WCOC | D12: W20 | G12: 96 | O12: =IFERROR(LARGE($E12:$N12,1),0)+IFERROR(LARGE($E12:$N12,2),0)+IFERROR(LARGE($E12:$N12,3),0)+IFERROR(LARGE($E12:$N12,4),0)+IFERROR(LARGE($E12:$N12,5),0) -> 96 | P12: =IF(COUNT(E12:N12)>5,5,COUNT(E12:N12)) -> 1 | Q12: =O12/P12 -> 96
B13: Dan Parker | C13: BL | D13: M60 | E13: 87 | F13: 83 | G13: 88 | H13: 86 | I13: 93 | O13: =IFERROR(LARGE($E13:$N13,1),0)+IFERROR(LARGE($E13:$N13,2),0)+IFERROR(LARGE($E13:$N13,3),0)+IFERROR(LARGE($E13:$N13,4),0)+IFERROR(LARGE($E13:$N13,5),0) -> 437 | P13: =IF(COUNT(E13:N13)>5,5,COUNT(E13:N13)) -> 5 | Q13: =O13/P13 -> 87.4
B14: Daniel Hughes | C14: LOC | D14: M50 | H14: 94 | O14: =IFERROR(LARGE($E14:$N14,1),0)+IFERROR(LARGE($E14:$N14,2),0)+IFERROR(LARGE($E14:$N14,3),0)+IFERROR(LARGE($E14:$N14,4),0)+IFERROR(LARGE($E14:$N14,5),0) -> 94 | P14: =IF(COUNT(E14:N14)>5,5,COUNT(E14:N14)) -> 1 | Q14: =O14/P14 -> 94
B15: David Roome | C15: SROC | D15: M40 | F15: 98 | H15: 99 | O15: =IFERROR(LARGE($E15:$N15,1),0)+IFERROR(LARGE($E15:$N15,2),0)+IFERROR(LARGE($E15:$N15,3),0)+IFERROR(LARGE($E15:$N15,4),0)+IFERROR(LARGE($E15:$N15,5),0) -> 197 | P15: =IF(COUNT(E15:N15)>5,5,COUNT(E15:N15)) -> 2 | Q15: =O15/P15 -> 98.5
B16: Derek Fryer | C16: LOC | D16: M70 | I16: 82 | O16: =IFERROR(LARGE($E16:$N16,1),0)+IFERROR(LARGE($E16:$N16,2),0)+IFERROR(LARGE($E16:$N16,3),0)+IFERROR(LARGE($E16:$N16,4),0)+IFERROR(LARGE($E16:$N16,5),0) -> 82 | P16: =IF(COUNT(E16:N16)>5,5,COUNT(E16:N16)) -> 1 | Q16: =O16/P16 -> 82
B17: Gavin Smith | C17: SROC | D17: M65 | G17: 81 | O17: =IFERROR(LARGE($E17:$N17,1),0)+IFERROR(LARGE($E17:$N17,2),0)+IFERROR(LARGE($E17:$N17,3),0)+IFERROR(LARGE($E17:$N17,4),0)+IFERROR(LARGE($E17:$N17,5),0) -> 81 | P17: =IF(COUNT(E17:N17)>5,5,COUNT(E17:N17)) -> 1 | Q17: =O17/P17 -> 81
B18: Hannah Birkinshaw | C18: WCOC | D18: W18 | E18: 86 | F18: 71 | G18: 85 | H18: 84 | O18: =IFERROR(LARGE($E18:$N18,1),0)+IFERROR(LARGE($E18:$N18,2),0)+IFERROR(LARGE($E18:$N18,3),0)+IFERROR(LARGE($E18:$N18,4),0)+IFERROR(LARGE($E18:$N18,5),0) -> 326 | P18: =IF(COUNT(E18:N18)>5,5,COUNT(E18:N18)) -> 4 | Q18: =O18/P18 -> 81.5
B19: Ian Cumpstey | C19: BL | D19: M45 | E19: 92 | F19: 74 | O19: =IFERROR(LARGE($E19:$N19,1),0)+IFERROR(LARGE($E19:$N19,2),0)+IFERROR(LARGE($E19:$N19,3),0)+IFERROR(LARGE($E19:$N19,4),0)+IFERROR(LARGE($E19:$N19,5),0) -> 166 | P19: =IF(COUNT(E19:N19)>5,5,COUNT(E19:N19)) -> 2 | Q19: =O19/P19 -> 83
B20: Ian Hinkins | C20: LOC | D20: M40 | E20: 89 | F20: 86 | G20: 90 | H20: 88 | I20: 89 | O20: =IFERROR(LARGE($E20:$N20,1),0)+IFERROR(LARGE($E20:$N20,2),0)+IFERROR(LARGE($E20:$N20,3),0)+IFERROR(LARGE($E20:$N20,4),0)+IFERROR(LARGE($E20:$N20,5),0) -> 442 | P20: =IF(COUNT(E20:N20)>5,5,COUNT(E20:N20)) -> 5 | Q20: =O20/P20 -> 88.4
B21: Ian Porter | C21: SROC | D21: M55 | F21: 76 | G21: 97 | I21: 91 | O21: =IFERROR(LARGE($E21:$N21,1),0)+IFERROR(LARGE($E21:$N21,2),0)+IFERROR(LARGE($E21:$N21,3),0)+IFERROR(LARGE($E21:$N21,4),0)+IFERROR(LARGE($E21:$N21,5),0) -> 264 | P21: =IF(COUNT(E21:N21)>5,5,COUNT(E21:N21)) -> 3 | Q21: =O21/P21 -> 88
B22: Isaac Hunter | C22: WCOC | D22: M20 | F22: 94 | G22: 93 | H22: 98 | O22: =IFERROR(LARGE($E22:$N22,1),0)+IFERROR(LARGE($E22:$N22,2),0)+IFERROR(LARGE($E22:$N22,3),0)+IFERROR(LARGE($E22:$N22,4),0)+IFERROR(LARGE($E22:$N22,5),0) -> 285 | P22: =IF(COUNT(E22:N22)>5,5,COUNT(E22:N22)) -> 3 | Q22: =O22/P22 -> 95
B23: James Birkinshaw | C23: WCOC | D23: M21 | I23: 99 | O23: =IFERROR(LARGE($E23:$N23,1),0)+IFERROR(LARGE($E23:$N23,2),0)+IFERROR(LARGE($E23:$N23,3),0)+IFERROR(LARGE($E23:$N23,4),0)+IFERROR(LARGE($E23:$N23,5),0) -> 99 | P23: =IF(COUNT(E23:N23)>5,5,COUNT(E23:N23)) -> 1 | Q23: =O23/P23 -> 99
B24: Jamie Osborne | C24: LOC | D24: M16 | F24: 95 | O24: =IFERROR(LARGE($E24:$N24,1),0)+IFERROR(LARGE($E24:$N24,2),0)+IFERROR(LARGE($E24:$N24,3),0)+IFERROR(LARGE($E24:$N24,4),0)+IFERROR(LARGE($E24:$N24,5),0) -> 95 | P24: =IF(COUNT(E24:N24)>5,5,COUNT(E24:N24)) -> 1 | Q24: =O24/P24 -> 95
B25: Jamie Rennie | C25: WCOC | D25: M55 | E25: 98 | F25: 89 | G25: 95 | I25: 96 | O25: =IFERROR(LARGE($E25:$N25,1),0)+IFERROR(LARGE($E25:$N25,2),0)+IFERROR(LARGE($E25:$N25,3),0)+IFERROR(LARGE($E25:$N25,4),0)+IFERROR(LARGE($E25:$N25,5),0) -> 378 | P25: =IF(COUNT(E25:N25)>5,5,COUNT(E25:N25)) -> 4 | Q25: =O25/P25 -> 94.5
B26: Jeff Powell Davies | C26: BL | D26: M45 | E26: 90 | F26: 88 | G26: 89 | H26: 92 | I26: 94 | O26: =IFERROR(LARGE($E26:$N26,1),0)+IFERROR(LARGE($E26:$N26,2),0)+IFERROR(LARGE($E26:$N26,3),0)+IFERROR(LARGE($E26:$N26,4),0)+IFERROR(LARGE($E26:$N26,5),0) -> 453 | P26: =IF(COUNT(E26:N26)>5,5,COUNT(E26:N26)) -> 5 | Q26: =O26/P26 -> 90.6
B27: Joe Murphy | C27: SROC | D27: M60 | E27: 83 | H27: 85 | I27: 84 | O27: =IFERROR(LARGE($E27:$N27,1),0)+IFERROR(LARGE($E27:$N27,2),0)+IFERROR(LARGE($E27:$N27,3),0)+IFERROR(LARGE($E27:$N27,4),0)+IFERROR(LARGE($E27:$N27,5),0) -> 252 | P27: =IF(COUNT(E27:N27)>5,5,COUNT(E27:N27)) -> 3 | Q27: =O27/P27 -> 84
B28: John Embrey | C28: SROC | D28: M65 | F28: 73 | O28: =IFERROR(LARGE($E28:$N28,1),0)+IFERROR(LARGE($E28:$N28,2),0)+IFERROR(LARGE($E28:$N28,3),0)+IFERROR(LARGE($E28:$N28,4),0)+IFERROR(LARGE($E28:$N28,5),0) -> 73 | P28: =IF(COUNT(E28:N28)>5,5,COUNT(E28:N28)) -> 1 | Q28: =O28/P28 -> 73
B29: Jon Green | C29: SROC | D29: M50 | E29: 82 | O29: =IFERROR(LARGE($E29:$N29,1),0)+IFERROR(LARGE($E29:$N29,2),0)+IFERROR(LARGE($E29:$N29,3),0)+IFERROR(LARGE($E29:$N29,4),0)+IFERROR(LARGE($E29:$N29,5),0) -> 82 | P29: =IF(COUNT(E29:N29)>5,5,COUNT(E29:N29)) -> 1 | Q29: =O29/P29 -> 82
B30: Jonty Goodwin | C30: WCOC | D30: M21 | E30: 96 | I30: 90 | O30: =IFERROR(LARGE($E30:$N30,1),0)+IFERROR(LARGE($E30:$N30,2),0)+IFERROR(LARGE($E30:$N30,3),0)+IFERROR(LARGE($E30:$N30,4),0)+IFERROR(LARGE($E30:$N30,5),0) -> 186 | P30: =IF(COUNT(E30:N30)>5,5,COUNT(E30:N30)) -> 2 | Q30: =O30/P30 -> 93
B31: Joseph Hudd | C31: WCOC | D31: M21 | G31: 99 | O31: =IFERROR(LARGE($E31:$N31,1),0)+IFERROR(LARGE($E31:$N31,2),0)+IFERROR(LARGE($E31:$N31,3),0)+IFERROR(LARGE($E31:$N31,4),0)+IFERROR(LARGE($E31:$N31,5),0) -> 99 | P31: =IF(COUNT(E31:N31)>5,5,COUNT(E31:N31)) -> 1 | Q31: =O31/P31 -> 99
B32: Julie Ferris-Worth | C32: BL | D32: W55 | E32: 81 | H32: 82 | O32: =IFERROR(LARGE($E32:$N32,1),0)+IFERROR(LARGE($E32:$N32,2),0)+IFERROR(LARGE($E32:$N32,3),0)+IFERROR(LARGE($E32:$N32,4),0)+IFERROR(LARGE($E32:$N32,5),0) -> 163 | P32: =IF(COUNT(E32:N32)>5,5,COUNT(E32:N32)) -> 2 | Q32: =O32/P32 -> 81.5
B33: Karen Parker | C33: BL | D33: W60 | F33: 78 | G33: 87 | I33: 87 | O33: =IFERROR(LARGE($E33:$N33,1),0)+IFERROR(LARGE($E33:$N33,2),0)+IFERROR(LARGE($E33:$N33,3),0)+IFERROR(LARGE($E33:$N33,4),0)+IFERROR(LARGE($E33:$N33,5),0) -> 252 | P33: =IF(COUNT(E33:N33)>5,5,COUNT(E33:N33)) -> 3 | Q33: =O33/P33 -> 84
B34: Keith Tonkin | C34: BL | D34: M65 | H34: 93 | I34: 86 | O34: =IFERROR(LARGE($E34:$N34,1),0)+IFERROR(LARGE($E34:$N34,2),0)+IFERROR(LARGE($E34:$N34,3),0)+IFERROR(LARGE($E34:$N34,4),0)+IFERROR(LARGE($E34:$N34,5),0) -> 179 | P34: =IF(COUNT(E34:N34)>5,5,COUNT(E34:N34)) -> 2 | Q34: =O34/P34 -> 89.5
B35: Michael Adams | C35: LOC | D35: M21 | I35: 95 | O35: =IFERROR(LARGE($E35:$N35,1),0)+IFERROR(LARGE($E35:$N35,2),0)+IFERROR(LARGE($E35:$N35,3),0)+IFERROR(LARGE($E35:$N35,4),0)+IFERROR(LARGE($E35:$N35,5),0) -> 95 | P35: =IF(COUNT(E35:N35)>5,5,COUNT(E35:N35)) -> 1 | Q35: =O35/P35 -> 95
B36: Michael Osborne | C36: LOC | D36: M50 | F36: 93 | G36: 82 | H36: 96 | I36: 97 | O36: =IFERROR(LARGE($E36:$N36,1),0)+IFERROR(LARGE($E36:$N36,2),0)+IFERROR(LARGE($E36:$N36,3),0)+IFERROR(LARGE($E36:$N36,4),0)+IFERROR(LARGE($E36:$N36,5),0) -> 368 | P36: =IF(COUNT(E36:N36)>5,5,COUNT(E36:N36)) -> 4 | Q36: =O36/P36 -> 92
B37: Mike Harrison | C37: WCOC | D37: M55 | E37: 91 | F37: 81 | G37: 84 | H37: 89 | O37: =IFERROR(LARGE($E37:$N37,1),0)+IFERROR(LARGE($E37:$N37,2),0)+IFERROR(LARGE($E37:$N37,3),0)+IFERROR(LARGE($E37:$N37,4),0)+IFERROR(LARGE($E37:$N37,5),0) -> 345 | P37: =IF(COUNT(E37:N37)>5,5,COUNT(E37:N37)) -> 4 | Q37: =O37/P37 -> 86.25
B38: Mike Johnson | C38: SROC | D38: M65 | E38: 93 | F38: 87 | O38: =IFERROR(LARGE($E38:$N38,1),0)+IFERROR(LARGE($E38:$N38,2),0)+IFERROR(LARGE($E38:$N38,3),0)+IFERROR(LARGE($E38:$N38,4),0)+IFERROR(LARGE($E38:$N38,5),0) -> 180 | P38: =IF(COUNT(E38:N38)>5,5,COUNT(E38:N38)) -> 2 | Q38: =O38/P38 -> 90
B39: Nicholas Barber | C39: LOC | D39: M35 | F39: 96 | O39: =IFERROR(LARGE($E39:$N39,1),0)+IFERROR(LARGE($E39:$N39,2),0)+IFERROR(LARGE($E39:$N39,3),0)+IFERROR(LARGE($E39:$N39,4),0)+IFERROR(LARGE($E39:$N39,5),0) -> 96 | P39: =IF(COUNT(E39:N39)>5,5,COUNT(E39:N39)) -> 1 | Q39: =O39/P39 -> 96
B40: Paul Addison | C40: LOC | D40: M65 | I40: 83 | O40: =IFERROR(LARGE($E40:$N40,1),0)+IFERROR(LARGE($E40:$N40,2),0)+IFERROR(LARGE($E40:$N40,3),0)+IFERROR(LARGE($E40:$N40,4),0)+IFERROR(LARGE($E40:$N40,5),0) -> 83 | P40: =IF(COUNT(E40:N40)>5,5,COUNT(E40:N40)) -> 1 | Q40: =O40/P40 -> 83
B41: Phil Newall | C41: WCOC | D41: M60 | H41: 81 | O41: =IFERROR(LARGE($E41:$N41,1),0)+IFERROR(LARGE($E41:$N41,2),0)+IFERROR(LARGE($E41:$N41,3),0)+IFERROR(LARGE($E41:$N41,4),0)+IFERROR(LARGE($E41:$N41,5),0) -> 81 | P41: =IF(COUNT(E41:N41)>5,5,COUNT(E41:N41)) -> 1 | Q41: =O41/P41 -> 81
B42: Robert Smith | C42: LOC | D42: M60 | F42: 77 | I42: 88 | O42: =IFERROR(LARGE($E42:$N42,1),0)+IFERROR(LARGE($E42:$N42,2),0)+IFERROR(LARGE($E42:$N42,3),0)+IFERROR(LARGE($E42:$N42,4),0)+IFERROR(LARGE($E42:$N42,5),0) -> 165 | P42: =IF(COUNT(E42:N42)>5,5,COUNT(E42:N42)) -> 2 | Q42: =O42/P42 -> 82.5
B43: Ruben Razzetti | C43: WCOC | D43: M20 | F43: 99 | O43: =IFERROR(LARGE($E43:$N43,1),0)+IFERROR(LARGE($E43:$N43,2),0)+IFERROR(LARGE($E43:$N43,3),0)+IFERROR(LARGE($E43:$N43,4),0)+IFERROR(LARGE($E43:$N43,5),0) -> 99 | P43: =IF(COUNT(E43:N43)>5,5,COUNT(E43:N43)) -> 1 | Q43: =O43/P43 -> 99
B44: Sam Osborne | C44: LOC | D44: M18 | F44: 92 | G44: 92 | O44: =IFERROR(LARGE($E44:$N44,1),0)+IFERROR(LARGE($E44:$N44,2),0)+IFERROR(LARGE($E44:$N44,3),0)+IFERROR(LARGE($E44:$N44,4),0)+IFERROR(LARGE($E44:$N44,5),0) -> 184 | P44: =IF(COUNT(E44:N44)>5,5,COUNT(E44:N44)) -> 2 | Q44: =O44/P44 -> 92
B45: Sarah Atkinson | C45: LOC | D45: W40 | F45: 82 | O45: =IFERROR(LARGE($E45:$N45,1),0)+IFERROR(LARGE($E45:$N45,2),0)+IFERROR(LARGE($E45:$N45,3),0)+IFERROR(LARGE($E45:$N45,4),0)+IFERROR(LARGE($E45:$N45,5),0) -> 82 | P45: =IF(COUNT(E45:N45)>5,5,COUNT(E45:N45)) -> 1 | Q45: =O45/P45 -> 82
B46: Simon Hunter | C46: WCOC | D46: M55 | E46: 95 | F46: 84 | G46: 94 | H46: 90 | O46: =IFERROR(LARGE($E46:$N46,1),0)+IFERROR(LARGE($E46:$N46,2),0)+IFERROR(LARGE($E46:$N46,3),0)+IFERROR(LARGE($E46:$N46,4),0)+IFERROR(LARGE($E46:$N46,5),0) -> 363 | P46: =IF(COUNT(E46:N46)>5,5,COUNT(E46:N46)) -> 4 | Q46: =O46/P46 -> 90.75
B47: Steve Birkinshaw | C47: WCOC | D47: M55 | E47: 99 | F47: 91 | H47: 97 | I47: 98 | O47: =IFERROR(LARGE($E47:$N47,1),0)+IFERROR(LARGE($E47:$N47,2),0)+IFERROR(LARGE($E47:$N47,3),0)+IFERROR(LARGE($E47:$N47,4),0)+IFERROR(LARGE($E47:$N47,5),0) -> 385 | P47: =IF(COUNT(E47:N47)>5,5,COUNT(E47:N47)) -> 4 | Q47: =O47/P47 -> 96.25
B48: Steve Holmes | C48: WCOC | D48: M55 | H48: 87 | O48: =IFERROR(LARGE($E48:$N48,1),0)+IFERROR(LARGE($E48:$N48,2),0)+IFERROR(LARGE($E48:$N48,3),0)+IFERROR(LARGE($E48:$N48,4),0)+IFERROR(LARGE($E48:$N48,5),0) -> 87 | P48: =IF(COUNT(E48:N48)>5,5,COUNT(E48:N48)) -> 1 | Q48: =O48/P48 -> 87
B49: Toby Heppell | C49: WCOC | D49: M18 | E49: 97 | F49: 97 | O49: =IFERROR(LARGE($E49:$N49,1),0)+IFERROR(LARGE($E49:$N49,2),0)+IFERROR(LARGE($E49:$N49,3),0)+IFERROR(LARGE($E49:$N49,4),0)+IFERROR(LARGE($E49:$N49,5),0) -> 194 | P49: =IF(COUNT(E49:N49)>5,5,COUNT(E49:N49)) -> 2 | Q49: =O49/P49 -> 97
B50: Todd Oates | C50: LOC | D50: M40 | F50: 85 | O50: =IFERROR(LARGE($E50:$N50,1),0)+IFERROR(LARGE($E50:$N50,2),0)+IFERROR(LARGE($E50:$N50,3),0)+IFERROR(LARGE($E50:$N50,4),0)+IFERROR(LARGE($E50:$N50,5),0) -> 85 | P50: =IF(COUNT(E50:N50)>5,5,COUNT(E50:N50)) -> 1 | Q50: =O50/P50 -> 85
B51: Tom Matthew | C51: SROC | D51: M55 | F51: 80 | G51: 80 | I51: 92 | O51: =IFERROR(LARGE($E51:$N51,1),0)+IFERROR(LARGE($E51:$N51,2),0)+IFERROR(LARGE($E51:$N51,3),0)+IFERROR(LARGE($E51:$N51,4),0)+IFERROR(LARGE($E51:$N51,5),0) -> 252 | P51: =IF(COUNT(E51:N51)>5,5,COUNT(E51:N51)) -> 3 | Q51: =O51/P51 -> 84
B52: Zach Thomas | C52: SROC | D52: M18 | E52: 84 | F52: 70 | G52: 91 | H52: 95 | O52: =IFERROR(LARGE($E52:$N52,1),0)+IFERROR(LARGE($E52:$N52,2),0)+IFERROR(LARGE($E52:$N52,3),0)+IFERROR(LARGE($E52:$N52,4),0)+IFERROR(LARGE($E52:$N52,5),0) -> 340 | P52: =IF(COUNT(E52:N52)>5,5,COUNT(E52:N52)) -> 4 | Q52: =O52/P52 -> 85

Sheet 5 Events
B1: Course | C1: Rank | D1: Name | E1: Club | F1: Age Class | G1: =Yellow!E2 -> Hawse End WCOC | H1: =Yellow!F2 -> Silver How LOC | I1: =Yellow!G2 -> Bea Tarn WCOC | J1: =Yellow!H2 -> Bampton Common BL | K1: =Yellow!I2 -> Troutal Fell LOC | L1: =Yellow!J2 -> 0 | M1: =Yellow!K2 -> 0 | N1: =Yellow!L2 -> 0 | ... P1: =Yellow!N2 -> 0 | Q1: Galoppen Score | R1: Number of Counting Scores | S1: Average of Counting Scores
B2: Brown | C2: =RANK(Q2,Q$2:Q$65) -> 1 | D2: Jeff Powell Davies | E2: BL | F2: M45 | G2: 90 | H2: 88 | I2: 89 | J2: 92 | K2: 94 | Q2: 453 | R2: 5 | S2: 90.6
C3: =RANK(Q3,Q$2:Q$65) -> 3 | D3: Dan Parker | E3: BL | F3: M60 | G3: 87 | H3: 83 | I3: 88 | J3: 86 | K3: 93 | Q3: 437 | R3: 5 | S3: 87.4
C4: =RANK(Q4,Q$2:Q$65) -> 4 | D4: Steve Birkinshaw | E4: WCOC | F4: M55 | G4: 99 | H4: 91 | J4: 97 | K4: 98 | Q4: 385 | R4: 4 | S4: 96.25
C5: =RANK(Q5,Q$2:Q$65) -> 5 | D5: Jamie Rennie | E5: WCOC | F5: M55 | G5: 98 | H5: 89 | I5: 95 | K5: 96 | Q5: 378 | R5: 4 | S5: 94.5
C6: =RANK(Q6,Q$2:Q$65) -> 6 | D6: Michael Osborne | E6: LOC | F6: M50 | H6: 93 | I6: 82 | J6: 96 | K6: 97 | Q6: 368 | R6: 4 | S6: 92
C7: =RANK(Q7,Q$2:Q$65) -> 7 | D7: Simon Hunter | E7: WCOC | F7: M55 | G7: 95 | H7: 84 | I7: 94 | J7: 90 | Q7: 363 | R7: 4 | S7: 90.75
C8: =RANK(Q8,Q$2:Q$65) -> 2 | D8: Ian Hinkins | E8: LOC | F8: M40 | G8: 89 | H8: 86 | I8: 90 | J8: 88 | K8: 89 | Q8: 442 | R8: 5 | S8: 88.4
C9: =RANK(Q9,Q$2:Q$65) -> 8 | D9: Mike Harrison | E9: WCOC | F9: M55 | G9: 91 | H9: 81 | I9: 84 | J9: 89 | Q9: 345 | R9: 4 | S9: 86.25
C10: =RANK(Q10,Q$2:Q$65) -> 9 | D10: Zach Thomas | E10: SROC | F10: M18 | G10: 84 | H10: 70 | I10: 91 | J10: 95 | Q10: 340 | R10: 4 | S10: 85
C11: =RANK(Q11,Q$2:Q$65) -> 10 | D11: Hannah Birkinshaw | E11: WCOC | F11: W18 | G11: 86 | H11: 71 | I11: 85 | J11: 84 | Q11: 326 | R11: 4 | S11: 81.5
C12: =RANK(Q12,Q$2:Q$65) -> 11 | D12: Isaac Hunter | E12: WCOC | F12: M20 | H12: 94 | I12: 93 | J12: 98 | Q12: 285 | R12: 3 | S12: 95
C13: =RANK(Q13,Q$2:Q$65) -> 13 | D13: Joe Murphy | E13: SROC | F13: M60 | G13: 83 | J13: 85 | K13: 84 | Q13: 252 | R13: 3 | S13: 84
C14: =RANK(Q14,Q$2:Q$65) -> 13 | D14: Karen Parker | E14: BL | F14: W60 | H14: 78 | I14: 87 | K14: 87 | Q14: 252 | R14: 3 | S14: 84
C15: =RANK(Q15,Q$2:Q$65) -> 13 | D15: Tom Matthew | E15: SROC | F15: M55 | H15: 80 | I15: 80 | K15: 92 | Q15: 252 | R15: 3 | S15: 84
C16: =RANK(Q16,Q$2:Q$65) -> 16 | D16: David Roome | E16: SROC | F16: M40 | H16: 98 | J16: 99 | Q16: 197 | R16: 2 | S16: 98.5
C17: =RANK(Q17,Q$2:Q$65) -> 17 | D17: Toby Heppell | E17: WCOC | F17: M18 | G17: 97 | H17: 97 | Q17: 194 | R17: 2 | S17: 97
C18: =RANK(Q18,Q$2:Q$65) -> 18 | D18: Jonty Goodwin | E18: WCOC | F18: M21 | G18: 96 | K18: 90 | Q18: 186 | R18: 2 | S18: 93
C19: =RANK(Q19,Q$2:Q$65) -> 19 | D19: Anne Edwards | E19: LOC | F19: W35 | G19: 94 | H19: 90 | Q19: 184 | R19: 2 | S19: 92
C20: =RANK(Q20,Q$2:Q$65) -> 19 | D20: Sam Osborne | E20: LOC | F20: M18 | H20: 92 | I20: 92 | Q20: 184 | R20: 2 | S20: 92
C21: =RANK(Q21,Q$2:Q$65) -> 21 | D21: Mike Johnson | E21: SROC | F21: M65 | G21: 93 | H21: 87 | Q21: 180 | R21: 2 | S21: 90
C22: =RANK(Q22,Q$2:Q$65) -> 22 | D22: Keith Tonkin | E22: BL | F22: M65 | J22: 93 | K22: 86 | Q22: 179 | R22: 2 | S22: 89.5
C23: =RANK(Q23,Q$2:Q$65) -> 23 | D23: Christiaan Swanepoel | E23: WCOC | F23: M45 | G23: 85 | J23: 91 | Q23: 176 | R23: 2 | S23: 88
C24: =RANK(Q24,Q$2:Q$65) -> 12 | D24: Ian Porter | E24: SROC | F24: M55 | H24: 76 | I24: 97 | K24: 91 | Q24: 264 | R24: 3 | S24: 88
C25: =RANK(Q25,Q$2:Q$65) -> 24 | D25: Alan Hartley | E25: BL | F25: M50 | I25: 86 | J25: 83 | Q25: 169 | R25: 2 | S25: 84.5
C26: =RANK(Q26,Q$2:Q$65) -> 25 | D26: Alistair Shawcross | E26: SROC | F26: M50 | I26: 83 | K26: 85 | Q26: 168 | R26: 2 | S26: 84
C27: =RANK(Q27,Q$2:Q$65) -> 26 | D27: Ian Cumpstey | E27: BL | F27: M45 | G27: 92 | H27: 74 | Q27: 166 | R27: 2 | S27: 83
C28: =RANK(Q28,Q$2:Q$65) -> 27 | D28: Robert Smith | E28: LOC | F28: M60 | H28: 77 | K28: 88 | Q28: 165 | R28: 2 | S28: 82.5
C29: =RANK(Q29,Q$2:Q$65) -> 28 | D29: Julie Ferris-Worth | E29: BL | F29: W55 | G29: 81 | J29: 82 | Q29: 163 | R29: 2 | S29: 81.5
C30: =RANK(Q30,Q$2:Q$65) -> 29 | D30: James Birkinshaw | E30: WCOC | F30: M21 | K30: 99 | Q30: 99 | R30: 1 | S30: 99
C31: =RANK(Q31,Q$2:Q$65) -> 29 | D31: Joseph Hudd | E31: WCOC | F31: M21 | I31: 99 | Q31: 99 | R31: 1 | S31: 99
C32: =RANK(Q32,Q$2:Q$65) -> 29 | D32: Ruben Razzetti | E32: WCOC | F32: M20 | H32: 99 | Q32: 99 | R32: 1 | S32: 99
C33: =RANK(Q33,Q$2:Q$65) -> 32 | D33: Bruce Duncan | E33: LOC | F33: M45 | I33: 98 | Q33: 98 | R33: 1 | S33: 98
C34: =RANK(Q34,Q$2:Q$65) -> 33 | D34: Daisy Rennie | E34: WCOC | F34: W20 | I34: 96 | Q34: 96 | R34: 1 | S34: 96
C35: =RANK(Q35,Q$2:Q$65) -> 33 | D35: Nicholas Barber | E35: LOC | F35: M35 | H35: 96 | Q35: 96 | R35: 1 | S35: 96
C36: =RANK(Q36,Q$2:Q$65) -> 35 | D36: Jamie Osborne | E36: LOC | F36: M16 | H36: 95 | Q36: 95 | R36: 1 | S36: 95
C37: =RANK(Q37,Q$2:Q$65) -> 35 | D37: Michael Adams | E37: LOC | F37: M21 | K37: 95 | Q37: 95 | R37: 1 | S37: 95
C38: =RANK(Q38,Q$2:Q$65) -> 37 | D38: Daniel Hughes | E38: LOC | F38: M50 | J38: 94 | Q38: 94 | R38: 1 | S38: 94
C39: =RANK(Q39,Q$2:Q$65) -> 38 | D39: Ben Abdelnoor | E39: WCOC | F39: M45 | G39: 88 | Q39: 88 | R39: 1 | S39: 88
C40: =RANK(Q40,Q$2:Q$65) -> 39 | D40: Steve Holmes | E40: WCOC | F40: M55 | J40: 87 | Q40: 87 | R40: 1 | S40: 87
C41: =RANK(Q41,Q$2:Q$65) -> 40 | D41: Todd Oates | E41: LOC | F41: M40 | H41: 85 | Q41: 85 | R41: 1 | S41: 85
C42: =RANK(Q42,Q$2:Q$65) -> 41 | D42: Paul Addison | E42: LOC | F42: M65 | K42: 83 | Q42: 83 | R42: 1 | S42: 83
C43: =RANK(Q43,Q$2:Q$65) -> 42 | D43: Jon Green | E43: SROC | F43: M50 | G43: 82 | Q43: 82 | R43: 1 | S43: 82
C44: =RANK(Q44,Q$2:Q$65) -> 42 | D44: Sarah Atkinson | E44: LOC | F44: W40 | H44: 82 | Q44: 82 | R44: 1 | S44: 82
C45: =RANK(Q45,Q$2:Q$65) -> 44 | D45: Gavin Smith | E45: SROC | F45: M65 | I45: 81 | Q45: 81 | R45: 1 | S45: 81
C46: =RANK(Q46,Q$2:Q$65) -> 44 | D46: Phil Newall | E46: WCOC | F46: M60 | J46: 81 | Q46: 81 | R46: 1 | S46: 81
C47: =RANK(Q47,Q$2:Q$65) -> 46 | D47: Ciel Matthew | E47: SROC | F47: W20 | H47: 79 | Q47: 79 | R47: 1 | S47: 79
C48: =RANK(Q48,Q$2:Q$65) -> 47 | D48: Andrew Bradley | E48: WCOC | F48: M60 | H48: 75 | Q48: 75 | R48: 1 | S48: 75
C49: =RANK(Q49,Q$2:Q$65) -> 48 | D49: John Embrey | E49: SROC | F49: M65 | H49: 73 | Q49: 73 | R49: 1 | S49: 73
C50: =RANK(Q50,Q$2:Q$65) -> 49 | D50: Ben Simmonds | E50: WCOC | F50: M21 | H50: 72 | Q50: 72 | R50: 1 | S50: 72
C51: =RANK(Q51,Q$2:Q$65) -> #N/A
C52: =RANK(Q52,Q$2:Q$65) -> #N/A
C53: =RANK(Q53,Q$2:Q$65) -> #N/A
C54: =RANK(Q54,Q$2:Q$65) -> #N/A
C55: =RANK(Q55,Q$2:Q$65) -> #N/A
C56: =RANK(Q56,Q$2:Q$65) -> #N/A
C57: =RANK(Q57,Q$2:Q$65) -> #N/A
C58: =RANK(Q58,Q$2:Q$65) -> #N/A
C59: =RANK(Q59,Q$2:Q$65) -> #N/A
C60: =RANK(Q60,Q$2:Q$65) -> #N/A
C61: =RANK(Q61,Q$2:Q$65) -> #N/A
C62: =RANK(Q62,Q$2:Q$65) -> #N/A
C63: =RANK(Q63,Q$2:Q$65) -> #N/A
C64: =COUNTA(C2:C63) -> 62
B66: Blue | C66: =RANK(Q66,Q$66:Q$173) -> 1 | D66: Simon Thomas | E66: WCOC | F66: M45 | G66: 84 | H66: 78 | I66: 76 | J66: 79 | K66: 84 | Q66: 401 | R66: 5 | S66: 80.2
C67: =RANK(Q67,Q$66:Q$173) -> 2 | D67: Matthew Rooke | E67: LOC | F67: M35 | G67: 99 | I67: 99 | J67: 99 | K67: 99 | Q67: 396 | R67: 4 | S67: 99
C68: =RANK(Q68,Q$66:Q$173) -> 3 | D68: Michael Billinghurst | E68: WCOC | F68: M65 | G68: 97 | H68: 96 | J68: 95 | K68: 96 | Q68: 384 | R68: 4 | S68: 96
C69: =RANK(Q69,Q$66:Q$173) -> 4 | D69: Edward Shawcross | E69: SROC | F69: M16 | G69: 98 | H69: 98 | I69: 89 | K69: 93 | Q69: 378 | R69: 4 | S69: 94.5
C70: =RANK(Q70,Q$66:Q$173) -> 5 | D70: Isabel Berry | E70: BL | F70: W45 | H70: 91 | I70: 90 | J70: 93 | K70: 94 | Q70: 368 | R70: 4 | S70: 92
C71: =RANK(Q71,Q$66:Q$173) -> 6 | D71: Derek Ratcliffe | E71: LOC | F71: M70 | H71: 88 | I71: 91 | J71: 91 | K71: 90 | Q71: 360 | R71: 4 | S71: 90
C72: =RANK(Q72,Q$66:Q$173) -> 7 | D72: Rebecca Rowe | E72: SROC | F72: W45 | G72: 85 | I72: 83 | J72: 84 | K72: 87 | Q72: 339 | R72: 4 | S72: 84.75
C73: =RANK(Q73,Q$66:Q$173) -> 8 | D73: Martin Skinner | E73: WCOC | F73: M60 | G73: 86 | H73: 72 | I73: 88 | J73: 88 | Q73: 334 | R73: 4 | S73: 83.5
C74: =RANK(Q74,Q$66:Q$173) -> 9 | D74: Emma Moody | E74: WCOC | F74: W55 | H74: 75 | I74: 84 | J74: 81 | K74: 86 | Q74: 326 | R74: 4 | S74: 81.5
C75: =RANK(Q75,Q$66:Q$173) -> 10 | D75: Tania Milnes | E75: SROC | F75: W50 | G75: 83 | H75: 79 | I75: 73 | K75: 85 | Q75: 320 | R75: 4 | S75: 80
C76: =RANK(Q76,Q$66:Q$173) -> 11 | D76: Jo Matthew | E76: SROC | F76: W50 | H76: 69 | I76: 86 | J76: 80 | K76: 83 | Q76: 318 | R76: 4 | S76: 79.5
C77: =RANK(Q77,Q$66:Q$173) -> 12 | D77: Nick Howlett | E77: LOC | F77: M55 | G77: 94 | H77: 95 | J77: 87 | Q77: 276 | R77: 3 | S77: 92
C78: =RANK(Q78,Q$66:Q$173) -> 13 | D78: David Crout | E78: WCOC | F78: M55 | G78: 88 | H78: 89 | I78: 93 | Q78: 270 | R78: 3 | S78: 90
C79: =RANK(Q79,Q$66:Q$173) -> 13 | D79: Ian Thomas | E79: SROC | F79: M55 | I79: 80 | J79: 92 | K79: 98 | Q79: 270 | R79: 3 | S79: 90
C80: =RANK(Q80,Q$66:Q$173) -> 15 | D80: Steven Breeze | E80: WCOC | F80: M55 | G80: 82 | J80: 90 | K80: 95 | Q80: 267 | R80: 3 | S80: 89
C81: =RANK(Q81,Q$66:Q$173) -> 16 | D81: Jo Cleary | E81: LOC | F81: W60 | H81: 87 | J81: 83 | K81: 89 | Q81: 259 | R81: 3 | S81: 86.333333
C82: =RANK(Q82,Q$66:Q$173) -> 17 | D82: Ian Haslett | E82: LOC | F82: M45 | G82: 87 | H82: 82 | J82: 85 | Q82: 254 | R82: 3 | S82: 84.666667
C83: =RANK(Q83,Q$66:Q$173) -> 18 | D83: Jill Libby | E83: BL | F83: W65 | G83: 80 | H83: 74 | I83: 92 | Q83: 246 | R83: 3 | S83: 82
C84: =RANK(Q84,Q$66:Q$173) -> 19 | D84: Eleanor Osborne | E84: LOC | F84: W50 | H84: 71 | I84: 81 | J84: 89 | Q84: 241 | R84: 3 | S84: 80.333333
C85: =RANK(Q85,Q$66:Q$173) -> 20 | D85: John Taylor | E85: SROC | F85: M75 | H85: 80 | I85: 82 | J85: 78 | Q85: 240 | R85: 3 | S85: 80
C86: =RANK(Q86,Q$66:Q$173) -> 21 | D86: Steve Holmes | E86: WCOC | F86: M55 | G86: 96 | I86: 96 | Q86: 192 | R86: 2 | S86: 96
C87: =RANK(Q87,Q$66:Q$173) -> 22 | D87: John Slater | E87: WCOC | F87: M55 | G87: 92 | J87: 97 | Q87: 189 | R87: 2 | S87: 94.5
C88: =RANK(Q88,Q$66:Q$173) -> 23 | D88: Sophie Crawford | E88: WCOC | F88: W18 | G88: 93 | H88: 94 | Q88: 187 | R88: 2 | S88: 93.5
C89: =RANK(Q89,Q$66:Q$173) -> 24 | D89: Matthew Stephens | E89: WCOC | F89: M45 | I89: 87 | J89: 96 | Q89: 183 | R89: 2 | S89: 91.5
C90: =RANK(Q90,Q$66:Q$173) -> 24 | D90: Mike Hooper | E90: LOC | F90: M55 | H90: 86 | K90: 97 | Q90: 183 | R90: 2 | S90: 91.5
C91: =RANK(Q91,Q$66:Q$173) -> 26 | D91: Jasmine Girdlestone | E91: WCOC | F91: W21 | I91: 95 | J91: 86 | Q91: 181 | R91: 2 | S91: 90.5
C92: =RANK(Q92,Q$66:Q$173) -> 27 | D92: Owain Rice | E92: BL | F92: M35 | G92: 89 | H92: 90 | Q92: 179 | R92: 2 | S92: 89.5
C93: =RANK(Q93,Q$66:Q$173) -> 28 | D93: Ewan Killilea | E93: SROC | F93: M16 | G93: 95 | H93: 83 | Q93: 178 | R93: 2 | S93: 89
C94: =RANK(Q94,Q$66:Q$173) -> 29 | D94: Daniel Hughes | E94: LOC | F94: M50 | H94: 77 | I94: 97 | Q94: 174 | R94: 2 | S94: 87
C95: =RANK(Q95,Q$66:Q$173) -> 30 | D95: James Morris | E95: WCOC | F95: M45 | H95: 84 | I95: 85 | Q95: 169 | R95: 2 | S95: 84.5
C96: =RANK(Q96,Q$66:Q$173) -> 31 | D96: Richard Tiley | E96: LOC | F96: M65 | G96: 77 | H96: 76 | Q96: 153 | R96: 2 | S96: 76.5
C97: =RANK(Q97,Q$66:Q$173) -> 32 | D97: Ange Jackson | E97: WCOC | F97: W50 | G97: 78 | I97: 72 | Q97: 150 | R97: 2 | S97: 75
C98: =RANK(Q98,Q$66:Q$173) -> 32 | D98: Derek Fryer | E98: LOC | F98: M70 | G98: 79 | I98: 71 | Q98: 150 | R98: 2 | S98: 75
C99: =RANK(Q99,Q$66:Q$173) -> 34 | D99: Robert Browne | E99: LOC | F99: M35 | H99: 99 | Q99: 99 | R99: 1 | S99: 99
C100: =RANK(Q100,Q$66:Q$173) -> 35 | D100: Graham Patten | E100: WCOC | F100: M60 | I100: 98 | Q100: 98 | R100: 1 | S100: 98
C101: =RANK(Q101,Q$66:Q$173) -> 35 | D101: James Todhunter | E101: SROC | F101: M45 | J101: 98 | Q101: 98 | R101: 1 | S101: 98
...

Sheet Borrowdale Trophy
B2: Course | C2: Name | D2: Club | E2: Age Class | F2: =Yellow!E2 -> Hawse End WCOC | G2: =Yellow!F2 -> Silver How LOC | H2: =Yellow!G2 -> Bea Tarn WCOC | I2: =Yellow!H2 -> Bampton Common BL | J2: =Yellow!I2 -> Troutal Fell LOC | K2: =Yellow!J2 -> 0 | L2: =Yellow!K2 -> 0 | M2: =Yellow!L2 -> 0 | ... O2: =Yellow!N2 -> 0 | P2: Best5 | Q2: Total for Course | T2: https://cumbriangaloppen.co.uk/
B3: Brown | C3: Jeff Powell Davies | D3: BL | E3: M45 | F3: 90 | G3: 88 | H3: 89 | I3: 92 | J3: 94 | P3: 453 | Q3: =SUM(P3:P7) -> 1490
B4: Brown | C4: Dan Parker | D4: BL | E4: M60 | F4: 87 | G4: 83 | H4: 88 | I4: 86 | J4: 93 | P4: 437
B5: Brown | C5: Karen Parker | D5: BL | E5: W60 | G5: 78 | H5: 87 | J5: 87 | P5: 252
B6: Brown | C6: Keith Tonkin | D6: BL | E6: M65 | I6: 93 | J6: 86 | P6: 179
B7: Brown | C7: Alan Hartley | D7: BL | E7: M50 | H7: 86 | I7: 83 | P7: 169
B8: Blue | C8: Isabel Berry | D8: BL | E8: W45 | G8: 91 | H8: 90 | I8: 93 | J8: 94 | P8: 368 | Q8: =SUM(P8:P12) -> 980
B9: Blue | C9: Jill Libby | D9: BL | E9: W65 | F9: 80 | G9: 74 | H9: 92 | P9: 246
B10: Blue | C10: Owain Rice | D10: BL | E10: M35 | F10: 89 | G10: 90 | P10: 179
B11: Blue | C11: Keith Tonkin | D11: BL | E11: M65 | G11: 97 | P11: 97
B12: Blue | C12: Paul Gaines | D12: BL | E12: M55 | F12: 90 | P12: 90
B13: Green | C13: Mark Peplow | D13: BL | E13: M50 | F13: 73 | G13: 71 | H13: 84 | I13: 87 | J13: 84 | P13: 399 | Q13: =SUM(P13:P17) -> 1507
B14: Green | C14: Natalie Hawkrigg | D14: BL | E14: W50 | F14: 97 | G14: 96 | I14: 83 | J14: 99 | P14: 375
B15: Green | C15: Raymond Wren | D15: BL | E15: M80 | F15: 70 | G15: 70 | H15: 91 | I15: 54 | J15: 75 | P15: 360
B16: Green | C16: Mike Cumpstey | D16: BL | E16: M80 | F16: 61 | G16: 62 | I16: 64 | P16: 187
B17: Green | C17: Stella Lewsley | D17: BL | E17: W70 | G17: 93 | I17: 93 | P17: 186
B18: S Green | C18: Jenny Wren | D18: BL | E18: W75 | F18: 81 | G18: 83 | H18: 93 | J18: 90 | P18: 347 | Q18: =SUM(P18:P22) -> 945
B19: S Green | C19: Joan Cumpstey | D19: BL | E19: W75 | F19: 80 | G19: 78 | I19: 77 | P19: 235
B20: S Green | C20: Patricia Davies | D20: BL | E20: W70 | F20: 94 | G20: 95 | P20: 189
B21: S Green | C21: Chris Lates | D21: BL | E21: M85 | I21: 88 | P21: 88
B22: S Green | C22: Janice Nichols | D22: BL | E22: W65 | F22: 86 | P22: 86
B23: VSGreen | C23: Andrew Bell | D23: BL | E23: M75 | I23: 99 | P23: 99 | Q23: =SUM(P23:P27) -> 392
B24: VSGreen | C24: Ivor Norman | D24: BL | E24: M70 | I24: 98 | P24: 98
B25: VSGreen | C25: Nancy Powell Davies | D25: BL | E25: W75 | J25: 98 | P25: 98
B26: VSGreen | C26: Richard Moss | D26: BL | E26: M80 | I26: 97 | P26: 97
B27: VSGreen
B28: L Green | Q28: =SUM(P28:P32) -> 0
B29: L Green
B30: L Green
B31: L Green
B32: L Green
B33: Orange | C33: Thomas Hartley | D33: BL | E33: M14 | F33: 98 | H33: 98 | I33: 99 | P33: 295 | Q33: =SUM(P33:P37) -> 675
B34: Orange | C34: Elizabeth Ann Losh Hore | D34: BL | E34: W40 | I34: 96 | P34: 96
B35: Orange | C35: Charlie Hird | D35: BL | E35: M65 | G35: 95 | P35: 95
B36: =B35 -> Orange | C36: Kathryn Pinder | D36: BL | E36: W60 | I36: 95 | P36: 95
B37: =B36 -> Orange | C37: Martin Keegan | D37: BL | E37: M65 | F37: 94 | P37: 94
B38: Yellow | C38: Sophie Arnold | D38: BL | E38: W10 | I38: 95 | P38: 95 | Q38: =SUM(P38:P42) -> 95
B39: Yellow
B40: Yellow
B41: =B40 -> Yellow
B42: Yellow
C43: BL | F43: =SUM(F3:F42) -> 1270 | G43: =SUM(G3:G42) -> 1344 | H43: =SUM(H3:H42) -> 898 | I43: =SUM(I3:I42) -> 1672 | J43: =SUM(J3:J42) -> 900 | K43: =SUM(K3:K42) -> 0 | L43: =SUM(L3:L42) -> 0 | M43: =SUM(M3:M42) -> 0 | ... P43: =SUM(P3:P42) -> 6084
B45: Brown | C45: Ian Hinkins | D45: LOC | E45: M40 | F45: 89 | G45: 86 | H45: 90 | I45: 88 | J45: 89 | P45: 442 | Q45: =SUM(P45:P49) -> 1343
B46: Brown | C46: Michael Osborne | D46: LOC | E46: M50 | G46: 93 | H46: 82 | I46: 96 | J46: 97 | P46: 368
B47: Brown | C47: Anne Edwards | D47: LOC | E47: W35 | F47: 94 | G47: 90 | P47: 184
B48: Brown | C48: Sam Osborne | D48: LOC | E48: M18 | G48: 92 | H48: 92 | P48: 184
B49: Brown | C49: Robert Smith | D49: LOC | E49: M60 | G49: 77 | J49: 88 | P49: 165
B50: Blue | C50: Matthew Rooke | D50: LOC | E50: M35 | F50: 99 | H50: 99 | I50: 99 | J50: 99 | P50: 396 | Q50: =SUM(P50:P54) -> 1545
B51: Blue | C51: Derek Ratcliffe | D51: LOC | E51: M70 | G51: 88 | H51: 91 | I51: 91 | J51: 90 | P51: 360
B52: Blue | C52: Nick Howlett | D52: LOC | E52: M55 | F52: 94 | G52: 95 | I52: 87 | P52: 276
B53: Blue | C53: Jo Cleary | D53: LOC | E53: W60 | G53: 87 | I53: 83 | J53: 89 | P53: 259
B54: Blue | C54: Ian Haslett | D54: LOC | E54: M45 | F54: 87 | G54: 82 | I54: 85 | P54: 254
B55: Green | C55: Andy Robinson | D55: LOC | E55: M70 | F55: 76 | G55: 77 | H55: 80 | I55: 80 | P55: 313 | Q55: =SUM(P55:P59) -> 1387
B56: Green | C56: Rebecca Rooke | D56: LOC | E56: W35 | F56: 99 | H56: 99 | I56: 99 | P56: 297
B57: Green | C57: Cathy Hinkins | D57: LOC | E57: W40 | G57: 59 | H57: 65 | I57: 66 | J57: 76 | P57: 266
B58: Green | C58: Steve Kruger | D58: LOC | E58: M65 | G58: 81 | H58: 87 | I58: 90 | P58: 258
B59: Green | C59: Pete Owens | D59: LOC | E59: M65 | G59: 68 | H59: 94 | J59: 91 | P59: 253
B60: S Green | C60: David Lloyd | D60: LOC | E60: M75 | F60: 93 | G60: 91 | I60: 97 | J60: 98 | P60: 379 | Q60: =SUM(P60:P64) -> 1454
B61: S Green | C61: Steve Burge | D61: LOC | E61: M80 | G61: 82 | H61: 90 | I61: 87 | J61: 89 | P61: 348
B62: S Green | C62: Mary Adams | D62: LOC | E62: W65 | G62: 89 | H62: 95 | I62: 96 | P62: 280
B63: S Green | C63: Alan Heppenstall | D63: LOC | E63: M80 | F63: 82 | G63: 80 | J63: 87 | P63: 249
B64: S Green | C64: Rebecca Rooke | D64: LOC | E64: W35 | G64: 99 | J64: 99 | P64: 198
B65: VSGreen | C65: Amanda Ratcliffe | D65: LOC | E65: W65 | G65: 97 | H65: 99 | P65: 196 | Q65: =SUM(P65:P69) -> 589
B66: VSGreen | C66: Matthew Rooke | D66: LOC | E66: M35 | G66: 99 | P66: 99
B67: VSGreen | C67: Ann Smith | D67: LOC | E67: W75 | F67: 98 | P67: 98
B68: VSGreen | C68: Carol McNeill | D68: LOC | E68: W80 | G68: 98 | P68: 98
B69: VSGreen | C69: Mike Atherton | D69: LOC | E69: M80 | H69: 98 | P69: 98
B70: L Green | C70: Freya Hodgson-Jones | D70: LOC | E70: W14 | F70: 99 | H70: 99 | P70: 198 | Q70: =SUM(P70:P74) -> 586
B71: L Green | C71: Jessica Atkinson | D71: LOC | E71: W14 | G71: 99 | P71: 99
B72: L Green | C72: Finn Wilson | D72: LOC | E72: M16 | I72: 97 | P72: 97
B73: L Green | C73: Kit (Mary) Saunders | D73: LOC | E73: W45 | G73: 96 | P73: 96
B74: L Green | C74: Rosie Law | D74: LOC | E74: W70 | I74: 96 | P74: 96
B75: Orange | C75: Jess Hinkins | D75: LOC | E75: W14 | F75: 97 | I75: 97 | J75: 98 | P75: 292 | Q75: =SUM(P75:P79) -> 971
B76: Orange | C76: Alex Hinkins | D76: LOC | E76: M12 | F76: 95 | H76: 99 | J76: 97 | P76: 291
B77: Orange | C77: Sarah Hodgson-Jones | D77: LOC | E77: W50 | F77: 93 | H77: 97 | P77: 190
B78: =B77 -> Orange | C78: Harry Atkinson | D78: LOC | E78: M12 | G78: 99 | P78: 99
B79: =B78 -> Orange | C79: Harriet Rooke | D79: LOC | E79: W10 | J79: 99 | P79: 99
B80: Yellow | C80: Harriet Rooke | D80: LOC | E80: W10 | F80: 99 | G80: 98 | H80: 99 | I80: 99 | P80: 395 | Q80: =SUM(P80:P84) -> 1177
B81: Yellow | C81: Cecily Rooke | D81: LOC | E81: W10 | F81: 98 | G81: 99 | H81: 98 | I81: 98 | P81: 393
B82: Yellow | C82: Kit Wilson | D82: LOC | E82: M10 | I82: 96 | J82: 98 | P82: 194
B83: =B82 -> Yellow | C83: Finn Wilson | D83: LOC | E83: M16 | J83: 99 | P83: 99
B84: Yellow | C84: Aila Browne | D84: LOC | E84: W10 | G84: 96 | P84: 96
C85: LOC | F85: =SUM(F45:F84) -> 1492 | G85: =SUM(G45:G84) -> 2397 | H85: =SUM(H45:H84) -> 1753 | I85: =SUM(I45:I84) -> 1827 | J85: =SUM(J45:J84) -> 1583 | K85: =SUM(K45:K84) -> 0 | L85: =SUM(L45:L84) -> 0 | M85: =SUM(M45:M84) -> 0 | ... P85: =SUM(P45:P84) -> 9052
B87: Brown | C87: Zach Thomas | D87: SROC | E87: M18 | F87: 84 | G87: 70 | H87: 91 | I87: 95 | P87: 340 | Q87: =SUM(P87:P91) -> 1305
B88: Brown | C88: Ian Porter | D88: SROC | E88: M55 | G88: 76 | H88: 97 | J88: 91 | P88: 264
B89: Brown | C89: Joe Murphy | D89: SROC | E89: M60 | F89: 83 | I89: 85 | J89: 84 | P89: 252
B90: Brown | C90: Tom Matthew | D90: SROC | E90: M55 | G90: 80 | H90: 80 | J90: 92 | P90: 252
B91: Brown | C91: David Roome | D91: SROC | E91: M40 | G91: 98 | I91: 99 | P91: 197
B92: Blue | C92: Edward Shawcross | D92: SROC | E92: M16 | F92: 98 | G92: 98 | H92: 89 | J92: 93 | P92: 378 | Q92: =SUM(P92:P96) -> 1625
B93: Blue | C93: Rebecca Rowe | D93: SROC | E93: W45 | F93: 85 | H93: 83 | I93: 84 | J93: 87 | P93: 339
B94: Blue | C94: Tania Milnes | D94: SROC | E94: W50 | F94: 83 | G94: 79 | H94: 73 | J94: 85 | P94: 320
B95: Blue | C95: Jo Matthew | D95: SROC | E95: W50 | G95: 69 | H95: 86 | I95: 80 | J95: 83 | P95: 318
B96: Blue | C96: Ian Thomas | D96: SROC | E96: M55 | H96: 80 | I96: 92 | J96: 98 | P96: 270
B97: Green | C97: Julian Lailey | D97: SROC | E97: M80 | F97: 79 | G97: 65 | H97: 74 | I97: 65 | J97: 77 | P97: 360 | Q97: =SUM(P97:P101) -> 1479
B98: Green | C98: Fay Thomas | D98: SROC | E98: W16 | F98: 87 | G98: 90 | H98: 77 | I98: 81 | P98: 335
B99: Green | C99: Sam Roberts | D99: SROC | E99: M16 | F99: 92 | G99: 97 | J99: 98 | P99: 287
B100: Green | C100: Fiona Roberts | D100: SROC | E100: W50 | F100: 72 | G100: 88 | J100: 96 | P100: 256
B101: Green | C101: Jo Taylor | D101: SROC | E101: W60 | G101: 86 | H101: 70 | I101: 85 | P101: 241
