Workbook
Name Clubs: 'Hawse End'!$I$2:$I$6
Name JM: '10 Events'!$Z$2:$Z$6
Name JW: '10 Events'!$AB$2:$AB$6
Name SM: '10 Events'!$Y$2:$Y$16
Name SW: '10 Events'!$AA$2:$AA$16

Sheet Hawse End
I1: Eligible Clubs
B2: Results for Hawse End WCOC 15 Feb 2026 | I2: BL | J2: =COUNTIF(C:D,I2) -> 23
I3: LOC | J3: =COUNTIF(C:D,I3) -> 26 | L3: https://cumbriangaloppen.co.uk/
C4: BROWN | I4: SROC | J4: =COUNTIF(C:D,I4) -> 18
C5: Name | D5: Club | E5: Class | F5: Galoppen Score | I5: WAROC | J5: =COUNTIF(C:D,I5) -> 2
F6: 100 | I6: WCOC | J6: =COUNTIF(C:D,I6) -> 59
B7: 1st | C7: Tom Simpson | E7: M21 | F7: =IF(ISNUMBER(MATCH(D7,Clubs,0)),MIN(F$6:F6)-1,"NC") -> NC
B8: 2nd | C8: Steve Birkinshaw | D8: WCOC | E8: M55 | F8: =IF(ISNUMBER(MATCH(D8,Clubs,0)),MIN(F$6:F7)-1,"NC") -> 99
B9: 3rd | C9: Barnaby Warren | D9: NN | E9: M21 | F9: =IF(ISNUMBER(MATCH(D9,Clubs,0)),MIN(F$6:F8)-1,"NC") -> NC
B10: 4th | C10: Jamie Rennie | D10: WCOC | E10: M55 | F10: =IF(ISNUMBER(MATCH(D10,Clubs,0)),MIN(F$6:F9)-1,"NC") -> 98
B11: 5th | C11: Harry Cooling | E11: M21 | F11: =IF(ISNUMBER(MATCH(D11,Clubs,0)),MIN(F$6:F10)-1,"NC") -> NC
B12: 6th | C12: Toby Heppell | D12: WCOC | E12: M18 | F12: =IF(ISNUMBER(MATCH(D12,Clubs,0)),MIN(F$6:F11)-1,"NC") -> 97
B13: 7th | C13: Simon Gardner | D13: CLYDE | E13: M35 | F13: =IF(ISNUMBER(MATCH(D13,Clubs,0)),MIN(F$6:F12)-1,"NC") -> NC
B14: 8th | C14: Jonty Goodwin | D14: WCOC | E14: M21 | F14: =IF(ISNUMBER(MATCH(D14,Clubs,0)),MIN(F$6:F13)-1,"NC") -> 96
B15: 9th | C15: Simon Hunter | D15: WCOC | E15: M55 | F15: =IF(ISNUMBER(MATCH(D15,Clubs,0)),MIN(F$6:F14)-1,"NC") -> 95
B16: 10th | C16: Teddy Hall | D16: MDOC | E16: M18 | F16: =IF(ISNUMBER(MATCH(D16,Clubs,0)),MIN(F$6:F15)-1,"NC") -> NC
B17: 11th | C17: Anne Edwards | D17: LOC | E17: W35 | F17: =IF(ISNUMBER(MATCH(D17,Clubs,0)),MIN(F$6:F16)-1,"NC") -> 94
B18: 12th | C18: Mike Johnson | D18: SROC | E18: M65 | F18: =IF(ISNUMBER(MATCH(D18,Clubs,0)),MIN(F$6:F17)-1,"NC") -> 93
B19: 13th | C19: Ian Cumpstey | D19: BL | E19: M45 | F19: =IF(ISNUMBER(MATCH(D19,Clubs,0)),MIN(F$6:F18)-1,"NC") -> 92
B20: 14th | C20: Mike Harrison | D20: WCOC | E20: M55 | F20: =IF(ISNUMBER(MATCH(D20,Clubs,0)),MIN(F$6:F19)-1,"NC") -> 91
B21: 15th | C21: Jeff Powell Davies | D21: BL | E21: M45 | F21: =IF(ISNUMBER(MATCH(D21,Clubs,0)),MIN(F$6:F20)-1,"NC") -> 90
B22: 16th | C22: Ian Hinkins | D22: LOC | E22: M40 | F22: =IF(ISNUMBER(MATCH(D22,Clubs,0)),MIN(F$6:F21)-1,"NC") -> 89
B23: 17th | C23: Ben Abdelnoor | D23: WCOC | E23: M45 | F23: =IF(ISNUMBER(MATCH(D23,Clubs,0)),MIN(F$6:F22)-1,"NC") -> 88
... B31: 25th | C31: Jon Green | D31: SROC | E31: M50 | F31: =IF(ISNUMBER(MATCH(D31,Clubs,0)),MIN(F$6:F30)-1,"NC") -> 82
B32: 26th | C32: Stephen Murdoch | E32: M65 | F32: =IF(ISNUMBER(MATCH(D32,Clubs,0)),MIN(F$6:F31)-1,"NC") -> NC
B33: 27th | C33: Simon West | D33: RAFO | E33: M21 | F33: =IF(ISNUMBER(MATCH(D33,Clubs,0)),MIN(F$6:F32)-1,"NC") -> NC
B34: 28th | C34: Julie Ferris-Worth | D34: BL | E34: W55 | F34: =IF(ISNUMBER(MATCH(D34,Clubs,0)),MIN(F$6:F33)-1,"NC") -> 81
F35: =IF(ISNUMBER(MATCH(D35,Clubs,0)),MIN(F$6:F34)-1,"NC") -> NC
F36: =IF(ISNUMBER(MATCH(D36,Clubs,0)),MIN(F$6:F35)-1,"NC") -> NC
F37: =IF(ISNUMBER(MATCH(D37,Clubs,0)),MIN(F$6:F36)-1,"NC") -> NC
F38: =IF(ISNUMBER(MATCH(D38,Clubs,0)),MIN(F$6:F37)-1,"NC") -> NC
F39: =IF(ISNUMBER(MATCH(D39,Clubs,0)),MIN(F$6:F38)-1,"NC") -> NC
F40: =IF(ISNUMBER(MATCH(D40,Clubs,0)),MIN(F$6:F39)-1,"NC") -> NC
F41: =IF(ISNUMBER(MATCH(D41,Clubs,0)),MIN(F$6:F40)-1,"NC") -> NC
F42: =IF(ISNUMBER(MATCH(D42,Clubs,0)),MIN(F$6:F41)-1,"NC") -> NC
F43: =IF(ISNUMBER(MATCH(D43,Clubs,0)),MIN(F$6:F42)-1,"NC") -> NC
F44: =IF(ISNUMBER(MATCH(D44,Clubs,0)),MIN(F$6:F43)-1,"NC") -> NC
F45: =IF(ISNUMBER(MATCH(D45,Clubs,0)),MIN(F$6:F44)-1,"NC") -> NC
F46: =IF(ISNUMBER(MATCH(D46,Clubs,0)),MIN(F$6:F45)-1,"NC") -> NC
... F107: =IF(ISNUMBER(MATCH(D107,Clubs,0)),MIN(F$6:F106)-1,"NC") -> NC
...

Sheet SilverHow
B2: Results for Silver How 12 APR (LOC)
C4: BROWN
C5: Name | D5: Club | E5: Class | G5: Galoppen Score
G6: 100
B7: 1st | C7: Joe Daly | D7: SHUOC | E7: M21 | G7: =IF(ISNUMBER(MATCH(D7,Clubs,0)),MIN(G6:G$6)-1,"NC") -> NC
B8: 2nd | C8: Ruben Razzetti | D8: WCOC | E8: M20 | G8: =IF(ISNUMBER(MATCH(D8,Clubs,0)),MIN(G$6:G7)-1,"NC") -> 99 | L8: BL | M8: =COUNTIF(C:E,L8) -> 19
B9: 3rd | C9: Tim Higginbottom | D9: DEE | E9: M50 | G9: =IF(ISNUMBER(MATCH(D9,Clubs,0)),MIN(G$6:G8)-1,"NC") -> NC | L9: LOC | M9: =COUNTIF(C:E,L9) -> 63
B10: 4th | C10: David Roome | D10: SROC | E10: M40 | G10: =IF(ISNUMBER(MATCH(D10,Clubs,0)),MIN(G$6:G9)-1,"NC") -> 98 | L10: SROC | M10: =COUNTIF(C:E,L10) -> 26
B11: 5th | C11: Toby Heppell | D11: WCOC | E11: M18 | G11: =IF(ISNUMBER(MATCH(D11,Clubs,0)),MIN(G$6:G10)-1,"NC") -> 97 | L11: WAROC | M11: =COUNTIF(C:E,L11) -> 3
B12: 6th | C12: Nicholas Barber | D12: LOC | E12: M35 | G12: =IF(ISNUMBER(MATCH(D12,Clubs,0)),MIN(G$6:G11)-1,"NC") -> 96 | L12: WCOC | M12: =COUNTIF(C:E,L12) -> 37
B13: 7th | C13: Matthew Birkinshaw | D13: SHUOC | E13: M20 | G13: =IF(ISNUMBER(MATCH(D13,Clubs,0)),MIN(G$6:G12)-1,"NC") -> NC
B14: 8th | C14: Jamie Osborne | D14: LOC | E14: M16 | G14: =IF(ISNUMBER(MATCH(D14,Clubs,0)),MIN(G$6:G13)-1,"NC") -> 95
B15: 9th | C15: Mark Burley | D15: MDOC | E15: M35 | G15: =IF(ISNUMBER(MATCH(D15,Clubs,0)),MIN(G$6:G14)-1,"NC") -> NC
B16: 10th | C16: Isaac Hunter | D16: WCOC | E16: M20 | G16: =IF(ISNUMBER(MATCH(D16,Clubs,0)),MIN(G$6:G15)-1,"NC") -> 94
B17: 11th | C17: Michael Osborne | D17: LOC | E17: M50 | G17: =IF(ISNUMBER(MATCH(D17,Clubs,0)),MIN(G$6:G16)-1,"NC") -> 93
B18: 12th | C18: Sam Osborne | D18: LOC | E18: M18 | G18: =IF(ISNUMBER(MATCH(D18,Clubs,0)),MIN(G$6:G17)-1,"NC") -> 92
B19: 13th | C19: Steve Birkinshaw | D19: WCOC | E19: M55 | G19: =IF(ISNUMBER(MATCH(D19,Clubs,0)),MIN(G$6:G18)-1,"NC") -> 91
B20: 14th | C20: Charlie Adams | D20: SYO | E20: M60 | G20: =IF(ISNUMBER(MATCH(D20,Clubs,0)),MIN(G$6:G19)-1,"NC") -> NC
B21: 15th | C21: Anne Edwards | D21: LOC | E21: W35 | G21: =IF(ISNUMBER(MATCH(D21,Clubs,0)),MIN(G$6:G20)-1,"NC") -> 90
B22: 16th | C22: Jamie Rennie | D22: WCOC | E22: M55 | G22: =IF(ISNUMBER(MATCH(D22,Clubs,0)),MIN(G$6:G21)-1,"NC") -> 89
B23: 17th | C23: Jeff Powell Davies | D23: BL | E23: M45 | G23: =IF(ISNUMBER(MATCH(D23,Clubs,0)),MIN(G$6:G22)-1,"NC") -> 88
B24: 18th | C24: Mike Johnson | D24: SROC | E24: M65 | G24: =IF(ISNUMBER(MATCH(D24,Clubs,0)),MIN(G$6:G23)-1,"NC") -> 87
... B59: 53rd | C59: Stephen Murdoch | D59: BOF | E59: M65 | G59: =IF(ISNUMBER(MATCH(D59,Clubs,0)),MIN(G$6:G58)-1,"NC") -> NC
G60: =IF(ISNUMBER(MATCH(D60,Clubs,0)),MIN(G$6:G59)-1,"NC") -> NC
G61: =IF(ISNUMBER(MATCH(D61,Clubs,0)),MIN(G$6:G60)-1,"NC") -> NC
G62: =IF(ISNUMBER(MATCH(D62,Clubs,0)),MIN(G$6:G61)-1,"NC") -> NC
G63: =IF(ISNUMBER(MATCH(D63,Clubs,0)),MIN(G$6:G62)-1,"NC") -> NC
G64: =IF(ISNUMBER(MATCH(D64,Clubs,0)),MIN(G$6:G63)-1,"NC") -> NC
G65: =IF(ISNUMBER(MATCH(D65,Clubs,0)),MIN(G$6:G64)-1,"NC") -> NC
G66: =IF(ISNUMBER(MATCH(D66,Clubs,0)),MIN(G$6:G65)-1,"NC") -> NC
G67: =IF(ISNUMBER(MATCH(D67,Clubs,0)),MIN(G$6:G66)-1,"NC") -> NC
G68: =IF(ISNUMBER(MATCH(D68,Clubs,0)),MIN(G$6:G67)-1,"NC") -> NC
G69: =IF(ISNUMBER(MATCH(D69,Clubs,0)),MIN(G$6:G68)-1,"NC") -> NC
G70: =IF(ISNUMBER(MATCH(D70,Clubs,0)),MIN(G$6:G69)-1,"NC") -> NC
G71: =IF(ISNUMBER(MATCH(D71,Clubs,0)),MIN(G$6:G70)-1,"NC") -> NC
... G108: =IF(ISNUMBER(MATCH(D108,Clubs,0)),MIN(G$6:G107)-1,"NC") -> NC
C111: BLUE
C112: Name | G112: Galoppen Score
G113: 100
B114: st | C114: Robert Browne | D114: LOC | E114: M35 | G114: =IF(ISNUMBER(MATCH(D114,Clubs,0)),MIN(G$113:G113)-1,"NC") -> 99
...

Sheet Blea Tarn
B2: Results for Blea Tarn 3/5/2025 (WCOC)
C4: BROWN
C5: Name | D5: Club | E5: Class | H5: Galoppen Score | M5: BL | N5: =COUNTIF(C:D,M5) -> 10
H6: 100 | M6: LOC | N6: =COUNTIF(C:D,M6) -> 40
B7: 1st | C7: Joseph Hudd | D7: WCOC | E7: M21 | H7: =IF(ISNUMBER(MATCH(D7,Clubs,0)),MIN(H$6:H6)-1,"NC") -> 99 | M7: SROC | N7: =COUNTIF(C:D,M7) -> 19
B8: 2nd | C8: Bruce Duncan | D8: LOC | E8: M45 | H8: =IF(ISNUMBER(MATCH(D8,Clubs,0)),MIN(H$6:H7)-1,"NC") -> 98 | M8: WAROC | N8: =COUNTIF(C:D,M8) -> 0
B9: 3rd | C9: Ian Porter | D9: SROC | E9: M55 | H9: =IF(ISNUMBER(MATCH(D9,Clubs,0)),MIN(H$6:H8)-1,"NC") -> 97 | M9: WCOC | N9: =COUNTIF(C:D,M9) -> 50
B10: 4th | C10: Daisy Rennie | D10: WCOC | E10: W20 | H10: =IF(ISNUMBER(MATCH(D10,Clubs,0)),MIN(H$6:H9)-1,"NC") -> 96
B11: 5th | C11: Jamie Rennie | D11: WCOC | E11: M55 | H11: =IF(ISNUMBER(MATCH(D11,Clubs,0)),MIN(H$6:H10)-1,"NC") -> 95
B12: 6th | C12: Simon Hunter | D12: WCOC | E12: M55 | H12: =IF(ISNUMBER(MATCH(D12,Clubs,0)),MIN(H$6:H11)-1,"NC") -> 94
B13: 7th | C13: Isaac Hunter | D13: WCOC | E13: M20 | H13: =IF(ISNUMBER(MATCH(D13,Clubs,0)),MIN(H$6:H12)-1,"NC") -> 93
B14: 8th | C14: Sam Osborne | D14: LOC | E14: M18 | H14: =IF(ISNUMBER(MATCH(D14,Clubs,0)),MIN(H$6:H13)-1,"NC") -> 92
B15: 9th | C15: Zach Thomas | D15: SROC | E15: M18 | H15: =IF(ISNUMBER(MATCH(D15,Clubs,0)),MIN(H$6:H14)-1,"NC") -> 91
B16: 10th | C16: Ian Hinkins | D16: LOC | E16: M40 | H16: =IF(ISNUMBER(MATCH(D16,Clubs,0)),MIN(H$6:H15)-1,"NC") -> 90
B17: 11th | C17: Jeff Powell Davies | D17: BL | E17: M45 | H17: =IF(ISNUMBER(MATCH(D17,Clubs,0)),MIN(H$6:H16)-1,"NC") -> 89
B18: 12th | C18: Ella Baxter | D18: SYO | E18: W18 | H18: =IF(ISNUMBER(MATCH(D18,Clubs,0)),MIN(H$6:H17)-1,"NC") -> NC
B19: 13th | C19: Dan Parker | D19: BL | E19: M60 | H19: =IF(ISNUMBER(MATCH(D19,Clubs,0)),MIN(H$6:H18)-1,"NC") -> 88
B20: 14th | C20: Ian Jones | D20: ERYRI | E20: M55 | H20: =IF(ISNUMBER(MATCH(D20,Clubs,0)),MIN(H$6:H19)-1,"NC") -> NC
B21: 15th | C21: Karen Parker | D21: BL | E21: W60 | H21: =IF(ISNUMBER(MATCH(D21,Clubs,0)),MIN(H$6:H20)-1,"NC") -> 87
... B31: 25th | C31: Tom Matthew | D31: SROC | E31: M55 | H31: =IF(ISNUMBER(MATCH(D31,Clubs,0)),MIN(H$6:H30)-1,"NC") -> 80
H32: =IF(ISNUMBER(MATCH(D32,Clubs,0)),MIN(H$6:H31)-1,"NC") -> NC
H33: =IF(ISNUMBER(MATCH(D33,Clubs,0)),MIN(H$6:H32)-1,"NC") -> NC
H34: =IF(ISNUMBER(MATCH(D34,Clubs,0)),MIN(H$6:H33)-1,"NC") -> NC
H35: =IF(ISNUMBER(MATCH(D35,Clubs,0)),MIN(H$6:H34)-1,"NC") -> NC
H36: =IF(ISNUMBER(MATCH(D36,Clubs,0)),MIN(H$6:H35)-1,"NC") -> NC
H37: =IF(ISNUMBER(MATCH(D37,Clubs,0)),MIN(H$6:H36)-1,"NC") -> NC
H38: =IF(ISNUMBER(MATCH(D38,Clubs,0)),MIN(H$6:H37)-1,"NC") -> NC
H39: =IF(ISNUMBER(MATCH(D39,Clubs,0)),MIN(H$6:H38)-1,"NC") -> NC
H40: =IF(ISNUMBER(MATCH(D40,Clubs,0)),MIN(H$6:H39)-1,"NC") -> NC
H41: =IF(ISNUMBER(MATCH(D41,Clubs,0)),MIN(H$6:H40)-1,"NC") -> NC
H42: =IF(ISNUMBER(MATCH(D42,Clubs,0)),MIN(H$6:H41)-1,"NC") -> NC
H43: =IF(ISNUMBER(MATCH(D43,Clubs,0)),MIN(H$6:H42)-1,"NC") -> NC
... H107: =IF(ISNUMBER(MATCH(D107,Clubs,0)),MIN(H$6:H106)-1,"NC") -> NC
C110: BLUE
C111: Name | D111: Club | E111: Class | H111: Galoppen Score
H112: 100
B113: 1st | C113: Matthew Rooke | D113: LOC | E113: M35 | H113: =IF(ISNUMBER(MATCH(D113,Clubs,0)),MIN(H$112:H112)-1,"NC") -> 99
B114: 2nd | C114: Richard Jackson | E114: M40 | H114: =IF(ISNUMBER(MATCH(D114,Clubs,0)),MIN(H$112:H113)-1,"NC") -> NC
B115: 3rd | C115: Graham Patten | D115: WCOC | E115: M60 | H115: =IF(ISNUMBER(MATCH(D115,Clubs,0)),MIN(H$112:H114)-1,"NC") -> 98
B116: 4th= | C116: Daniel Hughes | D116: LOC | E116: M50 | H116: =IF(ISNUMBER(MATCH(D116,Clubs,0)),MIN(H$112:H115)-1,"NC") -> 97
...

Sheet Bampton Cmn
B2: Results for Bampton Common BL 10/5/2026
C4: BROWN
C5: Name | D5: Club | E5: Class | I5: Galoppen Score | N5: BL | O5: =COUNTIF(C:D,N5) -> 27
I6: 100 | N6: LOC | O6: =COUNTIF(C:D,N6) -> 42
B7: 1st | C7: David Roome | D7: SROC | E7: M40 | I7: =IF(ISNUMBER(MATCH(D7,Clubs,0)),MIN(I$6:I6)-1,"NC") -> 99 | N7: SROC | O7: =COUNTIF(C:D,N7) -> 18
B8: 2nd | C8: Isaac Hunter | D8: WCOC | E8: M20 | I8: =IF(ISNUMBER(MATCH(D8,Clubs,0)),MIN(I$6:I7)-1,"NC") -> 98 | N8: WAROC | O8: =COUNTIF(C:D,N8) -> 2
B9: 3rd | C9: Steve Birkinshaw | D9: WCOC | E9: M55 | I9: =IF(ISNUMBER(MATCH(D9,Clubs,0)),MIN(I$6:I8)-1,"NC") -> 97 | N9: WCOC | O9: =COUNTIF(C:D,N9) -> 45
B10: 4th | C10: Michael Osborne | D10: LOC | E10: M50 | I10: =IF(ISNUMBER(MATCH(D10,Clubs,0)),MIN(I$6:I9)-1,"NC") -> 96
B11: 5th | C11: Zach Thomas | D11: SROC | E11: M18 | I11: =IF(ISNUMBER(MATCH(D11,Clubs,0)),MIN(I$6:I10)-1,"NC") -> 95
B12: 6th | C12: Daniel Hughes | D12: LOC | E12: M50 | I12: =IF(ISNUMBER(MATCH(D12,Clubs,0)),MIN(I$6:I11)-1,"NC") -> 94
B13: 7th | C13: Keith Tonkin | D13: BL | E13: M65 | I13: =IF(ISNUMBER(MATCH(D13,Clubs,0)),MIN(I$6:I12)-1,"NC") -> 93
B14: 8th | C14: Jeff Powell Davies | D14: BL | E14: M45 | I14: =IF(ISNUMBER(MATCH(D14,Clubs,0)),MIN(I$6:I13)-1,"NC") -> 92
B15: 9th | C15: Christiaan Swanepoel | D15: WCOC | E15: M45 | I15: =IF(ISNUMBER(MATCH(D15,Clubs,0)),MIN(I$6:I14)-1,"NC") -> 91
B16: 10th | C16: Simon Hunter | D16: WCOC | E16: M55 | I16: =IF(ISNUMBER(MATCH(D16,Clubs,0)),MIN(I$6:I15)-1,"NC") -> 90
B17: 11th | C17: Mike Harrison | D17: WCOC | E17: M55 | I17: =IF(ISNUMBER(MATCH(D17,Clubs,0)),MIN(I$6:I16)-1,"NC") -> 89
B18: 12th | C18: Ian Hinkins | D18: LOC | E18: M40 | I18: =IF(ISNUMBER(MATCH(D18,Clubs,0)),MIN(I$6:I17)-1,"NC") -> 88
B19: 13th | C19: Joe Oetting | D19: EBOR | E19: M35 | I19: =IF(ISNUMBER(MATCH(D19,Clubs,0)),MIN(I$6:I18)-1,"NC") -> NC
B20: 14th | C20: Steve Holmes | D20: WCOC | E20: M55 | I20: =IF(ISNUMBER(MATCH(D20,Clubs,0)),MIN(I$6:I19)-1,"NC") -> 87
B21: 15th | C21: Dan Parker | D21: BL | E21: M60 | I21: =IF(ISNUMBER(MATCH(D21,Clubs,0)),MIN(I$6:I20)-1,"NC") -> 86
... B28: 22nd | C28: Julie Ferris-Worth | D28: WCOC | E28: W55 | I28: =IF(ISNUMBER(MATCH(D28,Clubs,0)),MIN(I$6:I27)-1,"NC") -> 82
B29: 23rd | C29: Stephen Murdoch | E29: M65 | I29: =IF(ISNUMBER(MATCH(D29,Clubs,0)),MIN(I$6:I28)-1,"NC") -> NC
B30: 24th | C30: Phil Newall | D30: WCOC | E30: M60 | I30: =IF(ISNUMBER(MATCH(D30,Clubs,0)),MIN(I$6:I29)-1,"NC") -> 81
I31: =IF(ISNUMBER(MATCH(D31,Clubs,0)),MIN(I$6:I30)-1,"NC") -> NC
I32: =IF(ISNUMBER(MATCH(D32,Clubs,0)),MIN(I$6:I31)-1,"NC") -> NC
I33: =IF(ISNUMBER(MATCH(D33,Clubs,0)),MIN(I$6:I32)-1,"NC") -> NC
I34: =IF(ISNUMBER(MATCH(D34,Clubs,0)),MIN(I$6:I33)-1,"NC") -> NC
I35: =IF(ISNUMBER(MATCH(D35,Clubs,0)),MIN(I$6:I34)-1,"NC") -> NC
I36: =IF(ISNUMBER(MATCH(D36,Clubs,0)),MIN(I$6:I35)-1,"NC") -> NC
I37: =IF(ISNUMBER(MATCH(D37,Clubs,0)),MIN(I$6:I36)-1,"NC") -> NC
I38: =IF(ISNUMBER(MATCH(D38,Clubs,0)),MIN(I$6:I37)-1,"NC") -> NC
I39: =IF(ISNUMBER(MATCH(D39,Clubs,0)),MIN(I$6:I38)-1,"NC") -> NC
I40: =IF(ISNUMBER(MATCH(D40,Clubs,0)),MIN(I$6:I39)-1,"NC") -> NC
I41: =IF(ISNUMBER(MATCH(D41,Clubs,0)),MIN(I$6:I40)-1,"NC") -> NC
I42: =IF(ISNUMBER(MATCH(D42,Clubs,0)),MIN(I$6:I41)-1,"NC") -> NC
... I107: =IF(ISNUMBER(MATCH(D107,Clubs,0)),MIN(I$6:I106)-1,"NC") -> NC
C110: BLUE
C111: Name | D111: Club | E111: Class | I111: Galoppen Score
I112: 100
B113: 1st | C113: Matthew Rooke | D113: LOC | E113: M35 | I113: =IF(ISNUMBER(MATCH(D113,Clubs,0)),MIN(I$112:I112)-1,"NC") -> 99
B114: 2nd | C114: James Todhunter | D114: SROC | E114: M45 | I114: =IF(ISNUMBER(MATCH(D114,Clubs,0)),MIN(I$112:I113)-1,"NC") -> 98
...

Sheet Troutal Fell
B2: Results for Troutal Fell 27Sept2026
C4: BROWN
C5: Name | D5: Club | E5: Class | J5: Galoppen Score | O5: BL | P5: =COUNTIF(C:D,O5) -> 11
J6: 100 | O6: LOC | P6: =COUNTIF(C:D,O6) -> 33
B7: 1st | C7: James Birkinshaw | D7: WCOC | E7: M21 | J7: =IF(ISNUMBER(MATCH(D7,Clubs,0)),MIN(J$6:J6)-1,"NC") -> 99 | O7: SROC | P7: =COUNTIF(C:D,O7) -> 16
B8: 2nd | C8: Steve Birkinshaw | D8: WCOC | E8: M55 | J8: =IF(ISNUMBER(MATCH(D8,Clubs,0)),MIN(J$6:J7)-1,"NC") -> 98 | O8: WAROC | P8: =COUNTIF(C:D,O8) -> 2
B9: 3rd | C9: Michael Osborne | D9: LOC | E9: M50 | J9: =IF(ISNUMBER(MATCH(D9,Clubs,0)),MIN(J$6:J8)-1,"NC") -> 97 | O9: WCOC | P9: =COUNTIF(C:D,O9) -> 22
B10: 4th | C10: Joseph Goodwin | D10: INT | E10: M21 | J10: =IF(ISNUMBER(MATCH(D10,Clubs,0)),MIN(J$6:J9)-1,"NC") -> NC
B11: 5th | C11: Jamie Rennie | D11: WCOC | E11: M55 | J11: =IF(ISNUMBER(MATCH(D11,Clubs,0)),MIN(J$6:J10)-1,"NC") -> 96
B12: 6th | C12: Michael Adams | D12: LOC | E12: M21 | J12: =IF(ISNUMBER(MATCH(D12,Clubs,0)),MIN(J$6:J11)-1,"NC") -> 95
B13: 7th | C13: Jeff Powell Davies | D13: BL | E13: M45 | J13: =IF(ISNUMBER(MATCH(D13,Clubs,0)),MIN(J$6:J12)-1,"NC") -> 94
B14: 8th | C14: Dan Earnshaw | D14: MDOC | E14: M21 | J14: =IF(ISNUMBER(MATCH(D14,Clubs,0)),MIN(J$6:J13)-1,"NC") -> NC
B15: 9th | C15: Matthew McCreadie | D15: DEE | E15: M20 | J15: =IF(ISNUMBER(MATCH(D15,Clubs,0)),MIN(J$6:J14)-1,"NC") -> NC
B16: 10th | C16: Dan Parker | D16: BL | E16: M60 | J16: =IF(ISNUMBER(MATCH(D16,Clubs,0)),MIN(J$6:J15)-1,"NC") -> 93
B17: 11th | C17: Tom Matthew | D17: SROC | E17: M55 | J17: =IF(ISNUMBER(MATCH(D17,Clubs,0)),MIN(J$6:J16)-1,"NC") -> 92
B18: 12th | C18: Scott Collier | D18: KERNO | E18: M40 | J18: =IF(ISNUMBER(MATCH(D18,Clubs,0)),MIN(J$6:J17)-1,"NC") -> NC
B19: 13th | C19: Adam McCreadie | D19: DEE | E19: M45 | J19: =IF(ISNUMBER(MATCH(D19,Clubs,0)),MIN(J$6:J18)-1,"NC") -> NC
B20: 14th | C20: Ian Porter | D20: SROC | E20: M55 | J20: =IF(ISNUMBER(MATCH(D20,Clubs,0)),MIN(J$6:J19)-1,"NC") -> 91
B21: 15th | C21: Jonty Goodwin | D21: WCOC | E21: M21 | J21: =IF(ISNUMBER(MATCH(D21,Clubs,0)),MIN(J$6:J20)-1,"NC") -> 90
... B31: 25th | C31: Derek Fryer | D31: LOC | E31: M70 | J31: =IF(ISNUMBER(MATCH(D31,Clubs,0)),MIN(J$6:J30)-1,"NC") -> 82
J32: =IF(ISNUMBER(MATCH(D32,Clubs,0)),MIN(J$6:J31)-1,"NC") -> NC
J33: =IF(ISNUMBER(MATCH(D33,Clubs,0)),MIN(J$6:J32)-1,"NC") -> NC
J34: =IF(ISNUMBER(MATCH(D34,Clubs,0)),MIN(J$6:J33)-1,"NC") -> NC
J35: =IF(ISNUMBER(MATCH(D35,Clubs,0)),MIN(J$6:J34)-1,"NC") -> NC
J36: =IF(ISNUMBER(MATCH(D36,Clubs,0)),MIN(J$6:J35)-1,"NC") -> NC
J37: =IF(ISNUMBER(MATCH(D37,Clubs,0)),MIN(J$6:J36)-1,"NC") -> NC
J38: =IF(ISNUMBER(MATCH(D38,Clubs,0)),MIN(J$6:J37)-1,"NC") -> NC
J39: =IF(ISNUMBER(MATCH(D39,Clubs,0)),MIN(J$6:J38)-1,"NC") -> NC
J40: =IF(ISNUMBER(MATCH(D40,Clubs,0)),MIN(J$6:J39)-1,"NC") -> NC
J41: =IF(ISNUMBER(MATCH(D41,Clubs,0)),MIN(J$6:J40)-1,"NC") -> NC
J42: =IF(ISNUMBER(MATCH(D42,Clubs,0)),MIN(J$6:J41)-1,"NC") -> NC
J43: =IF(ISNUMBER(MATCH(D43,Clubs,0)),MIN(J$6:J42)-1,"NC") -> NC
... J107: =IF(ISNUMBER(MATCH(D107,Clubs,0)),MIN(J$6:J106)-1,"NC") -> NC
C110: BLUE
C111: Name | D111: Club | E111: Class | J111: Galoppen Score
J112: 100
B113: 1st | C113: Matthew Rooke | D113: LOC | E113: M35 | J113: =IF(ISNUMBER(MATCH(D113,Clubs,0)),MIN(J$112:J112)-1,"NC") -> 99
B114: 2nd | C114: Ian Thomas | D114: SROC | E114: M55 | J114: =IF(ISNUMBER(MATCH(D114,Clubs,0)),MIN(J$112:J113)-1,"NC") -> 98
B115: 3rd | C115: Mike Hooper | D115: LOC | E115: M55 | J115: =IF(ISNUMBER(MATCH(D115,Clubs,0)),MIN(J$112:J114)-1,"NC") -> 97
B116: 4th | C116: Michael Billinghurst | D116: WCOC | E116: M65 | J116: =IF(ISNUMBER(MATCH(D116,Clubs,0)),MIN(J$112:J115)-1,"NC") -> 96
...

Sheet 6
B2: Results for
C4: BROWN
C5: Name | D5: Club | E5: Class | K5: Galoppen Score | P5: BL | Q5: =COUNTIF(C:D,P5) -> 0
K6: 100 | P6: LOC | Q6: =COUNTIF(C:D,P6) -> 0
K7: =IF(ISNUMBER(MATCH(D7,Clubs,0)),MIN(K$6:K6)-1,"NC") -> NC | P7: SROC | Q7: =COUNTIF(C:D,P7) -> 0
K8: =IF(ISNUMBER(MATCH(D8,Clubs,0)),MIN(K$6:K7)-1,"NC") -> NC | P8: WAROC | Q8: =COUNTIF(C:D,P8) -> 0
K9: =IF(ISNUMBER(MATCH(D9,Clubs,0)),MIN(K$6:K8)-1,"NC") -> NC | P9: WCOC | Q9: =COUNTIF(C:D,P9) -> 0
K10: =IF(ISNUMBER(MATCH(D10,Clubs,0)),MIN(K$6:K9)-1,"NC") -> NC
K11: =IF(ISNUMBER(MATCH(D11,Clubs,0)),MIN(K$6:K10)-1,"NC") -> NC
K12: =IF(ISNUMBER(MATCH(D12,Clubs,0)),MIN(K$6:K11)-1,"NC") -> NC
K13: =IF(ISNUMBER(MATCH(D13,Clubs,0)),MIN(K$6:K12)-1,"NC") -> NC
K14: =IF(ISNUMBER(MATCH(D14,Clubs,0)),MIN(K$6:K13)-1,"NC") -> NC
K15: =IF(ISNUMBER(MATCH(D15,Clubs,0)),MIN(K$6:K14)-1,"NC") -> NC
K16: =IF(ISNUMBER(MATCH(D16,Clubs,0)),MIN(K$6:K15)-1,"NC") -> NC
K17: =IF(ISNUMBER(MATCH(D17,Clubs,0)),MIN(K$6:K16)-1,"NC") -> NC
K18: =IF(ISNUMBER(MATCH(D18,Clubs,0)),MIN(K$6:K17)-1,"NC") -> NC
K19: =IF(ISNUMBER(MATCH(D19,Clubs,0)),MIN(K$6:K18)-1,"NC") -> NC
K20: =IF(ISNUMBER(MATCH(D20,Clubs,0)),MIN(K$6:K19)-1,"NC") -> NC
K21: =IF(ISNUMBER(MATCH(D21,Clubs,0)),MIN(K$6:K20)-1,"NC") -> NC
... K107: =IF(ISNUMBER(MATCH(D107,Clubs,0)),MIN(K$6:K106)-1,"NC") -> NC
C110: BLUE
C111: Name | D111: Club | E111: Class | K111: Galoppen Score
K112: 100
K113: =IF(ISNUMBER(MATCH(D113,Clubs,0)),MIN(K$112:K112)-1,"NC") -> NC
K114: =IF(ISNUMBER(MATCH(D114,Clubs,0)),MIN(K$112:K113)-1,"NC") -> NC
K115: =IF(ISNUMBER(MATCH(D115,Clubs,0)),MIN(K$112:K114)-1,"NC") -> NC
K116: =IF(ISNUMBER(MATCH(D116,Clubs,0)),MIN(K$112:K115)-1,"NC") -> NC
K117: =IF(ISNUMBER(MATCH(D117,Clubs,0)),MIN(K$112:K116)-1,"NC") -> NC
K118: =IF(ISNUMBER(MATCH(D118,Clubs,0)),MIN(K$112:K117)-1,"NC") -> NC
K119: =IF(ISNUMBER(MATCH(D119,Clubs,0)),MIN(K$112:K118)-1,"NC") -> NC
K120: =IF(ISNUMBER(MATCH(D120,Clubs,0)),MIN(K$112:K119)-1,"NC") -> NC
K121: =IF(ISNUMBER(MATCH(D121,Clubs,0)),MIN(K$112:K120)-1,"NC") -> NC
K122: =IF(ISNUMBER(MATCH(D122,Clubs,0)),MIN(K$112:K121)-1,"NC") -> NC
K123: =IF(ISNUMBER(MATCH(D123,Clubs,0)),MIN(K$112:K122)-1,"NC") -> NC
K124: =IF(ISNUMBER(MATCH(D124,Clubs,0)),MIN(K$112:K123)-1,"NC") -> NC
... K209: =IF(ISNUMBER(MATCH(D209,Clubs,0)),MIN(K$112:K208)-1,"NC") -> NC
C212: GREEN
C213: Name | D213: Club | E213: Class | K213: Galoppen Score
K214: 100
K215: =IF(ISNUMBER(MATCH(D215,Clubs,0)),MIN(K214:K$214)-1,"NC") -> NC
...

Sheet 7
B2: Results for
C4: BROWN
C5: Name | D5: Club | E5: Class | L5: Galoppen Score | Q5: BL | R5: =COUNTIF(C:D,Q5) -> 0
L6: 100 | Q6: LOC | R6: =COUNTIF(C:D,Q6) -> 0
L7: =IF(ISNUMBER(MATCH(D7,Clubs,0)),MIN(L$6:L6)-1,"NC") -> NC | Q7: SROC | R7: =COUNTIF(C:D,Q7) -> 0
L8: =IF(ISNUMBER(MATCH(D8,Clubs,0)),MIN(L$6:L7)-1,"NC") -> NC | Q8: WAROC | R8: =COUNTIF(C:D,Q8) -> 0
L9: =IF(ISNUMBER(MATCH(D9,Clubs,0)),MIN(L$6:L8)-1,"NC") -> NC | Q9: WCOC | R9: =COUNTIF(C:D,Q9) -> 0
L10: =IF(ISNUMBER(MATCH(D10,Clubs,0)),MIN(L$6:L9)-1,"NC") -> NC
L11: =IF(ISNUMBER(MATCH(D11,Clubs,0)),MIN(L$6:L10)-1,"NC") -> NC
L12: =IF(ISNUMBER(MATCH(D12,Clubs,0)),MIN(L$6:L11)-1,"NC") -> NC
L13: =IF(ISNUMBER(MATCH(D13,Clubs,0)),MIN(L$6:L12)-1,"NC") -> NC
L14: =IF(ISNUMBER(MATCH(D14,Clubs,0)),MIN(L$6:L13)-1,"NC") -> NC
L15: =IF(ISNUMBER(MATCH(D15,Clubs,0)),MIN(L$6:L14)-1,"NC") -> NC
L16: =IF(ISNUMBER(MATCH(D16,Clubs,0)),MIN(L$6:L15)-1,"NC") -> NC
L17: =IF(ISNUMBER(MATCH(D17,Clubs,0)),MIN(L$6:L16)-1,"NC") -> NC
L18: =IF(ISNUMBER(MATCH(D18,Clubs,0)),MIN(L$6:L17)-1,"NC") -> NC
L19: =IF(ISNUMBER(MATCH(D19,Clubs,0)),MIN(L$6:L18)-1,"NC") -> NC
L20: =IF(ISNUMBER(MATCH(D20,Clubs,0)),MIN(L$6:L19)-1,"NC") -> NC
L21: =IF(ISNUMBER(MATCH(D21,Clubs,0)),MIN(L$6:L20)-1,"NC") -> NC
... L107: =IF(ISNUMBER(MATCH(D107,Clubs,0)),MIN(L$6:L106)-1,"NC") -> NC
C110: BLUE
C111: Name | D111: Club | E111: Class | L111: Galoppen Score
L112: 100
L113: =IF(ISNUMBER(MATCH(D113,Clubs,0)),MIN(L$112:L112)-1,"NC") -> NC
L114: =IF(ISNUMBER(MATCH(D114,Clubs,0)),MIN(L$112:L113)-1,"NC") -> NC
L115: =IF(ISNUMBER(MATCH(D115,Clubs,0)),MIN(L$112:L114)-1,"NC") -> NC
L116: =IF(ISNUMBER(MATCH(D116,Clubs,0)),MIN(L$112:L115)-1,"NC") -> NC
L117: =IF(ISNUMBER(MATCH(D117,Clubs,0)),MIN(L$112:L116)-1,"NC") -> NC
L118: =IF(ISNUMBER(MATCH(D118,Clubs,0)),MIN(L$112:L117)-1,"NC") -> NC
L119: =IF(ISNUMBER(MATCH(D119,Clubs,0)),MIN(L$112:L118)-1,"NC") -> NC
L120: =IF(ISNUMBER(MATCH(D120,Clubs,0)),MIN(L$112:L119)-1,"NC") -> NC
L121: =IF(ISNUMBER(MATCH(D121,Clubs,0)),MIN(L$112:L120)-1,"NC") -> NC
L122: =IF(ISNUMBER(MATCH(D122,Clubs,0)),MIN(L$112:L121)-1,"NC") -> NC
L123: =IF(ISNUMBER(MATCH(D123,Clubs,0)),MIN(L$112:L122)-1,"NC") -> NC
L124: =IF(ISNUMBER(MATCH(D124,Clubs,0)),MIN(L$112:L123)-1,"NC") -> NC
... L209: =IF(ISNUMBER(MATCH(D209,Clubs,0)),MIN(L$112:L208)-1,"NC") -> NC
C212: GREEN
C213: Name | D213: Club | E213: Class | L213: Galoppen Score
L214: 100
L215: =IF(ISNUMBER(MATCH(D215,Clubs,0)),MIN(L214:L$214)-1,"NC") -> NC
...

Sheet 8
B2: Results for
C4: BROWN
C5: Name | D5: Club | E5: Class | M5: Galoppen Score | R5: BL | S5: =COUNTIF(C:D,R5) -> 0
M6: 100 | R6: LOC | S6: =COUNTIF(C:D,R6) -> 0
M7: =IF(ISNUMBER(MATCH(D7,Clubs,0)),MIN(M$6:M6)-1,"NC") -> NC | R7: SROC | S7: =COUNTIF(C:D,R7) -> 0
M8: =IF(ISNUMBER(MATCH(D8,Clubs,0)),MIN(M$6:M7)-1,"NC") -> NC | R8: WAROC | S8: =COUNTIF(C:D,R8) -> 0
M9: =IF(ISNUMBER(MATCH(D9,Clubs,0)),MIN(M$6:M8)-1,"NC") -> NC | R9: WCOC | S9: =COUNTIF(C:D,R9) -> 0
M10: =IF(ISNUMBER(MATCH(D10,Clubs,0)),MIN(M$6:M9)-1,"NC") -> NC
M11: =IF(ISNUMBER(MATCH(D11,Clubs,0)),MIN(M$6:M10)-1,"NC") -> NC
M12: =IF(ISNUMBER(MATCH(D12,Clubs,0)),MIN(M$6:M11)-1,"NC") -> NC
M13: =IF(ISNUMBER(MATCH(D13,Clubs,0)),MIN(M$6:M12)-1,"NC") -> NC
M14: =IF(ISNUMBER(MATCH(D14,Clubs,0)),MIN(M$6:M13)-1,"NC") -> NC
M15: =IF(ISNUMBER(MATCH(D15,Clubs,0)),MIN(M$6:M14)-1,"NC") -> NC
M16: =IF(ISNUMBER(MATCH(D16,Clubs,0)),MIN(M$6:M15)-1,"NC") -> NC
M17: =IF(ISNUMBER(MATCH(D17,Clubs,0)),MIN(M$6:M16)-1,"NC") -> NC
M18: =IF(ISNUMBER(MATCH(D18,Clubs,0)),MIN(M$6:M17)-1,"NC") -> NC
M19: =IF(ISNUMBER(MATCH(D19,Clubs,0)),MIN(M$6:M18)-1,"NC") -> NC
M20: =IF(ISNUMBER(MATCH(D20,Clubs,0)),MIN(M$6:M19)-1,"NC") -> NC
M21: =IF(ISNUMBER(MATCH(D21,Clubs,0)),MIN(M$6:M20)-1,"NC") -> NC
... M107: =IF(ISNUMBER(MATCH(D107,Clubs,0)),MIN(M$6:M106)-1,"NC") -> NC
C110: BLUE
C111: Name | D111: Club | E111: Class | M111: Galoppen Score
M112: 100
M113: =IF(ISNUMBER(MATCH(D113,Clubs,0)),MIN(M$112:M112)-1,"NC") -> NC
M114: =IF(ISNUMBER(MATCH(D114,Clubs,0)),MIN(M$112:M113)-1,"NC") -> NC
M115: =IF(ISNUMBER(MATCH(D115,Clubs,0)),MIN(M$112:M114)-1,"NC") -> NC
M116: =IF(ISNUMBER(MATCH(D116,Clubs,0)),MIN(M$112:M115)-1,"NC") -> NC
M117: =IF(ISNUMBER(MATCH(D117,Clubs,0)),MIN(M$112:M116)-1,"NC") -> NC
M118: =IF(ISNUMBER(MATCH(D118,Clubs,0)),MIN(M$112:M117)-1,"NC") -> NC
M119: =IF(ISNUMBER(MATCH(D119,Clubs,0)),MIN(M$112:M118)-1,"NC") -> NC
M120: =IF(ISNUMBER(MATCH(D120,Clubs,0)),MIN(M$112:M119)-1,"NC") -> NC
M121: =IF(ISNUMBER(MATCH(D121,Clubs,0)),MIN(M$112:M120)-1,"NC") -> NC
M122: =IF(ISNUMBER(MATCH(D122,Clubs,0)),MIN(M$112:M121)-1,"NC") -> NC
M123: =IF(ISNUMBER(MATCH(D123,Clubs,0)),MIN(M$112:M122)-1,"NC") -> NC
M124: =IF(ISNUMBER(MATCH(D124,Clubs,0)),MIN(M$112:M123)-1,"NC") -> NC
... M209: =IF(ISNUMBER(MATCH(D209,Clubs,0)),MIN(M$112:M208)-1,"NC") -> NC
C212: GREEN
C213: Name | D213: Club | E213: Class | M213: Galoppen Score
M214: 100
M215: =IF(ISNUMBER(MATCH(D215,Clubs,0)),MIN(M214:M$214)-1,"NC") -> NC
...

Sheet 9
B2: Results for
C4: BROWN
C5: Name | D5: Club | E5: Class | N5: Galoppen Score | S5: BL | T5: =COUNTIF(C:D,S5) -> 0
N6: 100 | S6: LOC | T6: =COUNTIF(C:D,S6) -> 0
N7: =IF(ISNUMBER(MATCH(D7,Clubs,0)),MIN(N$6:N6)-1,"NC") -> NC | S7: SROC | T7: =COUNTIF(C:D,S7) -> 0
N8: =IF(ISNUMBER(MATCH(D8,Clubs,0)),MIN(N$6:N7)-1,"NC") -> NC | S8: WAROC | T8: =COUNTIF(C:D,S8) -> 0
N9: =IF(ISNUMBER(MATCH(D9,Clubs,0)),MIN(N$6:N8)-1,"NC") -> NC | S9: WCOC | T9: =COUNTIF(C:D,S9) -> 0
N10: =IF(ISNUMBER(MATCH(D10,Clubs,0)),MIN(N$6:N9)-1,"NC") -> NC
N11: =IF(ISNUMBER(MATCH(D11,Clubs,0)),MIN(N$6:N10)-1,"NC") -> NC
N12: =IF(ISNUMBER(MATCH(D12,Clubs,0)),MIN(N$6:N11)-1,"NC") -> NC
N13: =IF(ISNUMBER(MATCH(D13,Clubs,0)),MIN(N$6:N12)-1,"NC") -> NC
N14: =IF(ISNUMBER(MATCH(D14,Clubs,0)),MIN(N$6:N13)-1,"NC") -> NC
N15: =IF(ISNUMBER(MATCH(D15,Clubs,0)),MIN(N$6:N14)-1,"NC") -> NC
N16: =IF(ISNUMBER(MATCH(D16,Clubs,0)),MIN(N$6:N15)-1,"NC") -> NC
N17: =IF(ISNUMBER(MATCH(D17,Clubs,0)),MIN(N$6:N16)-1,"NC") -> NC
N18: =IF(ISNUMBER(MATCH(D18,Clubs,0)),MIN(N$6:N17)-1,"NC") -> NC
N19: =IF(ISNUMBER(MATCH(D19,Clubs,0)),MIN(N$6:N18)-1,"NC") -> NC
N20: =IF(ISNUMBER(MATCH(D20,Clubs,0)),MIN(N$6:N19)-1,"NC") -> NC
N21: =IF(ISNUMBER(MATCH(D21,Clubs,0)),MIN(N$6:N20)-1,"NC") -> NC
... N107: =IF(ISNUMBER(MATCH(D107,Clubs,0)),MIN(N$6:N106)-1,"NC") -> NC
C110: BLUE
C111: Name | D111: Club | E111: Class | N111: Galoppen Score
N112: 100
N113: =IF(ISNUMBER(MATCH(D113,Clubs,0)),MIN(N$112:N112)-1,"NC") -> NC
N114: =IF(ISNUMBER(MATCH(D114,Clubs,0)),MIN(N$112:N113)-1,"NC") -> NC
N115: =IF(ISNUMBER(MATCH(D115,Clubs,0)),MIN(N$112:N114)-1,"NC") -> NC
N116: =IF(ISNUMBER(MATCH(D116,Clubs,0)),MIN(N$112:N115)-1,"NC") -> NC
N117: =IF(ISNUMBER(MATCH(D117,Clubs,0)),MIN(N$112:N116)-1,"NC") -> NC
N118: =IF(ISNUMBER(MATCH(D118,Clubs,0)),MIN(N$112:N117)-1,"NC") -> NC
N119: =IF(ISNUMBER(MATCH(D119,Clubs,0)),MIN(N$112:N118)-1,"NC") -> NC
N120: =IF(ISNUMBER(MATCH(D120,Clubs,0)),MIN(N$112:N119)-1,"NC") -> NC
N121: =IF(ISNUMBER(MATCH(D121,Clubs,0)),MIN(N$112:N120)-1,"NC") -> NC
N122: =IF(ISNUMBER(MATCH(D122,Clubs,0)),MIN(N$112:N121)-1,"NC") -> NC
N123: =IF(ISNUMBER(MATCH(D123,Clubs,0)),MIN(N$112:N122)-1,"NC") -> NC
N124: =IF(ISNUMBER(MATCH(D124,Clubs,0)),MIN(N$112:N123)-1,"NC") -> NC
... N209: =IF(ISNUMBER(MATCH(D209,Clubs,0)),MIN(N$112:N208)-1,"NC") -> NC
C212: GREEN
C213: Name | D213: Club | E213: Class | N213: Galoppen Score
N214: 100
N215: =IF(ISNUMBER(MATCH(D215,Clubs,0)),MIN(N214:N$214)-1,"NC") -> NC
...

Sheet 10
B2: Results for
C4: BROWN
C5: Name | D5: Club | E5: Class | O5: Galoppen Score | T5: BL | U5: =COUNTIF(C:D,T5) -> 0
O6: 100 | T6: LOC | U6: =COUNTIF(C:D,T6) -> 0
O7: =IF(ISNUMBER(MATCH(D7,Clubs,0)),MIN(O$6:O6)-1,"NC") -> NC | T7: SROC | U7: =COUNTIF(C:D,T7) -> 0
O8: =IF(ISNUMBER(MATCH(D8,Clubs,0)),MIN(O$6:O7)-1,"NC") -> NC | T8: WAROC | U8: =COUNTIF(C:D,T8) -> 0
O9: =IF(ISNUMBER(MATCH(D9,Clubs,0)),MIN(O$6:O8)-1,"NC") -> NC | T9: WCOC | U9: =COUNTIF(C:D,T9) -> 0
O10: =IF(ISNUMBER(MATCH(D10,Clubs,0)),MIN(O$6:O9)-1,"NC") -> NC
O11: =IF(ISNUMBER(MATCH(D11,Clubs,0)),MIN(O$6:O10)-1,"NC") -> NC
O12: =IF(ISNUMBER(MATCH(D12,Clubs,0)),MIN(O$6:O11)-1,"NC") -> NC
O13: =IF(ISNUMBER(MATCH(D13,Clubs,0)),MIN(O$6:O12)-1,"NC") -> NC
O14: =IF(ISNUMBER(MATCH(D14,Clubs,0)),MIN(O$6:O13)-1,"NC") -> NC
O15: =IF(ISNUMBER(MATCH(D15,Clubs,0)),MIN(O$6:O14)-1,"NC") -> NC
O16: =IF(ISNUMBER(MATCH(D16,Clubs,0)),MIN(O$6:O15)-1,"NC") -> NC
O17: =IF(ISNUMBER(MATCH(D17,Clubs,0)),MIN(O$6:O16)-1,"NC") -> NC
O18: =IF(ISNUMBER(MATCH(D18,Clubs,0)),MIN(O$6:O17)-1,"NC") -> NC
O19: =IF(ISNUMBER(MATCH(D19,Clubs,0)),MIN(O$6:O18)-1,"NC") -> NC
O20: =IF(ISNUMBER(MATCH(D20,Clubs,0)),MIN(O$6:O19)-1,"NC") -> NC
O21: =IF(ISNUMBER(MATCH(D21,Clubs,0)),MIN(O$6:O20)-1,"NC") -> NC
... O107: =IF(ISNUMBER(MATCH(D107,Clubs,0)),MIN(O$6:O106)-1,"NC") -> NC
C110: BLUE
C111: Name | D111: Club | E111: Class | O111: Galoppen Score
O112: 100
O113: =IF(ISNUMBER(MATCH(D113,Clubs,0)),MIN(O$112:O112)-1,"NC") -> NC
O114: =IF(ISNUMBER(MATCH(D114,Clubs,0)),MIN(O$112:O113)-1,"NC") -> NC
O115: =IF(ISNUMBER(MATCH(D115,Clubs,0)),MIN(O$112:O114)-1,"NC") -> NC
O116: =IF(ISNUMBER(MATCH(D116,Clubs,0)),MIN(O$112:O115)-1,"NC") -> NC
O117: =IF(ISNUMBER(MATCH(D117,Clubs,0)),MIN(O$112:O116)-1,"NC") -> NC
O118: =IF(ISNUMBER(MATCH(D118,Clubs,0)),MIN(O$112:O117)-1,"NC") -> NC
O119: =IF(ISNUMBER(MATCH(D119,Clubs,0)),MIN(O$112:O118)-1,"NC") -> NC
O120: =IF(ISNUMBER(MATCH(D120,Clubs,0)),MIN(O$112:O119)-1,"NC") -> NC
O121: =IF(ISNUMBER(MATCH(D121,Clubs,0)),MIN(O$112:O120)-1,"NC") -> NC
O122: =IF(ISNUMBER(MATCH(D122,Clubs,0)),MIN(O$112:O121)-1,"NC") -> NC
O123: =IF(ISNUMBER(MATCH(D123,Clubs,0)),MIN(O$112:O122)-1,"NC") -> NC
O124: =IF(ISNUMBER(MATCH(D124,Clubs,0)),MIN(O$112:O123)-1,"NC") -> NC
... O209: =IF(ISNUMBER(MATCH(D209,Clubs,0)),MIN(O$112:O208)-1,"NC") -> NC
C212: GREEN
C213: Name | D213: Club | E213: Class | O213: Galoppen Score
O214: 100
O215: =IF(ISNUMBER(MATCH(D215,Clubs,0)),MIN(O214:O$214)-1,"NC") -> NC
...

Sheet Yellow
B1: Yellow
B2: Name | C2: Club | D2: Age Class | E2: Hawse End WCOC | F2: Silver How LOC | G2: Bea Tarn WCOC | H2: Bampton Common BL | I2: Troutal Fell LOC | O2: Galoppen Score | P2: Number of Counting Scores | Q2: Average of Counting Scores
B3: Sophie Arnold | C3: BL | D3: W10 | H3: 95 | O3: =IFERROR(LARGE($E3:$N3,1),0)+IFERROR(LARGE($E3:$N3,2),0)+IFERROR(LARGE($E3:$N3,3),0)+IFERROR(LARGE($E3:$N3,4),0)+IFERROR(LARGE($E3:$N3,5),0) -> 95 | P3: =IF(COUNT(E3:N3)>5,5,COUNT(E3:N3)) -> 1 | Q3: =O3/P3 -> 95
B4: Harriet Rooke | C4: LOC | D4: W10 | E4: 99 | F4: 98 | G4: 99 | H4: 99 | O4: =IFERROR(LARGE($E4:$N4,1),0)+IFERROR(LARGE($E4:$N4,2),0)+IFERROR(LARGE($E4:$N4,3),0)+IFERROR(LARGE($E4:$N4,4),0)+IFERROR(LARGE($E4:$N4,5),0) -> 395 | P4: =IF(COUNT(E4:N4)>5,5,COUNT(E4:N4)) -> 4 | Q4: =O4/P4 -> 98.75
B5: Cecily Rooke | C5: LOC | D5: W10 | E5: 98 | F5: 99 | G5: 98 | H5: 98 | O5: =IFERROR(LARGE($E5:$N5,1),0)+IFERROR(LARGE($E5:$N5,2),0)+IFERROR(LARGE($E5:$N5,3),0)+IFERROR(LARGE($E5:$N5,4),0)+IFERROR(LARGE($E5:$N5,5),0) -> 393 | P5: =IF(COUNT(E5:N5)>5,5,COUNT(E5:N5)) -> 4 | Q5: =O5/P5 -> 98.25
B6: Kit Wilson | C6: LOC | D6: M10 | H6: 96 | I6: 98 | O6: =IFERROR(LARGE($E6:$N6,1),0)+IFERROR(LARGE($E6:$N6,2),0)+IFERROR(LARGE($E6:$N6,3),0)+IFERROR(LARGE($E6:$N6,4),0)+IFERROR(LARGE($E6:$N6,5),0) -> 194 | P6: =IF(COUNT(E6:N6)>5,5,COUNT(E6:N6)) -> 2 | Q6: =O6/P6 -> 97
B7: Finn Wilson | C7: LOC | D7: M16 | I7: 99 | O7: =IFERROR(LARGE($E7:$N7,1),0)+IFERROR(LARGE($E7:$N7,2),0)+IFERROR(LARGE($E7:$N7,3),0)+IFERROR(LARGE($E7:$N7,4),0)+IFERROR(LARGE($E7:$N7,5),0) -> 99 | P7: =IF(COUNT(E7:N7)>5,5,COUNT(E7:N7)) -> 1 | Q7: =O7/P7 -> 99
B8: Aila Browne | C8: LOC | D8: W10 | F8: 96 | O8: =IFERROR(LARGE($E8:$N8,1),0)+IFERROR(LARGE($E8:$N8,2),0)+IFERROR(LARGE($E8:$N8,3),0)+IFERROR(LARGE($E8:$N8,4),0)+IFERROR(LARGE($E8:$N8,5),0) -> 96 | P8: =IF(COUNT(E8:N8)>5,5,COUNT(E8:N8)) -> 1 | Q8: =O8/P8 -> 96
B9: Jack Browne | C9: LOC | D9: M10 | F9: 95 | O9: =IFERROR(LARGE($E9:$N9,1),0)+IFERROR(LARGE($E9:$N9,2),0)+IFERROR(LARGE($E9:$N9,3),0)+IFERROR(LARGE($E9:$N9,4),0)+IFERROR(LARGE($E9:$N9,5),0) -> 95 | P9: =IF(COUNT(E9:N9)>5,5,COUNT(E9:N9)) -> 1 | Q9: =O9/P9 -> 95
B10: Marcus Heaton | C10: LOC | D10: M10 | H10: 92 | O10: =IFERROR(LARGE($E10:$N10,1),0)+IFERROR(LARGE($E10:$N10,2),0)+IFERROR(LARGE($E10:$N10,3),0)+IFERROR(LARGE($E10:$N10,4),0)+IFERROR(LARGE($E10:$N10,5),0) -> 92 | P10: =IF(COUNT(E10:N10)>5,5,COUNT(E10:N10)) -> 1 | Q10: =O10/P10 -> 92
B11: Ivy Graham | C11: LOC | D11: W10 | H11: 91 | O11: =IFERROR(LARGE($E11:$N11,1),0)+IFERROR(LARGE($E11:$N11,2),0)+IFERROR(LARGE($E11:$N11,3),0)+IFERROR(LARGE($E11:$N11,4),0)+IFERROR(LARGE($E11:$N11,5),0) -> 91 | P11: =IF(COUNT(E11:N11)>5,5,COUNT(E11:N11)) -> 1 | Q11: =O11/P11 -> 91
B12: Murray Page | C12: SROC | D12: M14 | F12: 97 | O12: =IFERROR(LARGE($E12:$N12,1),0)+IFERROR(LARGE($E12:$N12,2),0)+IFERROR(LARGE($E12:$N12,3),0)+IFERROR(LARGE($E12:$N12,4),0)+IFERROR(LARGE($E12:$N12,5),0) -> 97 | P12: =IF(COUNT(E12:N12)>5,5,COUNT(E12:N12)) -> 1 | Q12: =O12/P12 -> 97
B13: Daniel Hendry | C13: SROC | D13: M12 | E13: 95 | O13: =IFERROR(LARGE($E13:$N13,1),0)+IFERROR(LARGE($E13:$N13,2),0)+IFERROR(LARGE($E13:$N13,3),0)+IFERROR(LARGE($E13:$N13,4),0)+IFERROR(LARGE($E13:$N13,5),0) -> 95 | P13: =IF(COUNT(E13:N13)>5,5,COUNT(E13:N13)) -> 1 | Q13: =O13/P13 -> 95
B14: Rowen Stephens | C14: WCOC | D14: W10 | E14: 94 | G14: 97 | H14: 94 | O14: =IFERROR(LARGE($E14:$N14,1),0)+IFERROR(LARGE($E14:$N14,2),0)+IFERROR(LARGE($E14:$N14,3),0)+IFERROR(LARGE($E14:$N14,4),0)+IFERROR(LARGE($E14:$N14,5),0) -> 285 | P14: =IF(COUNT(E14:N14)>5,5,COUNT(E14:N14)) -> 3 | Q14: =O14/P14 -> 95
B15: Jessica Stephens | C15: WCOC | D15: W10 | G15: 96 | H15: 93 | O15: =IFERROR(LARGE($E15:$N15,1),0)+IFERROR(LARGE($E15:$N15,2),0)+IFERROR(LARGE($E15:$N15,3),0)+IFERROR(LARGE($E15:$N15,4),0)+IFERROR(LARGE($E15:$N15,5),0) -> 189 | P15: =IF(COUNT(E15:N15)>5,5,COUNT(E15:N15)) -> 2 | Q15: =O15/P15 -> 94.5
B16: Cerys Naylor | C16: WCOC | D16: W12 | E16: 97 | O16: =IFERROR(LARGE($E16:$N16,1),0)+IFERROR(LARGE($E16:$N16,2),0)+IFERROR(LARGE($E16:$N16,3),0)+IFERROR(LARGE($E16:$N16,4),0)+IFERROR(LARGE($E16:$N16,5),0) -> 97 | P16: =IF(COUNT(E16:N16)>5,5,COUNT(E16:N16)) -> 1 | Q16: =O16/P16 -> 97
B17: Sophia Rennie | C17: WCOC | D17: W14 | H17: 97 | O17: =IFERROR(LARGE($E17:$N17,1),0)+IFERROR(LARGE($E17:$N17,2),0)+IFERROR(LARGE($E17:$N17,3),0)+IFERROR(LARGE($E17:$N17,4),0)+IFERROR(LARGE($E17:$N17,5),0) -> 97 | P17: =IF(COUNT(E17:N17)>5,5,COUNT(E17:N17)) -> 1 | Q17: =O17/P17 -> 97
B18: Owen Naylor | C18: WCOC | D18: M10 | E18: 96 | O18: =IFERROR(LARGE($E18:$N18,1),0)+IFERROR(LARGE($E18:$N18,2),0)+IFERROR(LARGE($E18:$N18,3),0)+IFERROR(LARGE($E18:$N18,4),0)+IFERROR(LARGE($E18:$N18,5),0) -> 96 | P18: =IF(COUNT(E18:N18)>5,5,COUNT(E18:N18)) -> 1 | Q18: =O18/P18 -> 96
B19: Charlotte Henderson | C19: WCOC | D19: W12 | E19: 93 | O19: =IFERROR(LARGE($E19:$N19,1),0)+IFERROR(LARGE($E19:$N19,2),0)+IFERROR(LARGE($E19:$N19,3),0)+IFERROR(LARGE($E19:$N19,4),0)+IFERROR(LARGE($E19:$N19,5),0) -> 93 | P19: =IF(COUNT(E19:N19)>5,5,COUNT(E19:N19)) -> 1 | Q19: =O19/P19 -> 93

Sheet Orange
B1: Orange
B2: Name | C2: Club | D2: Age Class | E2: =Yellow!E2 -> Hawse End WCOC | F2: =Yellow!F2 -> Silver How LOC | G2: =Yellow!G2 -> Bea Tarn WCOC | H2: =Yellow!H2 -> Bampton Common BL | I2: =Yellow!I2 -> Troutal Fell LOC | J2: =Yellow!J2 -> 0 | K2: =Yellow!K2 -> 0 | L2: =Yellow!L2 -> 0 | ... N2: =Yellow!N2 -> 0 | O2: Galoppen Score | P2: Number of Counting Scores | Q2: Average of Counting Scores
B3: Thomas Hartley | C3: BL | D3: M14 | E3: 98 | G3: 98 | H3: 99 | O3: =IFERROR(LARGE($E3:$N3,1),0)+IFERROR(LARGE($E3:$N3,2),0)+IFERROR(LARGE($E3:$N3,3),0)+IFERROR(LARGE($E3:$N3,4),0)+IFERROR(LARGE($E3:$N3,5),0) -> 295 | P3: =IF(COUNT(E3:N3)>5,5,COUNT(E3:N3)) -> 3 | Q3: =O3/P3 -> 98.333333
B4: Elizabeth Ann Losh Hore | C4: BL | D4: W40 | H4: 96 | O4: =IFERROR(LARGE($E4:$N4,1),0)+IFERROR(LARGE($E4:$N4,2),0)+IFERROR(LARGE($E4:$N4,3),0)+IFERROR(LARGE($E4:$N4,4),0)+IFERROR(LARGE($E4:$N4,5),0) -> 96 | P4: =IF(COUNT(E4:N4)>5,5,COUNT(E4:N4)) -> 1 | Q4: =O4/P4 -> 96
B5: Charlie Hird | C5: BL | D5: M65 | F5: 95 | O5: =IFERROR(LARGE($E5:$N5,1),0)+IFERROR(LARGE($E5:$N5,2),0)+IFERROR(LARGE($E5:$N5,3),0)+IFERROR(LARGE($E5:$N5,4),0)+IFERROR(LARGE($E5:$N5,5),0) -> 95 | P5: =IF(COUNT(E5:N5)>5,5,COUNT(E5:N5)) -> 1 | Q5: =O5/P5 -> 95
B6: Kathryn Pinder | C6: BL | D6: W60 | H6: 95 | O6: =IFERROR(LARGE($E6:$N6,1),0)+IFERROR(LARGE($E6:$N6,2),0)+IFERROR(LARGE($E6:$N6,3),0)+IFERROR(LARGE($E6:$N6,4),0)+IFERROR(LARGE($E6:$N6,5),0) -> 95 | P6: =IF(COUNT(E6:N6)>5,5,COUNT(E6:N6)) -> 1 | Q6: =O6/P6 -> 95
B7: Martin Keegan | C7: BL | D7: M65 | E7: 94 | O7: =IFERROR(LARGE($E7:$N7,1),0)+IFERROR(LARGE($E7:$N7,2),0)+IFERROR(LARGE($E7:$N7,3),0)+IFERROR(LARGE($E7:$N7,4),0)+IFERROR(LARGE($E7:$N7,5),0) -> 94 | P7: =IF(COUNT(E7:N7)>5,5,COUNT(E7:N7)) -> 1 | Q7: =O7/P7 -> 94
B8: Angela Whitworth | C8: BL | D8: W80 | H8: 94 | O8: =IFERROR(LARGE($E8:$N8,1),0)+IFERROR(LARGE($E8:$N8,2),0)+IFERROR(LARGE($E8:$N8,3),0)+IFERROR(LARGE($E8:$N8,4),0)+IFERROR(LARGE($E8:$N8,5),0) -> 94 | P8: =IF(COUNT(E8:N8)>5,5,COUNT(E8:N8)) -> 1 | Q8: =O8/P8 -> 94
B9: Matthew Hartley | C9: BL | D9: M12 | E9: 92 | O9: =IFERROR(LARGE($E9:$N9,1),0)+IFERROR(LARGE($E9:$N9,2),0)+IFERROR(LARGE($E9:$N9,3),0)+IFERROR(LARGE($E9:$N9,4),0)+IFERROR(LARGE($E9:$N9,5),0) -> 92 | P9: =IF(COUNT(E9:N9)>5,5,COUNT(E9:N9)) -> 1 | Q9: =O9/P9 -> 92
B10: Jess Hinkins | C10: LOC | D10: W14 | E10: 97 | H10: 97 | I10: 98 | O10: =IFERROR(LARGE($E10:$N10,1),0)+IFERROR(LARGE($E10:$N10,2),0)+IFERROR(LARGE($E10:$N10,3),0)+IFERROR(LARGE($E10:$N10,4),0)+IFERROR(LARGE($E10:$N10,5),0) -> 292 | P10: =IF(COUNT(E10:N10)>5,5,COUNT(E10:N10)) -> 3 | Q10: =O10/P10 -> 97.333333
B11: Alex Hinkins | C11: LOC | D11: M12 | E11: 95 | G11: 99 | I11: 97 | O11: =IFERROR(LARGE($E11:$N11,1),0)+IFERROR(LARGE($E11:$N11,2),0)+IFERROR(LARGE($E11:$N11,3),0)+IFERROR(LARGE($E11:$N11,4),0)+IFERROR(LARGE($E11:$N11,5),0) -> 291 | P11: =IF(COUNT(E11:N11)>5,5,COUNT(E11:N11)) -> 3 | Q11: =O11/P11 -> 97
B12: Sarah Hodgson-Jones | C12: LOC | D12: W50 | E12: 93 | G12: 97 | O12: =IFERROR(LARGE($E12:$N12,1),0)+IFERROR(LARGE($E12:$N12,2),0)+IFERROR(LARGE($E12:$N12,3),0)+IFERROR(LARGE($E12:$N12,4),0)+IFERROR(LARGE($E12:$N12,5),0) -> 190 | P12: =IF(COUNT(E12:N12)>5,5,COUNT(E12:N12)) -> 2 | Q12: =O12/P12 -> 95
B13: Harry Atkinson | C13: LOC | D13: M12 | F13: 99 | O13: =IFERROR(LARGE($E13:$N13,1),0)+IFERROR(LARGE($E13:$N13,2),0)+IFERROR(LARGE($E13:$N13,3),0)+IFERROR(LARGE($E13:$N13,4),0)+IFERROR(LARGE($E13:$N13,5),0) -> 99 | P13: =IF(COUNT(E13:N13)>5,5,COUNT(E13:N13)) -> 1 | Q13: =O13/P13 -> 99
B14: Harriet Rooke | C14: LOC | D14: W10 | I14: 99 | O14: =IFERROR(LARGE($E14:$N14,1),0)+IFERROR(LARGE($E14:$N14,2),0)+IFERROR(LARGE($E14:$N14,3),0)+IFERROR(LARGE($E14:$N14,4),0)+IFERROR(LARGE($E14:$N14,5),0) -> 99 | P14: =IF(COUNT(E14:N14)>5,5,COUNT(E14:N14)) -> 1 | Q14: =O14/P14 -> 99
B15: Maya Nield | C15: LOC | D15: W14 | F15: 96 | O15: =IFERROR(LARGE($E15:$N15,1),0)+IFERROR(LARGE($E15:$N15,2),0)+IFERROR(LARGE($E15:$N15,3),0)+IFERROR(LARGE($E15:$N15,4),0)+IFERROR(LARGE($E15:$N15,5),0) -> 96 | P15: =IF(COUNT(E15:N15)>5,5,COUNT(E15:N15)) -> 1 | Q15: =O15/P15 -> 96
B16: Sally Buckley | C16: LOC | D16: W75 | G16: 95 | O16: =IFERROR(LARGE($E16:$N16,1),0)+IFERROR(LARGE($E16:$N16,2),0)+IFERROR(LARGE($E16:$N16,3),0)+IFERROR(LARGE($E16:$N16,4),0)+IFERROR(LARGE($E16:$N16,5),0) -> 95 | P16: =IF(COUNT(E16:N16)>5,5,COUNT(E16:N16)) -> 1 | Q16: =O16/P16 -> 95
B17: Noah Hendry | C17: SROC | D17: M12 | E17: 96 | F17: 98 | H17: 98 | O17: =IFERROR(LARGE($E17:$N17,1),0)+IFERROR(LARGE($E17:$N17,2),0)+IFERROR(LARGE($E17:$N17,3),0)+IFERROR(LARGE($E17:$N17,4),0)+IFERROR(LARGE($E17:$N17,5),0) -> 292 | P17: =IF(COUNT(E17:N17)>5,5,COUNT(E17:N17)) -> 3 | Q17: =O17/P17 -> 97.333333
B18: Nicky Graves | C18: SROC | D18: W60 | F18: 97 | O18: =IFERROR(LARGE($E18:$N18,1),0)+IFERROR(LARGE($E18:$N18,2),0)+IFERROR(LARGE($E18:$N18,3),0)+IFERROR(LARGE($E18:$N18,4),0)+IFERROR(LARGE($E18:$N18,5),0) -> 97 | P18: =IF(COUNT(E18:N18)>5,5,COUNT(E18:N18)) -> 1 | Q18: =O18/P18 -> 97
B19: Jane Hunter | C19: WCOC | D19: W55 | E19: 91 | G19: 96 | O19: =IFERROR(LARGE($E19:$N19,1),0)+IFERROR(LARGE($E19:$N19,2),0)+IFERROR(LARGE($E19:$N19,3),0)+IFERROR(LARGE($E19:$N19,4),0)+IFERROR(LARGE($E19:$N19,5),0) -> 187 | P19: =IF(COUNT(E19:N19)>5,5,COUNT(E19:N19)) -> 2 | Q19: =O19/P19 -> 93.5
B20: James Henderson | C20: WCOC | D20: M14 | E20: 99 | O20: =IFERROR(LARGE($E20:$N20,1),0)+IFERROR(LARGE($E20:$N20,2),0)+IFERROR(LARGE($E20:$N20,3),0)+IFERROR(LARGE($E20:$N20,4),0)+IFERROR(LARGE($E20:$N20,5),0) -> 99 | P20: =IF(COUNT(E20:N20)>5,5,COUNT(E20:N20)) -> 1 | Q20: =O20/P20 -> 99

Sheet L Green
B1: Light Green | E1: =Yellow!E2 -> Hawse End WCOC | F1: =Yellow!F2 -> Silver How LOC | G1: =Yellow!G2 -> Bea Tarn WCOC | H1: =Yellow!H2 -> Bampton Common BL | I1: =Yellow!I2 -> Troutal Fell LOC | J1: =Yellow!J2 -> 0 | K1: =Yellow!K2 -> 0 | L1: =Yellow!L2 -> 0 | ... N1: =Yellow!N2 -> 0 | O1: Galoppen Score | P1: Number of Counting Scores | Q1: Average of Counting Scores
B2: Name | C2: Club | D2: Age Class | O2: Galoppen Score
B3: Freya Hodgson-Jones | C3: LOC | D3: W14 | E3: 99 | G3: 99 | O3: =IFERROR(LARGE($E3:$N3,1),0)+IFERROR(LARGE($E3:$N3,2),0)+IFERROR(LARGE($E3:$N3,3),0)+IFERROR(LARGE($E3:$N3,4),0)+IFERROR(LARGE($E3:$N3,5),0) -> 198 | P3: =IF(COUNT(E3:N3)>5,5,COUNT(E3:N3)) -> 2 | Q3: =O3/P3 -> 99
B4: Jessica Atkinson | C4: LOC | D4: W14 | F4: 99 | O4: =IFERROR(LARGE($E4:$N4,1),0)+IFERROR(LARGE($E4:$N4,2),0)+IFERROR(LARGE($E4:$N4,3),0)+IFERROR(LARGE($E4:$N4,4),0)+IFERROR(LARGE($E4:$N4,5),0) -> 99 | P4: =IF(COUNT(E4:N4)>5,5,COUNT(E4:N4)) -> 1 | Q4: =O4/P4 -> 99
B5: Finn Wilson | C5: LOC | D5: M16 | H5: 97 | O5: =IFERROR(LARGE($E5:$N5,1),0)+IFERROR(LARGE($E5:$N5,2),0)+IFERROR(LARGE($E5:$N5,3),0)+IFERROR(LARGE($E5:$N5,4),0)+IFERROR(LARGE($E5:$N5,5),0) -> 97 | P5: =IF(COUNT(E5:N5)>5,5,COUNT(E5:N5)) -> 1 | Q5: =O5/P5 -> 97
B6: Kit (Mary) Saunders | C6: LOC | D6: W45 | F6: 96 | O6: =IFERROR(LARGE($E6:$N6,1),0)+IFERROR(LARGE($E6:$N6,2),0)+IFERROR(LARGE($E6:$N6,3),0)+IFERROR(LARGE($E6:$N6,4),0)+IFERROR(LARGE($E6:$N6,5),0) -> 96 | P6: =IF(COUNT(E6:N6)>5,5,COUNT(E6:N6)) -> 1 | Q6: =O6/P6 -> 96
B7: Rosie Law | C7: LOC | D7: W70 | H7: 96 | O7: =IFERROR(LARGE($E7:$N7,1),0)+IFERROR(LARGE($E7:$N7,2),0)+IFERROR(LARGE($E7:$N7,3),0)+IFERROR(LARGE($E7:$N7,4),0)+IFERROR(LARGE($E7:$N7,5),0) -> 96 | P7: =IF(COUNT(E7:N7)>5,5,COUNT(E7:N7)) -> 1 | Q7: =O7/P7 -> 96
B8: Murray Page | C8: SROC | D8: M14 | I8: 98 | O8: =IFERROR(LARGE($E8:$N8,1),0)+IFERROR(LARGE($E8:$N8,2),0)+IFERROR(LARGE($E8:$N8,3),0)+IFERROR(LARGE($E8:$N8,4),0)+IFERROR(LARGE($E8:$N8,5),0) -> 98 | P8: =IF(COUNT(E8:N8)>5,5,COUNT(E8:N8)) -> 1 | Q8: =O8/P8 -> 98
B9: Emma Hayden | C9: SROC | D9: W50 | G9: 95 | O9: =IFERROR(LARGE($E9:$N9,1),0)+IFERROR(LARGE($E9:$N9,2),0)+IFERROR(LARGE($E9:$N9,3),0)+IFERROR(LARGE($E9:$N9,4),0)+IFERROR(LARGE($E9:$N9,5),0) -> 95 | P9: =IF(COUNT(E9:N9)>5,5,COUNT(E9:N9)) -> 1 | Q9: =O9/P9 -> 95
B10: Lynne Hume | C10: WCOC | D10: W45 | F10: 98 | G10: 96 | H10: 99 | I10: 99 | O10: =IFERROR(LARGE($E10:$N10,1),0)+IFERROR(LARGE($E10:$N10,2),0)+IFERROR(LARGE($E10:$N10,3),0)+IFERROR(LARGE($E10:$N10,4),0)+IFERROR(LARGE($E10:$N10,5),0) -> 392 | P10: =IF(COUNT(E10:N10)>5,5,COUNT(E10:N10)) -> 4 | Q10: =O10/P10 -> 98
B11: Flora Ballester | C11: WCOC | D11: W40 | F11: 97 | G11: 98 | H11: 98 | O11: =IFERROR(LARGE($E11:$N11,1),0)+IFERROR(LARGE($E11:$N11,2),0)+IFERROR(LARGE($E11:$N11,3),0)+IFERROR(LARGE($E11:$N11,4),0)+IFERROR(LARGE($E11:$N11,5),0) -> 293 | P11: =IF(COUNT(E11:N11)>5,5,COUNT(E11:N11)) -> 3 | Q11: =O11/P11 -> 97.666667
B12: Clare Crout | C12: WCOC | D12: W60 | E12: 98 | F12: 95 | G12: 93 | O12: =IFERROR(LARGE($E12:$N12,1),0)+IFERROR(LARGE($E12:$N12,2),0)+IFERROR(LARGE($E12:$N12,3),0)+IFERROR(LARGE($E12:$N12,4),0)+IFERROR(LARGE($E12:$N12,5),0) -> 286 | P12: =IF(COUNT(E12:N12)>5,5,COUNT(E12:N12)) -> 3 | Q12: =O12/P12 -> 95.333333
B13: Ray Johnstone | C13: WCOC | D13: M75 | G13: 97 | O13: =IFERROR(LARGE($E13:$N13,1),0)+IFERROR(LARGE($E13:$N13,2),0)+IFERROR(LARGE($E13:$N13,3),0)+IFERROR(LARGE($E13:$N13,4),0)+IFERROR(LARGE($E13:$N13,5),0) -> 97 | P13: =IF(COUNT(E13:N13)>5,5,COUNT(E13:N13)) -> 1 | Q13: =O13/P13 -> 97
B14: Jane Hunter | C14: WCOC | D14: W55 | H14: 95 | O14: =IFERROR(LARGE($E14:$N14,1),0)+IFERROR(LARGE($E14:$N14,2),0)+IFERROR(LARGE($E14:$N14,3),0)+IFERROR(LARGE($E14:$N14,4),0)+IFERROR(LARGE($E14:$N14,5),0) -> 95 | P14: =IF(COUNT(E14:N14)>5,5,COUNT(E14:N14)) -> 1 | Q14: =O14/P14 -> 95
B15: Stacy Ness | C15: WCOC | D15: W21 | F15: 94 | O15: =IFERROR(LARGE($E15:$N15,1),0)+IFERROR(LARGE($E15:$N15,2),0)+IFERROR(LARGE($E15:$N15,3),0)+IFERROR(LARGE($E15:$N15,4),0)+IFERROR(LARGE($E15:$N15,5),0) -> 94 | P15: =IF(COUNT(E15:N15)>5,5,COUNT(E15:N15)) -> 1 | Q15: =O15/P15 -> 94
B16: James Henderson | C16: WCOC | D16: M14 | G16: 94 | O16: =IFERROR(LARGE($E16:$N16,1),0)+IFERROR(LARGE($E16:$N16,2),0)+IFERROR(LARGE($E16:$N16,3),0)+IFERROR(LARGE($E16:$N16,4),0)+IFERROR(LARGE($E16:$N16,5),0) -> 94 | P16: =IF(COUNT(E16:N16)>5,5,COUNT(E16:N16)) -> 1 | Q16: =O16/P16 -> 94

Sheet VSG
B1: Very Short Green | E1: =Yellow!E2 -> Hawse End WCOC | F1: =Yellow!F2 -> Silver How LOC | G1: =Yellow!G2 -> Bea Tarn WCOC | H1: =Yellow!H2 -> Bampton Common BL | I1: =Yellow!I2 -> Troutal Fell LOC | J1: =Yellow!J2 -> 0 | K1: =Yellow!K2 -> 0 | L1: =Yellow!L2 -> 0 | ... N1: =Yellow!N2 -> 0 | O1: Galoppen Score | P1: Number of Counting Scores | Q1: Average of Counting Scores
B2: Name | C2: Club | D2: Age Class | O2: Galoppen Score
B3: Andrew Bell | C3: BL | D3: M75 | H3: 99 | O3: =IFERROR(LARGE($E3:$N3,1),0)+IFERROR(LARGE($E3:$N3,2),0)+IFERROR(LARGE($E3:$N3,3),0)+IFERROR(LARGE($E3:$N3,4),0)+IFERROR(LARGE($E3:$N3,5),0) -> 99 | P3: =IF(COUNT(E3:N3)>5,5,COUNT(E3:N3)) -> 1 | Q3: =O3/P3 -> 99
B4: Ivor Norman | C4: BL | D4: M70 | H4: 98 | O4: =IFERROR(LARGE($E4:$N4,1),0)+IFERROR(LARGE($E4:$N4,2),0)+IFERROR(LARGE($E4:$N4,3),0)+IFERROR(LARGE($E4:$N4,4),0)+IFERROR(LARGE($E4:$N4,5),0) -> 98 | P4: =IF(COUNT(E4:N4)>5,5,COUNT(E4:N4)) -> 1 | Q4: =O4/P4 -> 98
B5: Nancy Powell Davies | C5: BL | D5: W75 | I5: 98 | O5: =IFERROR(LARGE($E5:$N5,1),0)+IFERROR(LARGE($E5:$N5,2),0)+IFERROR(LARGE($E5:$N5,3),0)+IFERROR(LARGE($E5:$N5,4),0)+IFERROR(LARGE($E5:$N5,5),0) -> 98 | P5: =IF(COUNT(E5:N5)>5,5,COUNT(E5:N5)) -> 1 | Q5: =O5/P5 -> 98
B6: Richard Moss | C6: BL | D6: M80 | H6: 97 | O6: =IFERROR(LARGE($E6:$N6,1),0)+IFERROR(LARGE($E6:$N6,2),0)+IFERROR(LARGE($E6:$N6,3),0)+IFERROR(LARGE($E6:$N6,4),0)+IFERROR(LARGE($E6:$N6,5),0) -> 97 | P6: =IF(COUNT(E6:N6)>5,5,COUNT(E6:N6)) -> 1 | Q6: =O6/P6 -> 97
B7: Amanda Ratcliffe | C7: LOC | D7: W65 | F7: 97 | G7: 99 | O7: =IFERROR(LARGE($E7:$N7,1),0)+IFERROR(LARGE($E7:$N7,2),0)+IFERROR(LARGE($E7:$N7,3),0)+IFERROR(LARGE($E7:$N7,4),0)+IFERROR(LARGE($E7:$N7,5),0) -> 196 | P7: =IF(COUNT(E7:N7)>5,5,COUNT(E7:N7)) -> 2 | Q7: =O7/P7 -> 98
B8: Matthew Rooke | C8: LOC | D8: M35 | F8: 99 | O8: =IFERROR(LARGE($E8:$N8,1),0)+IFERROR(LARGE($E8:$N8,2),0)+IFERROR(LARGE($E8:$N8,3),0)+IFERROR(LARGE($E8:$N8,4),0)+IFERROR(LARGE($E8:$N8,5),0) -> 99 | P8: =IF(COUNT(E8:N8)>5,5,COUNT(E8:N8)) -> 1 | Q8: =O8/P8 -> 99
B9: Ann Smith | C9: LOC | D9: W75 | E9: 98 | O9: =IFERROR(LARGE($E9:$N9,1),0)+IFERROR(LARGE($E9:$N9,2),0)+IFERROR(LARGE($E9:$N9,3),0)+IFERROR(LARGE($E9:$N9,4),0)+IFERROR(LARGE($E9:$N9,5),0) -> 98 | P9: =IF(COUNT(E9:N9)>5,5,COUNT(E9:N9)) -> 1 | Q9: =O9/P9 -> 98
B10: Carol McNeill | C10: LOC | D10: W80 | F10: 98 | O10: =IFERROR(LARGE($E10:$N10,1),0)+IFERROR(LARGE($E10:$N10,2),0)+IFERROR(LARGE($E10:$N10,3),0)+IFERROR(LARGE($E10:$N10,4),0)+IFERROR(LARGE($E10:$N10,5),0) -> 98 | P10: =IF(COUNT(E10:N10)>5,5,COUNT(E10:N10)) -> 1 | Q10: =O10/P10 -> 98
B11: Mike Atherton | C11: LOC | D11: M80 | G11: 98 | O11: =IFERROR(LARGE($E11:$N11,1),0)+IFERROR(LARGE($E11:$N11,2),0)+IFERROR(LARGE($E11:$N11,3),0)+IFERROR(LARGE($E11:$N11,4),0)+IFERROR(LARGE($E11:$N11,5),0) -> 98 | P11: =IF(COUNT(E11:N11)>5,5,COUNT(E11:N11)) -> 1 | Q11: =O11/P11 -> 98
B12: Jo Taylor | C12: SROC | D12: W60 | I12: 99 | O12: =IFERROR(LARGE($E12:$N12,1),0)+IFERROR(LARGE($E12:$N12,2),0)+IFERROR(LARGE($E12:$N12,3),0)+IFERROR(LARGE($E12:$N12,4),0)+IFERROR(LARGE($E12:$N12,5),0) -> 99 | P12: =IF(COUNT(E12:N12)>5,5,COUNT(E12:N12)) -> 1 | Q12: =O12/P12 -> 99
B13: Ula Bronkowska | C13: WCOC | D13: W35 | E13: 99 | O13: =IFERROR(LARGE($E13:$N13,1),0)+IFERROR(LARGE($E13:$N13,2),0)+IFERROR(LARGE($E13:$N13,3),0)+IFERROR(LARGE($E13:$N13,4),0)+IFERROR(LARGE($E13:$N13,5),0) -> 99 | P13: =IF(COUNT(E13:N13)>5,5,COUNT(E13:N13)) -> 1 | Q13: =O13/P13 -> 99
B14: Richard Goodwin | C14: WCOC | D14: M65 | I14: 97 | O14: =IFERROR(LARGE($E14:$N14,1),0)+IFERROR(LARGE($E14:$N14,2),0)+IFERROR(LARGE($E14:$N14,3),0)+IFERROR(LARGE($E14:$N14,4),0)+IFERROR(LARGE($E14:$N14,5),0) -> 97 | P14: =IF(COUNT(E14:N14)>5,5,COUNT(E14:N14)) -> 1 | Q14: =O14/P14 -> 97

Sheet SG
B1: Short Green | E1: =Yellow!E2 -> Hawse End WCOC | F1: =Yellow!F2 -> Silver How LOC | G1: =Yellow!G2 -> Bea Tarn WCOC | H1: =Yellow!H2 -> Bampton Common BL | I1: =Yellow!I2 -> Troutal Fell LOC | J1: =Yellow!J2 -> 0 | K1: =Yellow!K2 -> 0 | L1: =Yellow!L2 -> 0 | ... N1: =Yellow!N2 -> 0 | O1: Galoppen Score | P1: Number of Counting Scores | Q1: Average of Counting Scores
B2: Name | C2: Club | D2: Age Class | O2: Galoppen Score
B3: Jenny Wren | C3: BL | D3: W75 | E3: 81 | F3: 83 | G3: 93 | I3: 90 | O3: =IFERROR(LARGE($E3:$N3,1),0)+IFERROR(LARGE($E3:$N3,2),0)+IFERROR(LARGE($E3:$N3,3),0)+IFERROR(LARGE($E3:$N3,4),0)+IFERROR(LARGE($E3:$N3,5),0) -> 347 | P3: =IF(COUNT(E3:N3)>5,5,COUNT(E3:N3)) -> 4 | Q3: =O3/P3 -> 86.75
B4: Joan Cumpstey | C4: BL | D4: W75 | E4: 80 | F4: 78 | H4: 77 | O4: =IFERROR(LARGE($E4:$N4,1),0)+IFERROR(LARGE($E4:$N4,2),0)+IFERROR(LARGE($E4:$N4,3),0)+IFERROR(LARGE($E4:$N4,4),0)+IFERROR(LARGE($E4:$N4,5),0) -> 235 | P4: =IF(COUNT(E4:N4)>5,5,COUNT(E4:N4)) -> 3 | Q4: =O4/P4 -> 78.333333
B5: Patricia Davies | C5: BL | D5: W70 | E5: 94 | F5: 95 | O5: =IFERROR(LARGE($E5:$N5,1),0)+IFERROR(LARGE($E5:$N5,2),0)+IFERROR(LARGE($E5:$N5,3),0)+IFERROR(LARGE($E5:$N5,4),0)+IFERROR(LARGE($E5:$N5,5),0) -> 189 | P5: =IF(COUNT(E5:N5)>5,5,COUNT(E5:N5)) -> 2 | Q5: =O5/P5 -> 94.5
B6: Chris Lates | C6: BL | D6: M85 | H6: 88 | O6: =IFERROR(LARGE($E6:$N6,1),0)+IFERROR(LARGE($E6:$N6,2),0)+IFERROR(LARGE($E6:$N6,3),0)+IFERROR(LARGE($E6:$N6,4),0)+IFERROR(LARGE($E6:$N6,5),0) -> 88 | P6: =IF(COUNT(E6:N6)>5,5,COUNT(E6:N6)) -> 1 | Q6: =O6/P6 -> 88
B7: Janice Nichols | C7: BL | D7: W65 | E7: 86 | O7: =IFERROR(LARGE($E7:$N7,1),0)+IFERROR(LARGE($E7:$N7,2),0)+IFERROR(LARGE($E7:$N7,3),0)+IFERROR(LARGE($E7:$N7,4),0)+IFERROR(LARGE($E7:$N7,5),0) -> 86 | P7: =IF(COUNT(E7:N7)>5,5,COUNT(E7:N7)) -> 1 | Q7: =O7/P7 -> 86
B8: Christine Kiddier | C8: BL | D8: W70 | H8: 82 | O8: =IFERROR(LARGE($E8:$N8,1),0)+IFERROR(LARGE($E8:$N8,2),0)+IFERROR(LARGE($E8:$N8,3),0)+IFERROR(LARGE($E8:$N8,4),0)+IFERROR(LARGE($E8:$N8,5),0) -> 82 | P8: =IF(COUNT(E8:N8)>5,5,COUNT(E8:N8)) -> 1 | Q8: =O8/P8 -> 82
B9: Sarah Hiscoke | C9: BL | D9: W65 | H9: 76 | O9: =IFERROR(LARGE($E9:$N9,1),0)+IFERROR(LARGE($E9:$N9,2),0)+IFERROR(LARGE($E9:$N9,3),0)+IFERROR(LARGE($E9:$N9,4),0)+IFERROR(LARGE($E9:$N9,5),0) -> 76 | P9: =IF(COUNT(E9:N9)>5,5,COUNT(E9:N9)) -> 1 | Q9: =O9/P9 -> 76
B10: David Lloyd | C10: LOC | D10: M75 | E10: 93 | F10: 91 | H10: 97 | I10: 98 | O10: =IFERROR(LARGE($E10:$N10,1),0)+IFERROR(LARGE($E10:$N10,2),0)+IFERROR(LARGE($E10:$N10,3),0)+IFERROR(LARGE($E10:$N10,4),0)+IFERROR(LARGE($E10:$N10,5),0) -> 379 | P10: =IF(COUNT(E10:N10)>5,5,COUNT(E10:N10)) -> 4 | Q10: =O10/P10 -> 94.75
B11: Steve Burge | C11: LOC | D11: M80 | F11: 82 | G11: 90 | H11: 87 | I11: 89 | O11: =IFERROR(LARGE($E11:$N11,1),0)+IFERROR(LARGE($E11:$N11,2),0)+IFERROR(LARGE($E11:$N11,3),0)+IFERROR(LARGE($E11:$N11,4),0)+IFERROR(LARGE($E11:$N11,5),0) -> 348 | P11: =IF(COUNT(E11:N11)>5,5,COUNT(E11:N11)) -> 4 | Q11: =O11/P11 -> 87
B12: Mary Adams | C12: LOC | D12: W65 | F12: 89 | G12: 95 | H12: 96 | O12: =IFERROR(LARGE($E12:$N12,1),0)+IFERROR(LARGE($E12:$N12,2),0)+IFERROR(LARGE($E12:$N12,3),0)+IFERROR(LARGE($E12:$N12,4),0)+IFERROR(LARGE($E12:$N12,5),0) -> 280 | P12: =IF(COUNT(E12:N12)>5,5,COUNT(E12:N12)) -> 3 | Q12: =O12/P12 -> 93.333333
B13: Alan Heppenstall | C13: LOC | D13: M80 | E13: 82 | F13: 80 | I13: 87 | O13: =IFERROR(LARGE($E13:$N13,1),0)+IFERROR(LARGE($E13:$N13,2),0)+IFERROR(LARGE($E13:$N13,3),0)+IFERROR(LARGE($E13:$N13,4),0)+IFERROR(LARGE($E13:$N13,5),0) -> 249 | P13: =IF(COUNT(E13:N13)>5,5,COUNT(E13:N13)) -> 3 | Q13: =O13/P13 -> 83
B14: Rebecca Rooke | C14: LOC | D14: W35 | F14: 99 | I14: 99 | O14: =IFERROR(LARGE($E14:$N14,1),0)+IFERROR(LARGE($E14:$N14,2),0)+IFERROR(LARGE($E14:$N14,3),0)+IFERROR(LARGE($E14:$N14,4),0)+IFERROR(LARGE($E14:$N14,5),0) -> 198 | P14: =IF(COUNT(E14:N14)>5,5,COUNT(E14:N14)) -> 2 | Q14: =O14/P14 -> 99
B15: Hannah Cleary-Hughes | C15: LOC | D15: W21 | G15: 99 | H15: 95 | O15: =IFERROR(LARGE($E15:$N15,1),0)+IFERROR(LARGE($E15:$N15,2),0)+IFERROR(LARGE($E15:$N15,3),0)+IFERROR(LARGE($E15:$N15,4),0)+IFERROR(LARGE($E15:$N15,5),0) -> 194 | P15: =IF(COUNT(E15:N15)>5,5,COUNT(E15:N15)) -> 2 | Q15: =O15/P15 -> 97
B16: Gill Browne | C16: LOC | D16: W70 | F16: 94 | H16: 99 | O16: =IFERROR(LARGE($E16:$N16,1),0)+IFERROR(LARGE($E16:$N16,2),0)+IFERROR(LARGE($E16:$N16,3),0)+IFERROR(LARGE($E16:$N16,4),0)+IFERROR(LARGE($E16:$N16,5),0) -> 193 | P16: =IF(COUNT(E16:N16)>5,5,COUNT(E16:N16)) -> 2 | Q16: =O16/P16 -> 96.5
B17: Janet Nash | C17: LOC | D17: W75 | G17: 97 | H17: 94 | O17: =IFERROR(LARGE($E17:$N17,1),0)+IFERROR(LARGE($E17:$N17,2),0)+IFERROR(LARGE($E17:$N17,3),0)+IFERROR(LARGE($E17:$N17,4),0)+IFERROR(LARGE($E17:$N17,5),0) -> 191 | P17: =IF(COUNT(E17:N17)>5,5,COUNT(E17:N17)) -> 2 | Q17: =O17/P17 -> 95.5
B18: Martin Powell | C18: LOC | D18: M75 | E18: 87 | F18: 90 | O18: =IFERROR(LARGE($E18:$N18,1),0)+IFERROR(LARGE($E18:$N18,2),0)+IFERROR(LARGE($E18:$N18,3),0)+IFERROR(LARGE($E18:$N18,4),0)+IFERROR(LARGE($E18:$N18,5),0) -> 177 | P18: =IF(COUNT(E18:N18)>5,5,COUNT(E18:N18)) -> 2 | Q18: =O18/P18 -> 88.5
B19: Steve Brockbank | C19: LOC | D19: M75 | F19: 84 | I19: 93 | O19: =IFERROR(LARGE($E19:$N19,1),0)+IFERROR(LARGE($E19:$N19,2),0)+IFERROR(LARGE($E19:$N19,3),0)+IFERROR(LARGE($E19:$N19,4),0)+IFERROR(LARGE($E19:$N19,5),0) -> 177 | P19: =IF(COUNT(E19:N19)>5,5,COUNT(E19:N19)) -> 2 | Q19: =O19/P19 -> 88.5
B20: Judith Filmore | C20: LOC | D20: W65 | F20: 87 | G20: 84 | O20: =IFERROR(LARGE($E20:$N20,1),0)+IFERROR(LARGE($E20:$N20,2),0)+IFERROR(LARGE($E20:$N20,3),0)+IFERROR(LARGE($E20:$N20,4),0)+IFERROR(LARGE($E20:$N20,5),0) -> 171 | P20: =IF(COUNT(E20:N20)>5,5,COUNT(E20:N20)) -> 2 | Q20: =O20/P20 -> 85.5
B21: Mike Atherton | C21: LOC | D21: M80 | F21: 81 | H21: 78 | O21: =IFERROR(LARGE($E21:$N21,1),0)+IFERROR(LARGE($E21:$N21,2),0)+IFERROR(LARGE($E21:$N21,3),0)+IFERROR(LARGE($E21:$N21,4),0)+IFERROR(LARGE($E21:$N21,5),0) -> 159 | P21: =IF(COUNT(E21:N21)>5,5,COUNT(E21:N21)) -> 2 | Q21: =O21/P21 -> 79.5
B22: Carol McNeill | C22: LOC | D22: W80 | G22: 98 | O22: =IFERROR(LARGE($E22:$N22,1),0)+IFERROR(LARGE($E22:$N22,2),0)+IFERROR(LARGE($E22:$N22,3),0)+IFERROR(LARGE($E22:$N22,4),0)+IFERROR(LARGE($E22:$N22,5),0) -> 98 | P22: =IF(COUNT(E22:N22)>5,5,COUNT(E22:N22)) -> 1 | Q22: =O22/P22 -> 98
B23: Catherine Taylor | C23: LOC | D23: W35 | F23: 98 | O23: =IFERROR(LARGE($E23:$N23,1),0)+IFERROR(LARGE($E23:$N23,2),0)+IFERROR(LARGE($E23:$N23,3),0)+IFERROR(LARGE($E23:$N23,4),0)+IFERROR(LARGE($E23:$N23,5),0) -> 98 | P23: =IF(COUNT(E23:N23)>5,5,COUNT(E23:N23)) -> 1 | Q23: =O23/P23 -> 98
B24: Judy Burge | C24: LOC | D24: W65 | I24: 97 | O24: =IFERROR(LARGE($E24:$N24,1),0)+IFERROR(LARGE($E24:$N24,2),0)+IFERROR(LARGE($E24:$N24,3),0)+IFERROR(LARGE($E24:$N24,4),0)+IFERROR(LARGE($E24:$N24,5),0) -> 97 | P24: =IF(COUNT(E24:N24)>5,5,COUNT(E24:N24)) -> 1 | Q24: =O24/P24 -> 97
B25: Richard Towler | C25: LOC | D25: M75 | F25: 97 | O25: =IFERROR(LARGE($E25:$N25,1),0)+IFERROR(LARGE($E25:$N25,2),0)+IFERROR(LARGE($E25:$N25,3),0)+IFERROR(LARGE($E25:$N25,4),0)+IFERROR(LARGE($E25:$N25,5),0) -> 97 | P25: =IF(COUNT(E25:N25)>5,5,COUNT(E25:N25)) -> 1 | Q25: =O25/P25 -> 97
B26: Jane Ligema | C26: LOC | D26: W60 | G26: 96 | O26: =IFERROR(LARGE($E26:$N26,1),0)+IFERROR(LARGE($E26:$N26,2),0)+IFERROR(LARGE($E26:$N26,3),0)+IFERROR(LARGE($E26:$N26,4),0)+IFERROR(LARGE($E26:$N26,5),0) -> 96 | P26: =IF(COUNT(E26:N26)>5,5,COUNT(E26:N26)) -> 1 | Q26: =O26/P26 -> 96
B27: Rowan Ranner | C27: LOC | D27: W45 | F27: 96 | O27: =IFERROR(LARGE($E27:$N27,1),0)+IFERROR(LARGE($E27:$N27,2),0)+IFERROR(LARGE($E27:$N27,3),0)+IFERROR(LARGE($E27:$N27,4),0)+IFERROR(LARGE($E27:$N27,5),0) -> 96 | P27: =IF(COUNT(E27:N27)>5,5,COUNT(E27:N27)) -> 1 | Q27: =O27/P27 -> 96
B28: Sandy Turner | C28: LOC | D28: W60 | I28: 95 | O28: =IFERROR(LARGE($E28:$N28,1),0)+IFERROR(LARGE($E28:$N28,2),0)+IFERROR(LARGE($E28:$N28,3),0)+IFERROR(LARGE($E28:$N28,4),0)+IFERROR(LARGE($E28:$N28,5),0) -> 95 | P28: =IF(COUNT(E28:N28)>5,5,COUNT(E28:N28)) -> 1 | Q28: =O28/P28 -> 95
B29: John Evans | C29: LOC | D29: M75 | I29: 94 | O29: =IFERROR(LARGE($E29:$N29,1),0)+IFERROR(LARGE($E29:$N29,2),0)+IFERROR(LARGE($E29:$N29,3),0)+IFERROR(LARGE($E29:$N29,4),0)+IFERROR(LARGE($E29:$N29,5),0) -> 94 | P29: =IF(COUNT(E29:N29)>5,5,COUNT(E29:N29)) -> 1 | Q29: =O29/P29 -> 94
B30: Cathy Hinkins | C30: LOC | D30: W40 | E30: 92 | O30: =IFERROR(LARGE($E30:$N30,1),0)+IFERROR(LARGE($E30:$N30,2),0)+IFERROR(LARGE($E30:$N30,3),0)+IFERROR(LARGE($E30:$N30,4),0)+IFERROR(LARGE($E30:$N30,5),0) -> 92 | P30: =IF(COUNT(E30:N30)>5,5,COUNT(E30:N30)) -> 1 | Q30: =O30/P30 -> 92
B31: John Nash | C31: LOC | D31: M75 | F31: 92 | O31: =IFERROR(LARGE($E31:$N31,1),0)+IFERROR(LARGE($E31:$N31,2),0)+IFERROR(LARGE($E31:$N31,3),0)+IFERROR(LARGE($E31:$N31,4),0)+IFERROR(LARGE($E31:$N31,5),0) -> 92 | P31: =IF(COUNT(E31:N31)>5,5,COUNT(E31:N31)) -> 1 | Q31: =O31/P31 -> 92
B32: Richard Browne | C32: LOC | D32: M70 | G32: 92 | O32: =IFERROR(LARGE($E32:$N32,1),0)+IFERROR(LARGE($E32:$N32,2),0)+IFERROR(LARGE($E32:$N32,3),0)+IFERROR(LARGE($E32:$N32,4),0)+IFERROR(LARGE($E32:$N32,5),0) -> 92 | P32: =IF(COUNT(E32:N32)>5,5,COUNT(E32:N32)) -> 1 | Q32: =O32/P32 -> 92
B33: Elizabeth Rocke | C33: LOC | D33: W70 | I33: 91 | O33: =IFERROR(LARGE($E33:$N33,1),0)+IFERROR(LARGE($E33:$N33,2),0)+IFERROR(LARGE($E33:$N33,3),0)+IFERROR(LARGE($E33:$N33,4),0)+IFERROR(LARGE($E33:$N33,5),0) -> 91 | P33: =IF(COUNT(E33:N33)>5,5,COUNT(E33:N33)) -> 1 | Q33: =O33/P33 -> 91
B34: Richard Tiley | C34: LOC | D34: M65 | H34: 89 | O34: =IFERROR(LARGE($E34:$N34,1),0)+IFERROR(LARGE($E34:$N34,2),0)+IFERROR(LARGE($E34:$N34,3),0)+IFERROR(LARGE($E34:$N34,4),0)+IFERROR(LARGE($E34:$N34,5),0) -> 89 | P34: =IF(COUNT(E34:N34)>5,5,COUNT(E34:N34)) -> 1 | Q34: =O34/P34 -> 89
B35: Alison Richards | C35: LOC | D35: W50 | F35: 86 | O35: =IFERROR(LARGE($E35:$N35,1),0)+IFERROR(LARGE($E35:$N35,2),0)+IFERROR(LARGE($E35:$N35,3),0)+IFERROR(LARGE($E35:$N35,4),0)+IFERROR(LARGE($E35:$N35,5),0) -> 86 | P35: =IF(COUNT(E35:N35)>5,5,COUNT(E35:N35)) -> 1 | Q35: =O35/P35 -> 86
